BEGIN:VCALENDAR
VERSION:2.0
PRODID:-//Hui Mālama Ola Nā ʻŌiwi - ECPv6.15.20//NONSGML v1.0//EN
CALSCALE:GREGORIAN
METHOD:PUBLISH
X-WR-CALNAME:Hui Mālama Ola Nā ʻŌiwi
X-ORIGINAL-URL:https://hmono.org
X-WR-CALDESC:Events for Hui Mālama Ola Nā ʻŌiwi
REFRESH-INTERVAL;VALUE=DURATION:PT1H
X-Robots-Tag:noindex
X-PUBLISHED-TTL:PT1H
BEGIN:VTIMEZONE
TZID:Pacific/Honolulu
BEGIN:STANDARD
TZOFFSETFROM:-1000
TZOFFSETTO:-1000
TZNAME:HST
DTSTART:20190101T000000
END:STANDARD
END:VTIMEZONE
BEGIN:VEVENT
DTSTART;TZID=Pacific/Honolulu:20200418T090000
DTEND;TZID=Pacific/Honolulu:20200418T113000
DTSTAMP:20260419T225517
CREATED:20230601T192941Z
LAST-MODIFIED:20230601T192941Z
UID:10000744-1587200400-1587209400@hmono.org
SUMMARY:Lomilomi Class Hilo POSTPONED
DESCRIPTION:All Hui Mālama Ola Nā ʻŌiwi classes\, workshops\, support groups\, and community events have been postponed until further notice. We are working diligently on providing creative virtual activities for you to connect with while you stay safe at home during this time. \nInterested in this service? Sign-up here and we will contact you.
URL:https://hmono.org/calendar/lomilomi-class-hilo-3/2020-04-18/
LOCATION:HMONO Hilo Office\, 1438 Kilauea Avenue\, Hilo\, HI\, 96720\, United States
CATEGORIES:Traditional Health
GEO:19.7076749;-155.0759854
X-APPLE-STRUCTURED-LOCATION;VALUE=URI;X-ADDRESS=HMONO Hilo Office 1438 Kilauea Avenue Hilo HI 96720 United States;X-APPLE-RADIUS=500;X-TITLE=1438 Kilauea Avenue:geo:-155.0759854,19.7076749
END:VEVENT
BEGIN:VEVENT
DTSTART;TZID=Pacific/Honolulu:20200418T090000
DTEND;TZID=Pacific/Honolulu:20200418T120000
DTSTAMP:20260419T225517
CREATED:20200211T014042Z
LAST-MODIFIED:20200401T013055Z
UID:10002596-1587200400-1587211200@hmono.org
SUMMARY:Hoʻoponopono Training Pāhoa POSTPONED
DESCRIPTION:All Hui Mālama Ola Nā ʻŌiwi classes\, workshops\, support groups\, and community events have been postponed until further notice. We are working diligently on providing creative virtual activities for you to connect with while you stay safe at home during this time. Interested in this service? Sign-up here and we will contact you.
URL:https://hmono.org/calendar/ho%ca%bboponopono-training-pahoa-900am/2020-04-18/
LOCATION:Pāhoa Community Center\, 15-3022 Kauhale Street\, Pāhoa\, HI\, 96778\, United States
CATEGORIES:Traditional Health
GEO:19.4927662;-154.9462713
X-APPLE-STRUCTURED-LOCATION;VALUE=URI;X-ADDRESS=Pāhoa Community Center 15-3022 Kauhale Street Pāhoa HI 96778 United States;X-APPLE-RADIUS=500;X-TITLE=15-3022 Kauhale Street:geo:-154.9462713,19.4927662
END:VEVENT
END:VCALENDAR