BEGIN:VCALENDAR
VERSION:2.0
PRODID:-//Hui Mālama Ola Nā ʻŌiwi - ECPv6.15.20//NONSGML v1.0//EN
CALSCALE:GREGORIAN
METHOD:PUBLISH
X-ORIGINAL-URL:https://hmono.org
X-WR-CALDESC:Events for Hui Mālama Ola Nā ʻŌiwi
REFRESH-INTERVAL;VALUE=DURATION:PT1H
X-Robots-Tag:noindex
X-PUBLISHED-TTL:PT1H
BEGIN:VTIMEZONE
TZID:Pacific/Honolulu
BEGIN:STANDARD
TZOFFSETFROM:-1000
TZOFFSETTO:-1000
TZNAME:HST
DTSTART:20190101T000000
END:STANDARD
END:VTIMEZONE
BEGIN:VEVENT
DTSTART;TZID=Pacific/Honolulu:20200421T130000
DTEND;TZID=Pacific/Honolulu:20200421T143000
DTSTAMP:20260420T102214
CREATED:20191112T210912Z
LAST-MODIFIED:20200401T014242Z
UID:10002114-1587474000-1587479400@hmono.org
SUMMARY:Diabetes Support Group Hilo POSTPONED
DESCRIPTION:All Hui Mālama Ola Nā ʻŌiwi classes\, workshops\, support groups\, and community events have been postponed until further notice. We are working diligently on providing creative virtual activities for you to connect with while you stay safe at home during this time. \nInterested in this service? Sign-up here and we will contact you.
URL:https://hmono.org/calendar/diabetes-support-group-hilo-530pm-13-2020-03-17/2020-04-21/
LOCATION:HMONO Hilo Office\, 1438 Kilauea Avenue\, Hilo\, HI\, 96720\, United States
CATEGORIES:Support Group
GEO:19.7076749;-155.0759854
X-APPLE-STRUCTURED-LOCATION;VALUE=URI;X-ADDRESS=HMONO Hilo Office 1438 Kilauea Avenue Hilo HI 96720 United States;X-APPLE-RADIUS=500;X-TITLE=1438 Kilauea Avenue:geo:-155.0759854,19.7076749
END:VEVENT
BEGIN:VEVENT
DTSTART;TZID=Pacific/Honolulu:20200421T170000
DTEND;TZID=Pacific/Honolulu:20200421T180000
DTSTAMP:20260420T102214
CREATED:20200421T003749Z
LAST-MODIFIED:20220119T004321Z
UID:10002363-1587488400-1587492000@hmono.org
SUMMARY:Basic Therapeutic Yoga (Online)
DESCRIPTION:Join us online for therapeutic yoga to get a gentle stretch and increase flexibility! Those with no computer access may call in via phone line. Visit hmono.org/services to sign up today for this online class!
URL:https://hmono.org/calendar/basic-therapeutic-yoga-online/2020-04-21/
CATEGORIES:Exercise,Yoga
END:VEVENT
END:VCALENDAR