BEGIN:VCALENDAR
VERSION:2.0
PRODID:-//Hui Mālama Ola Nā ʻŌiwi - ECPv6.15.20//NONSGML v1.0//EN
CALSCALE:GREGORIAN
METHOD:PUBLISH
X-WR-CALNAME:Hui Mālama Ola Nā ʻŌiwi
X-ORIGINAL-URL:https://hmono.org
X-WR-CALDESC:Events for Hui Mālama Ola Nā ʻŌiwi
REFRESH-INTERVAL;VALUE=DURATION:PT1H
X-Robots-Tag:noindex
X-PUBLISHED-TTL:PT1H
BEGIN:VTIMEZONE
TZID:Pacific/Honolulu
BEGIN:STANDARD
TZOFFSETFROM:-1000
TZOFFSETTO:-1000
TZNAME:HST
DTSTART:20190101T000000
END:STANDARD
END:VTIMEZONE
BEGIN:VEVENT
DTSTART;VALUE=DATE:20200721
DTEND;VALUE=DATE:20200722
DTSTAMP:20260420T125016
CREATED:20200706T234107Z
LAST-MODIFIED:20200707T000543Z
UID:10001079-1595289600-1595375999@hmono.org
SUMMARY:WilI i Lei Lanakila Nāʻālehu 11:00AM (Online)
DESCRIPTION:Join us for a virtual conversation about improving the health and well-being of your community! Sign-up HERE to attend this event!
URL:https://hmono.org/calendar/wili-i-lei-lanakila-naalehu-1100am-online/
END:VEVENT
BEGIN:VEVENT
DTSTART;VALUE=DATE:20200721
DTEND;VALUE=DATE:20200722
DTSTAMP:20260420T125016
CREATED:20200706T234259Z
LAST-MODIFIED:20200706T234417Z
UID:10001081-1595289600-1595375999@hmono.org
SUMMARY:WilI i Lei Lanakila North Hilo 3:00PM (Online)
DESCRIPTION:Join us for a virtual conversation about improving the health and well-being of your community! Sign-up HERE to attend this event!
URL:https://hmono.org/calendar/wili-i-lei-lanakila-north-hilo-300pm-online/
END:VEVENT
BEGIN:VEVENT
DTSTART;VALUE=DATE:20200721
DTEND;VALUE=DATE:20200722
DTSTAMP:20260420T125016
CREATED:20200706T234619Z
LAST-MODIFIED:20200706T234619Z
UID:10001083-1595289600-1595375999@hmono.org
SUMMARY:WilI i Lei Lanakila South Hilo 6:00PM (Online)
DESCRIPTION:Join us for a virtual conversation about improving the health and well-being of your community! Sign-up HERE to attend this event!
URL:https://hmono.org/calendar/wili-i-lei-lanakila-south-hilo-600pm-online/
END:VEVENT
BEGIN:VEVENT
DTSTART;TZID=Pacific/Honolulu:20200721T093000
DTEND;TZID=Pacific/Honolulu:20200721T103000
DTSTAMP:20260420T125016
CREATED:20200508T190848Z
LAST-MODIFIED:20220119T004634Z
UID:10000898-1595323800-1595327400@hmono.org
SUMMARY:Basic Stretch & Strengthening Exercise Class (Online)
DESCRIPTION:Join us in quick basic stretches that will strengthen your flexibility and muscles! Grab a chair\, water to stay hydrated\, and a stretch band if you have one! To sign-up visit hmono.org/services\, we hope to see you there!
URL:https://hmono.org/calendar/basic-stretch-and-exercise-class-online/2020-07-21/
CATEGORIES:BS&SEC,Exercise
END:VEVENT
BEGIN:VEVENT
DTSTART;TZID=Pacific/Honolulu:20200721T170000
DTEND;TZID=Pacific/Honolulu:20200721T180000
DTSTAMP:20260420T125016
CREATED:20200421T003749Z
LAST-MODIFIED:20220119T004321Z
UID:10002388-1595350800-1595354400@hmono.org
SUMMARY:Basic Therapeutic Yoga (Online)
DESCRIPTION:Join us online for therapeutic yoga to get a gentle stretch and increase flexibility! Those with no computer access may call in via phone line. Visit hmono.org/services to sign up today for this online class!
URL:https://hmono.org/calendar/basic-therapeutic-yoga-online/2020-07-21/
CATEGORIES:Exercise,Yoga
END:VEVENT
END:VCALENDAR