BEGIN:VCALENDAR
VERSION:2.0
PRODID:-//Hui Mālama Ola Nā ʻŌiwi - ECPv6.15.20//NONSGML v1.0//EN
CALSCALE:GREGORIAN
METHOD:PUBLISH
X-ORIGINAL-URL:https://hmono.org
X-WR-CALDESC:Events for Hui Mālama Ola Nā ʻŌiwi
REFRESH-INTERVAL;VALUE=DURATION:PT1H
X-Robots-Tag:noindex
X-PUBLISHED-TTL:PT1H
BEGIN:VTIMEZONE
TZID:Pacific/Honolulu
BEGIN:STANDARD
TZOFFSETFROM:-1000
TZOFFSETTO:-1000
TZNAME:HST
DTSTART:20190101T000000
END:STANDARD
END:VTIMEZONE
BEGIN:VEVENT
DTSTART;TZID=Pacific/Honolulu:20201012T080000
DTEND;TZID=Pacific/Honolulu:20201012T170000
DTSTAMP:20260425T033519
CREATED:20200923T002219Z
LAST-MODIFIED:20200923T002219Z
UID:10001095-1602489600-1602522000@hmono.org
SUMMARY:OFFICE CLOSED
DESCRIPTION:Our offices are closed on Monday\, October 12 in observance of the public holiday. Our services will continue as scheduled on Tuesday\, October 13.
URL:https://hmono.org/calendar/office-closed-26/
CATEGORIES:Closed
END:VEVENT
END:VCALENDAR