BEGIN:VCALENDAR
VERSION:2.0
PRODID:-//Hui Mālama Ola Nā ʻŌiwi - ECPv6.15.20//NONSGML v1.0//EN
CALSCALE:GREGORIAN
METHOD:PUBLISH
X-WR-CALNAME:Hui Mālama Ola Nā ʻŌiwi
X-ORIGINAL-URL:https://hmono.org
X-WR-CALDESC:Events for Hui Mālama Ola Nā ʻŌiwi
REFRESH-INTERVAL;VALUE=DURATION:PT1H
X-Robots-Tag:noindex
X-PUBLISHED-TTL:PT1H
BEGIN:VTIMEZONE
TZID:Pacific/Honolulu
BEGIN:STANDARD
TZOFFSETFROM:-1000
TZOFFSETTO:-1000
TZNAME:HST
DTSTART:20190101T000000
END:STANDARD
END:VTIMEZONE
BEGIN:VEVENT
DTSTART;TZID=Pacific/Honolulu:20201204T170000
DTEND;TZID=Pacific/Honolulu:20201204T193000
DTSTAMP:20260420T032541
CREATED:20201124T012805Z
LAST-MODIFIED:20201124T012805Z
UID:10001119-1607101200-1607110200@hmono.org
SUMMARY:Lomilomi Class (online)
DESCRIPTION:Interested in learning about the traditional Hawaiian healing art of Lomilomi massage? Sign up for this four-day class facilitated by Lomilomi practitioner and Licensed Massage Therapist Lehua Hobbs at hmono.org/services.
URL:https://hmono.org/calendar/lomilomi-class-online-3/2020-12-04/
CATEGORIES:Traditional Health
END:VEVENT
END:VCALENDAR