BEGIN:VCALENDAR
VERSION:2.0
PRODID:-//Hui Mālama Ola Nā ʻŌiwi - ECPv6.15.20//NONSGML v1.0//EN
CALSCALE:GREGORIAN
METHOD:PUBLISH
X-ORIGINAL-URL:https://hmono.org
X-WR-CALDESC:Events for Hui Mālama Ola Nā ʻŌiwi
REFRESH-INTERVAL;VALUE=DURATION:PT1H
X-Robots-Tag:noindex
X-PUBLISHED-TTL:PT1H
BEGIN:VTIMEZONE
TZID:Pacific/Honolulu
BEGIN:STANDARD
TZOFFSETFROM:-1000
TZOFFSETTO:-1000
TZNAME:HST
DTSTART:20200101T000000
END:STANDARD
END:VTIMEZONE
BEGIN:VEVENT
DTSTART;TZID=Pacific/Honolulu:20210705T080000
DTEND;TZID=Pacific/Honolulu:20210705T170000
DTSTAMP:20260419T160434
CREATED:20210527T221115Z
LAST-MODIFIED:20210527T221115Z
UID:10002824-1625472000-1625504400@hmono.org
SUMMARY:OFFICE CLOSED
DESCRIPTION:Our offices will be closed on Monday\, July 5 in observance of the holiday. Services will resume as scheduled on Tuesday\, July 6. We appreciate your patience. You can sign up for our services at any time at hmono.org/services or call us during regular business hours at (808) 969-9220.
URL:https://hmono.org/calendar/office-closed-36/
LOCATION:Virtual
CATEGORIES:Closed
END:VEVENT
END:VCALENDAR