BEGIN:VCALENDAR
VERSION:2.0
PRODID:-//Hui Mālama Ola Nā ʻŌiwi - ECPv6.15.20//NONSGML v1.0//EN
CALSCALE:GREGORIAN
METHOD:PUBLISH
X-WR-CALNAME:Hui Mālama Ola Nā ʻŌiwi
X-ORIGINAL-URL:https://hmono.org
X-WR-CALDESC:Events for Hui Mālama Ola Nā ʻŌiwi
REFRESH-INTERVAL;VALUE=DURATION:PT1H
X-Robots-Tag:noindex
X-PUBLISHED-TTL:PT1H
BEGIN:VTIMEZONE
TZID:Pacific/Honolulu
BEGIN:STANDARD
TZOFFSETFROM:-1000
TZOFFSETTO:-1000
TZNAME:HST
DTSTART:20210101T000000
END:STANDARD
END:VTIMEZONE
BEGIN:VEVENT
DTSTART;TZID=Pacific/Honolulu:20220718T163000
DTEND;TZID=Pacific/Honolulu:20220718T193000
DTSTAMP:20260425T100538
CREATED:20220430T011218Z
LAST-MODIFIED:20220430T011218Z
UID:10001390-1658161800-1658172600@hmono.org
SUMMARY:Laʻau Lapaʻau - Level 2
DESCRIPTION:Learn more about the traditional Hawaiian healing art of Laʻau Lapaʻau in this online workshop facilitated by Poʻokela Ikaika Dombrigues. Sign up at hmono.org/services.
URL:https://hmono.org/calendar/la%ca%bbau-lapa%ca%bbau-level-2/2022-07-18/
CATEGORIES:Traditional Health,Workshop
END:VEVENT
BEGIN:VEVENT
DTSTART;TZID=Pacific/Honolulu:20220718T170000
DTEND;TZID=Pacific/Honolulu:20220718T183000
DTSTAMP:20260425T100538
CREATED:20220426T020404Z
LAST-MODIFIED:20220426T020404Z
UID:10003054-1658163600-1658169000@hmono.org
SUMMARY:Cultural Wellness Support Group (online)
DESCRIPTION:Join us for our online wellness class that focuses on cultural practices\, crafts and conversations. Those with no computer access may call in via phone line. Visit hmono.org/services/ to sign-up!
URL:https://hmono.org/calendar/cultural-wellness-support-group-online-4/2022-07-18/
CATEGORIES:Cultural Wellness,Support Group
END:VEVENT
END:VCALENDAR