BEGIN:VCALENDAR
VERSION:2.0
PRODID:-//Hui Mālama Ola Nā ʻŌiwi - ECPv6.15.20//NONSGML v1.0//EN
CALSCALE:GREGORIAN
METHOD:PUBLISH
X-ORIGINAL-URL:https://hmono.org
X-WR-CALDESC:Events for Hui Mālama Ola Nā ʻŌiwi
REFRESH-INTERVAL;VALUE=DURATION:PT1H
X-Robots-Tag:noindex
X-PUBLISHED-TTL:PT1H
BEGIN:VTIMEZONE
TZID:Pacific/Honolulu
BEGIN:STANDARD
TZOFFSETFROM:-1000
TZOFFSETTO:-1000
TZNAME:HST
DTSTART:20280101T000000
END:STANDARD
END:VTIMEZONE
BEGIN:VEVENT
DTSTART;TZID=Pacific/Honolulu:20290403T090000
DTEND;TZID=Pacific/Honolulu:20290403T100000
DTSTAMP:20260420T054919
CREATED:20241013T034322Z
LAST-MODIFIED:20241013T034706Z
UID:10007194-1869901200-1869904800@hmono.org
SUMMARY:Basic Stretch & Strengthening (online)
DESCRIPTION:Join us in quick basic stretches that will strengthen your flexibility and muscles! Grab a chair\, water to stay hydrated\, and a stretch band if you have one! To sign-up visit hmono.org/services\, we hope to see you there!
URL:https://hmono.org/calendar/basic-stretch-strengthening-online/2029-04-03/
CATEGORIES:BS&SEC,Exercise
END:VEVENT
BEGIN:VEVENT
DTSTART;TZID=Pacific/Honolulu:20290405T090000
DTEND;TZID=Pacific/Honolulu:20290405T100000
DTSTAMP:20260420T054919
CREATED:20241013T034322Z
LAST-MODIFIED:20241013T034706Z
UID:10007452-1870074000-1870077600@hmono.org
SUMMARY:Basic Stretch & Strengthening (online)
DESCRIPTION:Join us in quick basic stretches that will strengthen your flexibility and muscles! Grab a chair\, water to stay hydrated\, and a stretch band if you have one! To sign-up visit hmono.org/services\, we hope to see you there!
URL:https://hmono.org/calendar/basic-stretch-strengthening-online/2029-04-05/
CATEGORIES:BS&SEC,Exercise
END:VEVENT
BEGIN:VEVENT
DTSTART;TZID=Pacific/Honolulu:20290410T090000
DTEND;TZID=Pacific/Honolulu:20290410T100000
DTSTAMP:20260420T054919
CREATED:20241013T034322Z
LAST-MODIFIED:20241013T034706Z
UID:10007195-1870506000-1870509600@hmono.org
SUMMARY:Basic Stretch & Strengthening (online)
DESCRIPTION:Join us in quick basic stretches that will strengthen your flexibility and muscles! Grab a chair\, water to stay hydrated\, and a stretch band if you have one! To sign-up visit hmono.org/services\, we hope to see you there!
URL:https://hmono.org/calendar/basic-stretch-strengthening-online/2029-04-10/
CATEGORIES:BS&SEC,Exercise
END:VEVENT
BEGIN:VEVENT
DTSTART;TZID=Pacific/Honolulu:20290412T090000
DTEND;TZID=Pacific/Honolulu:20290412T100000
DTSTAMP:20260420T054919
CREATED:20241013T034322Z
LAST-MODIFIED:20241013T034706Z
UID:10007453-1870678800-1870682400@hmono.org
SUMMARY:Basic Stretch & Strengthening (online)
DESCRIPTION:Join us in quick basic stretches that will strengthen your flexibility and muscles! Grab a chair\, water to stay hydrated\, and a stretch band if you have one! To sign-up visit hmono.org/services\, we hope to see you there!
URL:https://hmono.org/calendar/basic-stretch-strengthening-online/2029-04-12/
CATEGORIES:BS&SEC,Exercise
END:VEVENT
BEGIN:VEVENT
DTSTART;TZID=Pacific/Honolulu:20290417T090000
DTEND;TZID=Pacific/Honolulu:20290417T100000
DTSTAMP:20260420T054919
CREATED:20241013T034322Z
LAST-MODIFIED:20241013T034706Z
UID:10007196-1871110800-1871114400@hmono.org
SUMMARY:Basic Stretch & Strengthening (online)
DESCRIPTION:Join us in quick basic stretches that will strengthen your flexibility and muscles! Grab a chair\, water to stay hydrated\, and a stretch band if you have one! To sign-up visit hmono.org/services\, we hope to see you there!
URL:https://hmono.org/calendar/basic-stretch-strengthening-online/2029-04-17/
CATEGORIES:BS&SEC,Exercise
END:VEVENT
BEGIN:VEVENT
DTSTART;TZID=Pacific/Honolulu:20290419T090000
DTEND;TZID=Pacific/Honolulu:20290419T100000
DTSTAMP:20260420T054919
CREATED:20241013T034322Z
LAST-MODIFIED:20241013T034706Z
UID:10007454-1871283600-1871287200@hmono.org
SUMMARY:Basic Stretch & Strengthening (online)
DESCRIPTION:Join us in quick basic stretches that will strengthen your flexibility and muscles! Grab a chair\, water to stay hydrated\, and a stretch band if you have one! To sign-up visit hmono.org/services\, we hope to see you there!
URL:https://hmono.org/calendar/basic-stretch-strengthening-online/2029-04-19/
CATEGORIES:BS&SEC,Exercise
END:VEVENT
BEGIN:VEVENT
DTSTART;TZID=Pacific/Honolulu:20290424T090000
DTEND;TZID=Pacific/Honolulu:20290424T100000
DTSTAMP:20260420T054919
CREATED:20241013T034322Z
LAST-MODIFIED:20241013T034706Z
UID:10007197-1871715600-1871719200@hmono.org
SUMMARY:Basic Stretch & Strengthening (online)
DESCRIPTION:Join us in quick basic stretches that will strengthen your flexibility and muscles! Grab a chair\, water to stay hydrated\, and a stretch band if you have one! To sign-up visit hmono.org/services\, we hope to see you there!
URL:https://hmono.org/calendar/basic-stretch-strengthening-online/2029-04-24/
CATEGORIES:BS&SEC,Exercise
END:VEVENT
BEGIN:VEVENT
DTSTART;TZID=Pacific/Honolulu:20290426T090000
DTEND;TZID=Pacific/Honolulu:20290426T100000
DTSTAMP:20260420T054919
CREATED:20241013T034322Z
LAST-MODIFIED:20241013T034706Z
UID:10007455-1871888400-1871892000@hmono.org
SUMMARY:Basic Stretch & Strengthening (online)
DESCRIPTION:Join us in quick basic stretches that will strengthen your flexibility and muscles! Grab a chair\, water to stay hydrated\, and a stretch band if you have one! To sign-up visit hmono.org/services\, we hope to see you there!
URL:https://hmono.org/calendar/basic-stretch-strengthening-online/2029-04-26/
CATEGORIES:BS&SEC,Exercise
END:VEVENT
END:VCALENDAR