BEGIN:VCALENDAR
VERSION:2.0
PRODID:-//Hui Mālama Ola Nā ʻŌiwi - ECPv6.15.20//NONSGML v1.0//EN
CALSCALE:GREGORIAN
METHOD:PUBLISH
X-WR-CALNAME:Hui Mālama Ola Nā ʻŌiwi
X-ORIGINAL-URL:https://hmono.org
X-WR-CALDESC:Events for Hui Mālama Ola Nā ʻŌiwi
REFRESH-INTERVAL;VALUE=DURATION:PT1H
X-Robots-Tag:noindex
X-PUBLISHED-TTL:PT1H
BEGIN:VTIMEZONE
TZID:Pacific/Honolulu
BEGIN:STANDARD
TZOFFSETFROM:-1000
TZOFFSETTO:-1000
TZNAME:HST
DTSTART:20190101T000000
END:STANDARD
END:VTIMEZONE
BEGIN:VEVENT
DTSTART;TZID=Pacific/Honolulu:20200107T103000
DTEND;TZID=Pacific/Honolulu:20200107T113000
DTSTAMP:20260422T114708
CREATED:20191204T000611Z
LAST-MODIFIED:20191204T000611Z
UID:10000685-1578393000-1578396600@hmono.org
SUMMARY:BS&SEC Keaukaha 10:30am
DESCRIPTION:Join us for Basic Stretch & Strengthening Exercise Class (BS&SEC) in Keaukaha! This class has varied levels and is open to all ages and abilities. Call (808) 969-9220 for more info.
URL:https://hmono.org/calendar/bssec-keaukaha-1030am-61/2020-01-07/
LOCATION:Malia Puka O Kalani Church Gym\, 326 Desha Ave\, Hilo\, HI 96720\, Hilo\, United States
CATEGORIES:BS&SEC,Exercise
GEO:19.7296034;-155.0427974
X-APPLE-STRUCTURED-LOCATION;VALUE=URI;X-ADDRESS=Malia Puka O Kalani Church Gym 326 Desha Ave Hilo HI 96720 Hilo United States;X-APPLE-RADIUS=500;X-TITLE=326 Desha Ave\, Hilo\, HI 96720:geo:-155.0427974,19.7296034
END:VEVENT
BEGIN:VEVENT
DTSTART;TZID=Pacific/Honolulu:20200108T093000
DTEND;TZID=Pacific/Honolulu:20200108T103000
DTSTAMP:20260422T114708
CREATED:20191214T013946Z
LAST-MODIFIED:20191214T013946Z
UID:10002351-1578475800-1578479400@hmono.org
SUMMARY:BS&SEC Nāʻālehu 9:30am
DESCRIPTION:Join us for Basic Stretch & Strengthening Exercise Class (BS&SEC) in Nāʻālehu! This class has varied levels and is open to all ages and abilities. Call (808) 969-9220 for more info.
URL:https://hmono.org/calendar/bssec-na%ca%bbalehu-930am-5/2020-01-08/
LOCATION:Nāʻālehu Community Center\, 95-5635 Mamalahoa Hwy\, Nāʻālehu\, HI\, 96772\, United States
CATEGORIES:BS&SEC,Exercise
GEO:19.0602215;-155.5853052
X-APPLE-STRUCTURED-LOCATION;VALUE=URI;X-ADDRESS=Nāʻālehu Community Center 95-5635 Mamalahoa Hwy Nāʻālehu HI 96772 United States;X-APPLE-RADIUS=500;X-TITLE=95-5635 Mamalahoa Hwy:geo:-155.5853052,19.0602215
END:VEVENT
BEGIN:VEVENT
DTSTART;TZID=Pacific/Honolulu:20200109T093000
DTEND;TZID=Pacific/Honolulu:20200109T103000
DTSTAMP:20260422T114708
CREATED:20191214T014127Z
LAST-MODIFIED:20191214T014135Z
UID:10002358-1578562200-1578565800@hmono.org
SUMMARY:BS&SEC Pāhala 9:30am
DESCRIPTION:Join us for Basic Stretch & Strengthening Exercise Class (BS&SEC) in Pāhala! This class has varied levels and is open to all ages and abilities. Call (808) 969-9220 for more info.
URL:https://hmono.org/calendar/bssec-pahala-930am-5/2020-01-09/
LOCATION:Pahala Community Center\, 1149\, 96 Kamani St.\, Pahala\, HI\, 96777\, United States
CATEGORIES:BS&SEC,Exercise
GEO:19.2010779;-155.4736457
X-APPLE-STRUCTURED-LOCATION;VALUE=URI;X-ADDRESS=Pahala Community Center 1149 96 Kamani St. Pahala HI 96777 United States;X-APPLE-RADIUS=500;X-TITLE=1149\, 96 Kamani St.:geo:-155.4736457,19.2010779
END:VEVENT
BEGIN:VEVENT
DTSTART;TZID=Pacific/Honolulu:20200109T103000
DTEND;TZID=Pacific/Honolulu:20200109T113000
DTSTAMP:20260422T114708
CREATED:20191204T000611Z
LAST-MODIFIED:20191204T000611Z
UID:10000686-1578565800-1578569400@hmono.org
SUMMARY:BS&SEC Keaukaha 10:30am
DESCRIPTION:Join us for Basic Stretch & Strengthening Exercise Class (BS&SEC) in Keaukaha! This class has varied levels and is open to all ages and abilities. Call (808) 969-9220 for more info.
URL:https://hmono.org/calendar/bssec-keaukaha-1030am-61/2020-01-09/
LOCATION:Malia Puka O Kalani Church Gym\, 326 Desha Ave\, Hilo\, HI 96720\, Hilo\, United States
CATEGORIES:BS&SEC,Exercise
GEO:19.7296034;-155.0427974
X-APPLE-STRUCTURED-LOCATION;VALUE=URI;X-ADDRESS=Malia Puka O Kalani Church Gym 326 Desha Ave Hilo HI 96720 Hilo United States;X-APPLE-RADIUS=500;X-TITLE=326 Desha Ave\, Hilo\, HI 96720:geo:-155.0427974,19.7296034
END:VEVENT
BEGIN:VEVENT
DTSTART;TZID=Pacific/Honolulu:20200114T103000
DTEND;TZID=Pacific/Honolulu:20200114T113000
DTSTAMP:20260422T114708
CREATED:20191204T000611Z
LAST-MODIFIED:20191204T000611Z
UID:10000687-1578997800-1579001400@hmono.org
SUMMARY:BS&SEC Keaukaha 10:30am
DESCRIPTION:Join us for Basic Stretch & Strengthening Exercise Class (BS&SEC) in Keaukaha! This class has varied levels and is open to all ages and abilities. Call (808) 969-9220 for more info.
URL:https://hmono.org/calendar/bssec-keaukaha-1030am-61/2020-01-14/
LOCATION:Malia Puka O Kalani Church Gym\, 326 Desha Ave\, Hilo\, HI 96720\, Hilo\, United States
CATEGORIES:BS&SEC,Exercise
GEO:19.7296034;-155.0427974
X-APPLE-STRUCTURED-LOCATION;VALUE=URI;X-ADDRESS=Malia Puka O Kalani Church Gym 326 Desha Ave Hilo HI 96720 Hilo United States;X-APPLE-RADIUS=500;X-TITLE=326 Desha Ave\, Hilo\, HI 96720:geo:-155.0427974,19.7296034
END:VEVENT
BEGIN:VEVENT
DTSTART;TZID=Pacific/Honolulu:20200115T093000
DTEND;TZID=Pacific/Honolulu:20200115T103000
DTSTAMP:20260422T114708
CREATED:20191214T013946Z
LAST-MODIFIED:20191214T013946Z
UID:10002352-1579080600-1579084200@hmono.org
SUMMARY:BS&SEC Nāʻālehu 9:30am
DESCRIPTION:Join us for Basic Stretch & Strengthening Exercise Class (BS&SEC) in Nāʻālehu! This class has varied levels and is open to all ages and abilities. Call (808) 969-9220 for more info.
URL:https://hmono.org/calendar/bssec-na%ca%bbalehu-930am-5/2020-01-15/
LOCATION:Nāʻālehu Community Center\, 95-5635 Mamalahoa Hwy\, Nāʻālehu\, HI\, 96772\, United States
CATEGORIES:BS&SEC,Exercise
GEO:19.0602215;-155.5853052
X-APPLE-STRUCTURED-LOCATION;VALUE=URI;X-ADDRESS=Nāʻālehu Community Center 95-5635 Mamalahoa Hwy Nāʻālehu HI 96772 United States;X-APPLE-RADIUS=500;X-TITLE=95-5635 Mamalahoa Hwy:geo:-155.5853052,19.0602215
END:VEVENT
BEGIN:VEVENT
DTSTART;TZID=Pacific/Honolulu:20200116T093000
DTEND;TZID=Pacific/Honolulu:20200116T103000
DTSTAMP:20260422T114708
CREATED:20191214T014127Z
LAST-MODIFIED:20191214T014135Z
UID:10002359-1579167000-1579170600@hmono.org
SUMMARY:BS&SEC Pāhala 9:30am
DESCRIPTION:Join us for Basic Stretch & Strengthening Exercise Class (BS&SEC) in Pāhala! This class has varied levels and is open to all ages and abilities. Call (808) 969-9220 for more info.
URL:https://hmono.org/calendar/bssec-pahala-930am-5/2020-01-16/
LOCATION:Pahala Community Center\, 1149\, 96 Kamani St.\, Pahala\, HI\, 96777\, United States
CATEGORIES:BS&SEC,Exercise
GEO:19.2010779;-155.4736457
X-APPLE-STRUCTURED-LOCATION;VALUE=URI;X-ADDRESS=Pahala Community Center 1149 96 Kamani St. Pahala HI 96777 United States;X-APPLE-RADIUS=500;X-TITLE=1149\, 96 Kamani St.:geo:-155.4736457,19.2010779
END:VEVENT
BEGIN:VEVENT
DTSTART;TZID=Pacific/Honolulu:20200116T103000
DTEND;TZID=Pacific/Honolulu:20200116T113000
DTSTAMP:20260422T114708
CREATED:20191204T000611Z
LAST-MODIFIED:20191204T000611Z
UID:10000688-1579170600-1579174200@hmono.org
SUMMARY:BS&SEC Keaukaha 10:30am
DESCRIPTION:Join us for Basic Stretch & Strengthening Exercise Class (BS&SEC) in Keaukaha! This class has varied levels and is open to all ages and abilities. Call (808) 969-9220 for more info.
URL:https://hmono.org/calendar/bssec-keaukaha-1030am-61/2020-01-16/
LOCATION:Malia Puka O Kalani Church Gym\, 326 Desha Ave\, Hilo\, HI 96720\, Hilo\, United States
CATEGORIES:BS&SEC,Exercise
GEO:19.7296034;-155.0427974
X-APPLE-STRUCTURED-LOCATION;VALUE=URI;X-ADDRESS=Malia Puka O Kalani Church Gym 326 Desha Ave Hilo HI 96720 Hilo United States;X-APPLE-RADIUS=500;X-TITLE=326 Desha Ave\, Hilo\, HI 96720:geo:-155.0427974,19.7296034
END:VEVENT
BEGIN:VEVENT
DTSTART;TZID=Pacific/Honolulu:20200121T103000
DTEND;TZID=Pacific/Honolulu:20200121T113000
DTSTAMP:20260422T114708
CREATED:20191204T000611Z
LAST-MODIFIED:20191204T000611Z
UID:10000689-1579602600-1579606200@hmono.org
SUMMARY:BS&SEC Keaukaha 10:30am
DESCRIPTION:Join us for Basic Stretch & Strengthening Exercise Class (BS&SEC) in Keaukaha! This class has varied levels and is open to all ages and abilities. Call (808) 969-9220 for more info.
URL:https://hmono.org/calendar/bssec-keaukaha-1030am-61/2020-01-21/
LOCATION:Malia Puka O Kalani Church Gym\, 326 Desha Ave\, Hilo\, HI 96720\, Hilo\, United States
CATEGORIES:BS&SEC,Exercise
GEO:19.7296034;-155.0427974
X-APPLE-STRUCTURED-LOCATION;VALUE=URI;X-ADDRESS=Malia Puka O Kalani Church Gym 326 Desha Ave Hilo HI 96720 Hilo United States;X-APPLE-RADIUS=500;X-TITLE=326 Desha Ave\, Hilo\, HI 96720:geo:-155.0427974,19.7296034
END:VEVENT
BEGIN:VEVENT
DTSTART;TZID=Pacific/Honolulu:20200122T093000
DTEND;TZID=Pacific/Honolulu:20200122T103000
DTSTAMP:20260422T114708
CREATED:20191214T013946Z
LAST-MODIFIED:20191214T013946Z
UID:10002353-1579685400-1579689000@hmono.org
SUMMARY:BS&SEC Nāʻālehu 9:30am
DESCRIPTION:Join us for Basic Stretch & Strengthening Exercise Class (BS&SEC) in Nāʻālehu! This class has varied levels and is open to all ages and abilities. Call (808) 969-9220 for more info.
URL:https://hmono.org/calendar/bssec-na%ca%bbalehu-930am-5/2020-01-22/
LOCATION:Nāʻālehu Community Center\, 95-5635 Mamalahoa Hwy\, Nāʻālehu\, HI\, 96772\, United States
CATEGORIES:BS&SEC,Exercise
GEO:19.0602215;-155.5853052
X-APPLE-STRUCTURED-LOCATION;VALUE=URI;X-ADDRESS=Nāʻālehu Community Center 95-5635 Mamalahoa Hwy Nāʻālehu HI 96772 United States;X-APPLE-RADIUS=500;X-TITLE=95-5635 Mamalahoa Hwy:geo:-155.5853052,19.0602215
END:VEVENT
BEGIN:VEVENT
DTSTART;TZID=Pacific/Honolulu:20200123T093000
DTEND;TZID=Pacific/Honolulu:20200123T103000
DTSTAMP:20260422T114708
CREATED:20191214T014127Z
LAST-MODIFIED:20191214T014135Z
UID:10002360-1579771800-1579775400@hmono.org
SUMMARY:BS&SEC Pāhala 9:30am
DESCRIPTION:Join us for Basic Stretch & Strengthening Exercise Class (BS&SEC) in Pāhala! This class has varied levels and is open to all ages and abilities. Call (808) 969-9220 for more info.
URL:https://hmono.org/calendar/bssec-pahala-930am-5/2020-01-23/
LOCATION:Pahala Community Center\, 1149\, 96 Kamani St.\, Pahala\, HI\, 96777\, United States
CATEGORIES:BS&SEC,Exercise
GEO:19.2010779;-155.4736457
X-APPLE-STRUCTURED-LOCATION;VALUE=URI;X-ADDRESS=Pahala Community Center 1149 96 Kamani St. Pahala HI 96777 United States;X-APPLE-RADIUS=500;X-TITLE=1149\, 96 Kamani St.:geo:-155.4736457,19.2010779
END:VEVENT
BEGIN:VEVENT
DTSTART;TZID=Pacific/Honolulu:20200123T103000
DTEND;TZID=Pacific/Honolulu:20200123T113000
DTSTAMP:20260422T114708
CREATED:20191204T000611Z
LAST-MODIFIED:20191204T000611Z
UID:10000690-1579775400-1579779000@hmono.org
SUMMARY:BS&SEC Keaukaha 10:30am
DESCRIPTION:Join us for Basic Stretch & Strengthening Exercise Class (BS&SEC) in Keaukaha! This class has varied levels and is open to all ages and abilities. Call (808) 969-9220 for more info.
URL:https://hmono.org/calendar/bssec-keaukaha-1030am-61/2020-01-23/
LOCATION:Malia Puka O Kalani Church Gym\, 326 Desha Ave\, Hilo\, HI 96720\, Hilo\, United States
CATEGORIES:BS&SEC,Exercise
GEO:19.7296034;-155.0427974
X-APPLE-STRUCTURED-LOCATION;VALUE=URI;X-ADDRESS=Malia Puka O Kalani Church Gym 326 Desha Ave Hilo HI 96720 Hilo United States;X-APPLE-RADIUS=500;X-TITLE=326 Desha Ave\, Hilo\, HI 96720:geo:-155.0427974,19.7296034
END:VEVENT
BEGIN:VEVENT
DTSTART;TZID=Pacific/Honolulu:20200128T103000
DTEND;TZID=Pacific/Honolulu:20200128T113000
DTSTAMP:20260422T114708
CREATED:20191204T000611Z
LAST-MODIFIED:20191204T000611Z
UID:10000691-1580207400-1580211000@hmono.org
SUMMARY:BS&SEC Keaukaha 10:30am
DESCRIPTION:Join us for Basic Stretch & Strengthening Exercise Class (BS&SEC) in Keaukaha! This class has varied levels and is open to all ages and abilities. Call (808) 969-9220 for more info.
URL:https://hmono.org/calendar/bssec-keaukaha-1030am-61/2020-01-28/
LOCATION:Malia Puka O Kalani Church Gym\, 326 Desha Ave\, Hilo\, HI 96720\, Hilo\, United States
CATEGORIES:BS&SEC,Exercise
GEO:19.7296034;-155.0427974
X-APPLE-STRUCTURED-LOCATION;VALUE=URI;X-ADDRESS=Malia Puka O Kalani Church Gym 326 Desha Ave Hilo HI 96720 Hilo United States;X-APPLE-RADIUS=500;X-TITLE=326 Desha Ave\, Hilo\, HI 96720:geo:-155.0427974,19.7296034
END:VEVENT
BEGIN:VEVENT
DTSTART;TZID=Pacific/Honolulu:20200129T093000
DTEND;TZID=Pacific/Honolulu:20200129T103000
DTSTAMP:20260422T114708
CREATED:20191214T013946Z
LAST-MODIFIED:20191214T013946Z
UID:10002354-1580290200-1580293800@hmono.org
SUMMARY:BS&SEC Nāʻālehu 9:30am
DESCRIPTION:Join us for Basic Stretch & Strengthening Exercise Class (BS&SEC) in Nāʻālehu! This class has varied levels and is open to all ages and abilities. Call (808) 969-9220 for more info.
URL:https://hmono.org/calendar/bssec-na%ca%bbalehu-930am-5/2020-01-29/
LOCATION:Nāʻālehu Community Center\, 95-5635 Mamalahoa Hwy\, Nāʻālehu\, HI\, 96772\, United States
CATEGORIES:BS&SEC,Exercise
GEO:19.0602215;-155.5853052
X-APPLE-STRUCTURED-LOCATION;VALUE=URI;X-ADDRESS=Nāʻālehu Community Center 95-5635 Mamalahoa Hwy Nāʻālehu HI 96772 United States;X-APPLE-RADIUS=500;X-TITLE=95-5635 Mamalahoa Hwy:geo:-155.5853052,19.0602215
END:VEVENT
BEGIN:VEVENT
DTSTART;TZID=Pacific/Honolulu:20200130T093000
DTEND;TZID=Pacific/Honolulu:20200130T103000
DTSTAMP:20260422T114708
CREATED:20191214T014127Z
LAST-MODIFIED:20191214T014135Z
UID:10002361-1580376600-1580380200@hmono.org
SUMMARY:BS&SEC Pāhala 9:30am
DESCRIPTION:Join us for Basic Stretch & Strengthening Exercise Class (BS&SEC) in Pāhala! This class has varied levels and is open to all ages and abilities. Call (808) 969-9220 for more info.
URL:https://hmono.org/calendar/bssec-pahala-930am-5/2020-01-30/
LOCATION:Pahala Community Center\, 1149\, 96 Kamani St.\, Pahala\, HI\, 96777\, United States
CATEGORIES:BS&SEC,Exercise
GEO:19.2010779;-155.4736457
X-APPLE-STRUCTURED-LOCATION;VALUE=URI;X-ADDRESS=Pahala Community Center 1149 96 Kamani St. Pahala HI 96777 United States;X-APPLE-RADIUS=500;X-TITLE=1149\, 96 Kamani St.:geo:-155.4736457,19.2010779
END:VEVENT
BEGIN:VEVENT
DTSTART;TZID=Pacific/Honolulu:20200130T103000
DTEND;TZID=Pacific/Honolulu:20200130T113000
DTSTAMP:20260422T114708
CREATED:20191204T000611Z
LAST-MODIFIED:20191204T000611Z
UID:10000692-1580380200-1580383800@hmono.org
SUMMARY:BS&SEC Keaukaha 10:30am
DESCRIPTION:Join us for Basic Stretch & Strengthening Exercise Class (BS&SEC) in Keaukaha! This class has varied levels and is open to all ages and abilities. Call (808) 969-9220 for more info.
URL:https://hmono.org/calendar/bssec-keaukaha-1030am-61/2020-01-30/
LOCATION:Malia Puka O Kalani Church Gym\, 326 Desha Ave\, Hilo\, HI 96720\, Hilo\, United States
CATEGORIES:BS&SEC,Exercise
GEO:19.7296034;-155.0427974
X-APPLE-STRUCTURED-LOCATION;VALUE=URI;X-ADDRESS=Malia Puka O Kalani Church Gym 326 Desha Ave Hilo HI 96720 Hilo United States;X-APPLE-RADIUS=500;X-TITLE=326 Desha Ave\, Hilo\, HI 96720:geo:-155.0427974,19.7296034
END:VEVENT
BEGIN:VEVENT
DTSTART;TZID=Pacific/Honolulu:20200204T103000
DTEND;TZID=Pacific/Honolulu:20200204T113000
DTSTAMP:20260422T114708
CREATED:20191204T000611Z
LAST-MODIFIED:20191204T000611Z
UID:10000693-1580812200-1580815800@hmono.org
SUMMARY:BS&SEC Keaukaha 10:30am
DESCRIPTION:Join us for Basic Stretch & Strengthening Exercise Class (BS&SEC) in Keaukaha! This class has varied levels and is open to all ages and abilities. Call (808) 969-9220 for more info.
URL:https://hmono.org/calendar/bssec-keaukaha-1030am-61/2020-02-04/
LOCATION:Malia Puka O Kalani Church Gym\, 326 Desha Ave\, Hilo\, HI 96720\, Hilo\, United States
CATEGORIES:BS&SEC,Exercise
GEO:19.7296034;-155.0427974
X-APPLE-STRUCTURED-LOCATION;VALUE=URI;X-ADDRESS=Malia Puka O Kalani Church Gym 326 Desha Ave Hilo HI 96720 Hilo United States;X-APPLE-RADIUS=500;X-TITLE=326 Desha Ave\, Hilo\, HI 96720:geo:-155.0427974,19.7296034
END:VEVENT
BEGIN:VEVENT
DTSTART;TZID=Pacific/Honolulu:20200206T103000
DTEND;TZID=Pacific/Honolulu:20200206T113000
DTSTAMP:20260422T114708
CREATED:20191204T000611Z
LAST-MODIFIED:20200206T205403Z
UID:10000698-1580985000-1580988600@hmono.org
SUMMARY:BS&SEC Keaukaha CANCELLED
DESCRIPTION:This class in Keaukaha has been cancelled. We apologize for the inconvenience. If you have any questions please call (808) 969-9220. \n 
URL:https://hmono.org/calendar/bssec-keaukaha-1030am-61-2020-02-06/
LOCATION:Malia Puka O Kalani Church Gym\, 326 Desha Ave\, Hilo\, HI 96720\, Hilo\, United States
CATEGORIES:BS&SEC,Exercise
GEO:19.7296034;-155.0427974
X-APPLE-STRUCTURED-LOCATION;VALUE=URI;X-ADDRESS=Malia Puka O Kalani Church Gym 326 Desha Ave Hilo HI 96720 Hilo United States;X-APPLE-RADIUS=500;X-TITLE=326 Desha Ave\, Hilo\, HI 96720:geo:-155.0427974,19.7296034
END:VEVENT
BEGIN:VEVENT
DTSTART;TZID=Pacific/Honolulu:20200211T103000
DTEND;TZID=Pacific/Honolulu:20200211T113000
DTSTAMP:20260422T114708
CREATED:20191204T000611Z
LAST-MODIFIED:20191204T000611Z
UID:10000694-1581417000-1581420600@hmono.org
SUMMARY:BS&SEC Keaukaha 10:30am
DESCRIPTION:Join us for Basic Stretch & Strengthening Exercise Class (BS&SEC) in Keaukaha! This class has varied levels and is open to all ages and abilities. Call (808) 969-9220 for more info.
URL:https://hmono.org/calendar/bssec-keaukaha-1030am-61/2020-02-11/
LOCATION:Malia Puka O Kalani Church Gym\, 326 Desha Ave\, Hilo\, HI 96720\, Hilo\, United States
CATEGORIES:BS&SEC,Exercise
GEO:19.7296034;-155.0427974
X-APPLE-STRUCTURED-LOCATION;VALUE=URI;X-ADDRESS=Malia Puka O Kalani Church Gym 326 Desha Ave Hilo HI 96720 Hilo United States;X-APPLE-RADIUS=500;X-TITLE=326 Desha Ave\, Hilo\, HI 96720:geo:-155.0427974,19.7296034
END:VEVENT
BEGIN:VEVENT
DTSTART;TZID=Pacific/Honolulu:20200213T103000
DTEND;TZID=Pacific/Honolulu:20200213T113000
DTSTAMP:20260422T114708
CREATED:20191204T000611Z
LAST-MODIFIED:20200212T000558Z
UID:10002125-1581589800-1581593400@hmono.org
SUMMARY:BS&SEC Keaukaha CANCELLED
DESCRIPTION:This class in Keaukaha is cancelled on this day. Classes will continue as scheduled on Tuesday\, February 18. Call (808) 969-9220 for more info.
URL:https://hmono.org/calendar/bssec-keaukaha-1030am-61-2020-02-13/
LOCATION:Malia Puka O Kalani Church Gym\, 326 Desha Ave\, Hilo\, HI 96720\, Hilo\, United States
CATEGORIES:BS&SEC,Exercise
GEO:19.7296034;-155.0427974
X-APPLE-STRUCTURED-LOCATION;VALUE=URI;X-ADDRESS=Malia Puka O Kalani Church Gym 326 Desha Ave Hilo HI 96720 Hilo United States;X-APPLE-RADIUS=500;X-TITLE=326 Desha Ave\, Hilo\, HI 96720:geo:-155.0427974,19.7296034
END:VEVENT
BEGIN:VEVENT
DTSTART;TZID=Pacific/Honolulu:20200218T103000
DTEND;TZID=Pacific/Honolulu:20200218T113000
DTSTAMP:20260422T114708
CREATED:20191204T000611Z
LAST-MODIFIED:20191204T000611Z
UID:10000695-1582021800-1582025400@hmono.org
SUMMARY:BS&SEC Keaukaha 10:30am
DESCRIPTION:Join us for Basic Stretch & Strengthening Exercise Class (BS&SEC) in Keaukaha! This class has varied levels and is open to all ages and abilities. Call (808) 969-9220 for more info.
URL:https://hmono.org/calendar/bssec-keaukaha-1030am-61/2020-02-18/
LOCATION:Malia Puka O Kalani Church Gym\, 326 Desha Ave\, Hilo\, HI 96720\, Hilo\, United States
CATEGORIES:BS&SEC,Exercise
GEO:19.7296034;-155.0427974
X-APPLE-STRUCTURED-LOCATION;VALUE=URI;X-ADDRESS=Malia Puka O Kalani Church Gym 326 Desha Ave Hilo HI 96720 Hilo United States;X-APPLE-RADIUS=500;X-TITLE=326 Desha Ave\, Hilo\, HI 96720:geo:-155.0427974,19.7296034
END:VEVENT
BEGIN:VEVENT
DTSTART;TZID=Pacific/Honolulu:20200220T103000
DTEND;TZID=Pacific/Honolulu:20200220T113000
DTSTAMP:20260422T114708
CREATED:20191204T000611Z
LAST-MODIFIED:20191204T000611Z
UID:10000696-1582194600-1582198200@hmono.org
SUMMARY:BS&SEC Keaukaha 10:30am
DESCRIPTION:Join us for Basic Stretch & Strengthening Exercise Class (BS&SEC) in Keaukaha! This class has varied levels and is open to all ages and abilities. Call (808) 969-9220 for more info.
URL:https://hmono.org/calendar/bssec-keaukaha-1030am-61/2020-02-20/
LOCATION:Malia Puka O Kalani Church Gym\, 326 Desha Ave\, Hilo\, HI 96720\, Hilo\, United States
CATEGORIES:BS&SEC,Exercise
GEO:19.7296034;-155.0427974
X-APPLE-STRUCTURED-LOCATION;VALUE=URI;X-ADDRESS=Malia Puka O Kalani Church Gym 326 Desha Ave Hilo HI 96720 Hilo United States;X-APPLE-RADIUS=500;X-TITLE=326 Desha Ave\, Hilo\, HI 96720:geo:-155.0427974,19.7296034
END:VEVENT
BEGIN:VEVENT
DTSTART;TZID=Pacific/Honolulu:20200225T103000
DTEND;TZID=Pacific/Honolulu:20200225T113000
DTSTAMP:20260422T114708
CREATED:20191204T000611Z
LAST-MODIFIED:20191204T000611Z
UID:10000697-1582626600-1582630200@hmono.org
SUMMARY:BS&SEC Keaukaha 10:30am
DESCRIPTION:Join us for Basic Stretch & Strengthening Exercise Class (BS&SEC) in Keaukaha! This class has varied levels and is open to all ages and abilities. Call (808) 969-9220 for more info.
URL:https://hmono.org/calendar/bssec-keaukaha-1030am-61/2020-02-25/
LOCATION:Malia Puka O Kalani Church Gym\, 326 Desha Ave\, Hilo\, HI 96720\, Hilo\, United States
CATEGORIES:BS&SEC,Exercise
GEO:19.7296034;-155.0427974
X-APPLE-STRUCTURED-LOCATION;VALUE=URI;X-ADDRESS=Malia Puka O Kalani Church Gym 326 Desha Ave Hilo HI 96720 Hilo United States;X-APPLE-RADIUS=500;X-TITLE=326 Desha Ave\, Hilo\, HI 96720:geo:-155.0427974,19.7296034
END:VEVENT
BEGIN:VEVENT
DTSTART;TZID=Pacific/Honolulu:20200227T103000
DTEND;TZID=Pacific/Honolulu:20200227T113000
DTSTAMP:20260422T114708
CREATED:20191204T000611Z
LAST-MODIFIED:20200227T190855Z
UID:10002131-1582799400-1582803000@hmono.org
SUMMARY:BS&SEC Keaukaha CANCELLED
DESCRIPTION:This class in Keaukaha is cancelled on this day. Call (808) 969-9220 for more info.
URL:https://hmono.org/calendar/bssec-keaukaha-1030am-61-2020-02-27/
LOCATION:Malia Puka O Kalani Church Gym\, 326 Desha Ave\, Hilo\, HI 96720\, Hilo\, United States
CATEGORIES:BS&SEC,Exercise
GEO:19.7296034;-155.0427974
X-APPLE-STRUCTURED-LOCATION;VALUE=URI;X-ADDRESS=Malia Puka O Kalani Church Gym 326 Desha Ave Hilo HI 96720 Hilo United States;X-APPLE-RADIUS=500;X-TITLE=326 Desha Ave\, Hilo\, HI 96720:geo:-155.0427974,19.7296034
END:VEVENT
BEGIN:VEVENT
DTSTART;TZID=Pacific/Honolulu:20200505T093000
DTEND;TZID=Pacific/Honolulu:20200505T103000
DTSTAMP:20260422T114708
CREATED:20200508T190848Z
LAST-MODIFIED:20220119T004634Z
UID:10000879-1588671000-1588674600@hmono.org
SUMMARY:Basic Stretch & Strengthening Exercise Class (Online)
DESCRIPTION:Join us in quick basic stretches that will strengthen your flexibility and muscles! Grab a chair\, water to stay hydrated\, and a stretch band if you have one! To sign-up visit hmono.org/services\, we hope to see you there!
URL:https://hmono.org/calendar/basic-stretch-and-exercise-class-online/2020-05-05/
CATEGORIES:BS&SEC,Exercise
END:VEVENT
BEGIN:VEVENT
DTSTART;TZID=Pacific/Honolulu:20200507T093000
DTEND;TZID=Pacific/Honolulu:20200507T103000
DTSTAMP:20260422T114708
CREATED:20200508T190848Z
LAST-MODIFIED:20220119T004634Z
UID:10000880-1588843800-1588847400@hmono.org
SUMMARY:Basic Stretch & Strengthening Exercise Class (Online)
DESCRIPTION:Join us in quick basic stretches that will strengthen your flexibility and muscles! Grab a chair\, water to stay hydrated\, and a stretch band if you have one! To sign-up visit hmono.org/services\, we hope to see you there!
URL:https://hmono.org/calendar/basic-stretch-and-exercise-class-online/2020-05-07/
CATEGORIES:BS&SEC,Exercise
END:VEVENT
BEGIN:VEVENT
DTSTART;TZID=Pacific/Honolulu:20200514T093000
DTEND;TZID=Pacific/Honolulu:20200514T103000
DTSTAMP:20260422T114708
CREATED:20200508T190848Z
LAST-MODIFIED:20220119T004634Z
UID:10000881-1589448600-1589452200@hmono.org
SUMMARY:Basic Stretch & Strengthening Exercise Class (Online)
DESCRIPTION:Join us in quick basic stretches that will strengthen your flexibility and muscles! Grab a chair\, water to stay hydrated\, and a stretch band if you have one! To sign-up visit hmono.org/services\, we hope to see you there!
URL:https://hmono.org/calendar/basic-stretch-and-exercise-class-online/2020-05-14/
CATEGORIES:BS&SEC,Exercise
END:VEVENT
BEGIN:VEVENT
DTSTART;TZID=Pacific/Honolulu:20200519T093000
DTEND;TZID=Pacific/Honolulu:20200519T103000
DTSTAMP:20260422T114708
CREATED:20200508T190848Z
LAST-MODIFIED:20220119T004634Z
UID:10000882-1589880600-1589884200@hmono.org
SUMMARY:Basic Stretch & Strengthening Exercise Class (Online)
DESCRIPTION:Join us in quick basic stretches that will strengthen your flexibility and muscles! Grab a chair\, water to stay hydrated\, and a stretch band if you have one! To sign-up visit hmono.org/services\, we hope to see you there!
URL:https://hmono.org/calendar/basic-stretch-and-exercise-class-online/2020-05-19/
CATEGORIES:BS&SEC,Exercise
END:VEVENT
BEGIN:VEVENT
DTSTART;TZID=Pacific/Honolulu:20200521T093000
DTEND;TZID=Pacific/Honolulu:20200521T103000
DTSTAMP:20260422T114708
CREATED:20200508T190848Z
LAST-MODIFIED:20220119T004634Z
UID:10000883-1590053400-1590057000@hmono.org
SUMMARY:Basic Stretch & Strengthening Exercise Class (Online)
DESCRIPTION:Join us in quick basic stretches that will strengthen your flexibility and muscles! Grab a chair\, water to stay hydrated\, and a stretch band if you have one! To sign-up visit hmono.org/services\, we hope to see you there!
URL:https://hmono.org/calendar/basic-stretch-and-exercise-class-online/2020-05-21/
CATEGORIES:BS&SEC,Exercise
END:VEVENT
BEGIN:VEVENT
DTSTART;TZID=Pacific/Honolulu:20200526T093000
DTEND;TZID=Pacific/Honolulu:20200526T103000
DTSTAMP:20260422T114708
CREATED:20200508T190848Z
LAST-MODIFIED:20220119T004634Z
UID:10000884-1590485400-1590489000@hmono.org
SUMMARY:Basic Stretch & Strengthening Exercise Class (Online)
DESCRIPTION:Join us in quick basic stretches that will strengthen your flexibility and muscles! Grab a chair\, water to stay hydrated\, and a stretch band if you have one! To sign-up visit hmono.org/services\, we hope to see you there!
URL:https://hmono.org/calendar/basic-stretch-and-exercise-class-online/2020-05-26/
CATEGORIES:BS&SEC,Exercise
END:VEVENT
END:VCALENDAR