BEGIN:VCALENDAR
VERSION:2.0
PRODID:-//Hui Mālama Ola Nā ʻŌiwi - ECPv6.15.20//NONSGML v1.0//EN
CALSCALE:GREGORIAN
METHOD:PUBLISH
X-ORIGINAL-URL:https://hmono.org
X-WR-CALDESC:Events for Hui Mālama Ola Nā ʻŌiwi
REFRESH-INTERVAL;VALUE=DURATION:PT1H
X-Robots-Tag:noindex
X-PUBLISHED-TTL:PT1H
BEGIN:VTIMEZONE
TZID:Pacific/Honolulu
BEGIN:STANDARD
TZOFFSETFROM:-1000
TZOFFSETTO:-1000
TZNAME:HST
DTSTART:20220101T000000
END:STANDARD
END:VTIMEZONE
BEGIN:VEVENT
DTSTART;TZID=Pacific/Honolulu:20230606T093000
DTEND;TZID=Pacific/Honolulu:20230606T103000
DTSTAMP:20260421T112222
CREATED:20230428T010139Z
LAST-MODIFIED:20230428T010139Z
UID:10002651-1686043800-1686047400@hmono.org
SUMMARY:Basic Stretch and Strengthening Exercise Class (online)
DESCRIPTION:Join us in quick basic stretches that will strengthen your flexibility and muscles! Grab a chair\, water to stay hydrated\, and a stretch band if you have one! To sign-up visit hmono.org/services\, we hope to see you there!
URL:https://hmono.org/calendar/basic-stretch-and-strengthening-exercise-class-online-5/2023-06-06/
CATEGORIES:BS&SEC,Exercise
END:VEVENT
BEGIN:VEVENT
DTSTART;TZID=Pacific/Honolulu:20230608T093000
DTEND;TZID=Pacific/Honolulu:20230608T103000
DTSTAMP:20260421T112222
CREATED:20230428T010139Z
LAST-MODIFIED:20230428T010139Z
UID:10002652-1686216600-1686220200@hmono.org
SUMMARY:Basic Stretch and Strengthening Exercise Class (online)
DESCRIPTION:Join us in quick basic stretches that will strengthen your flexibility and muscles! Grab a chair\, water to stay hydrated\, and a stretch band if you have one! To sign-up visit hmono.org/services\, we hope to see you there!
URL:https://hmono.org/calendar/basic-stretch-and-strengthening-exercise-class-online-5/2023-06-08/
CATEGORIES:BS&SEC,Exercise
END:VEVENT
BEGIN:VEVENT
DTSTART;TZID=Pacific/Honolulu:20230613T093000
DTEND;TZID=Pacific/Honolulu:20230613T103000
DTSTAMP:20260421T112222
CREATED:20230428T010139Z
LAST-MODIFIED:20230428T010139Z
UID:10002653-1686648600-1686652200@hmono.org
SUMMARY:Basic Stretch and Strengthening Exercise Class (online)
DESCRIPTION:Join us in quick basic stretches that will strengthen your flexibility and muscles! Grab a chair\, water to stay hydrated\, and a stretch band if you have one! To sign-up visit hmono.org/services\, we hope to see you there!
URL:https://hmono.org/calendar/basic-stretch-and-strengthening-exercise-class-online-5/2023-06-13/
CATEGORIES:BS&SEC,Exercise
END:VEVENT
BEGIN:VEVENT
DTSTART;TZID=Pacific/Honolulu:20230615T093000
DTEND;TZID=Pacific/Honolulu:20230615T103000
DTSTAMP:20260421T112222
CREATED:20230428T010139Z
LAST-MODIFIED:20230428T010139Z
UID:10002654-1686821400-1686825000@hmono.org
SUMMARY:Basic Stretch and Strengthening Exercise Class (online)
DESCRIPTION:Join us in quick basic stretches that will strengthen your flexibility and muscles! Grab a chair\, water to stay hydrated\, and a stretch band if you have one! To sign-up visit hmono.org/services\, we hope to see you there!
URL:https://hmono.org/calendar/basic-stretch-and-strengthening-exercise-class-online-5/2023-06-15/
CATEGORIES:BS&SEC,Exercise
END:VEVENT
BEGIN:VEVENT
DTSTART;TZID=Pacific/Honolulu:20230620T093000
DTEND;TZID=Pacific/Honolulu:20230620T103000
DTSTAMP:20260421T112222
CREATED:20230428T010139Z
LAST-MODIFIED:20230428T010139Z
UID:10002655-1687253400-1687257000@hmono.org
SUMMARY:Basic Stretch and Strengthening Exercise Class (online)
DESCRIPTION:Join us in quick basic stretches that will strengthen your flexibility and muscles! Grab a chair\, water to stay hydrated\, and a stretch band if you have one! To sign-up visit hmono.org/services\, we hope to see you there!
URL:https://hmono.org/calendar/basic-stretch-and-strengthening-exercise-class-online-5/2023-06-20/
CATEGORIES:BS&SEC,Exercise
END:VEVENT
BEGIN:VEVENT
DTSTART;TZID=Pacific/Honolulu:20230622T093000
DTEND;TZID=Pacific/Honolulu:20230622T103000
DTSTAMP:20260421T112222
CREATED:20230428T010139Z
LAST-MODIFIED:20230428T010139Z
UID:10002656-1687426200-1687429800@hmono.org
SUMMARY:Basic Stretch and Strengthening Exercise Class (online)
DESCRIPTION:Join us in quick basic stretches that will strengthen your flexibility and muscles! Grab a chair\, water to stay hydrated\, and a stretch band if you have one! To sign-up visit hmono.org/services\, we hope to see you there!
URL:https://hmono.org/calendar/basic-stretch-and-strengthening-exercise-class-online-5/2023-06-22/
CATEGORIES:BS&SEC,Exercise
END:VEVENT
BEGIN:VEVENT
DTSTART;TZID=Pacific/Honolulu:20230627T093000
DTEND;TZID=Pacific/Honolulu:20230627T103000
DTSTAMP:20260421T112222
CREATED:20230428T010139Z
LAST-MODIFIED:20230428T010139Z
UID:10002657-1687858200-1687861800@hmono.org
SUMMARY:Basic Stretch and Strengthening Exercise Class (online)
DESCRIPTION:Join us in quick basic stretches that will strengthen your flexibility and muscles! Grab a chair\, water to stay hydrated\, and a stretch band if you have one! To sign-up visit hmono.org/services\, we hope to see you there!
URL:https://hmono.org/calendar/basic-stretch-and-strengthening-exercise-class-online-5/2023-06-27/
CATEGORIES:BS&SEC,Exercise
END:VEVENT
BEGIN:VEVENT
DTSTART;TZID=Pacific/Honolulu:20230629T093000
DTEND;TZID=Pacific/Honolulu:20230629T103000
DTSTAMP:20260421T112222
CREATED:20230428T010139Z
LAST-MODIFIED:20230428T010139Z
UID:10002658-1688031000-1688034600@hmono.org
SUMMARY:Basic Stretch and Strengthening Exercise Class (online)
DESCRIPTION:Join us in quick basic stretches that will strengthen your flexibility and muscles! Grab a chair\, water to stay hydrated\, and a stretch band if you have one! To sign-up visit hmono.org/services\, we hope to see you there!
URL:https://hmono.org/calendar/basic-stretch-and-strengthening-exercise-class-online-5/2023-06-29/
CATEGORIES:BS&SEC,Exercise
END:VEVENT
BEGIN:VEVENT
DTSTART;TZID=Pacific/Honolulu:20230706T093000
DTEND;TZID=Pacific/Honolulu:20230706T103000
DTSTAMP:20260421T112222
CREATED:20230428T010139Z
LAST-MODIFIED:20230428T010139Z
UID:10002659-1688635800-1688639400@hmono.org
SUMMARY:Basic Stretch and Strengthening Exercise Class (online)
DESCRIPTION:Join us in quick basic stretches that will strengthen your flexibility and muscles! Grab a chair\, water to stay hydrated\, and a stretch band if you have one! To sign-up visit hmono.org/services\, we hope to see you there!
URL:https://hmono.org/calendar/basic-stretch-and-strengthening-exercise-class-online-5/2023-07-06/
CATEGORIES:BS&SEC,Exercise
END:VEVENT
BEGIN:VEVENT
DTSTART;TZID=Pacific/Honolulu:20230711T093000
DTEND;TZID=Pacific/Honolulu:20230711T103000
DTSTAMP:20260421T112222
CREATED:20230428T010139Z
LAST-MODIFIED:20230428T010139Z
UID:10002660-1689067800-1689071400@hmono.org
SUMMARY:Basic Stretch and Strengthening Exercise Class (online)
DESCRIPTION:Join us in quick basic stretches that will strengthen your flexibility and muscles! Grab a chair\, water to stay hydrated\, and a stretch band if you have one! To sign-up visit hmono.org/services\, we hope to see you there!
URL:https://hmono.org/calendar/basic-stretch-and-strengthening-exercise-class-online-5/2023-07-11/
CATEGORIES:BS&SEC,Exercise
END:VEVENT
BEGIN:VEVENT
DTSTART;TZID=Pacific/Honolulu:20230713T093000
DTEND;TZID=Pacific/Honolulu:20230713T103000
DTSTAMP:20260421T112222
CREATED:20230428T010139Z
LAST-MODIFIED:20230428T010139Z
UID:10002661-1689240600-1689244200@hmono.org
SUMMARY:Basic Stretch and Strengthening Exercise Class (online)
DESCRIPTION:Join us in quick basic stretches that will strengthen your flexibility and muscles! Grab a chair\, water to stay hydrated\, and a stretch band if you have one! To sign-up visit hmono.org/services\, we hope to see you there!
URL:https://hmono.org/calendar/basic-stretch-and-strengthening-exercise-class-online-5/2023-07-13/
CATEGORIES:BS&SEC,Exercise
END:VEVENT
BEGIN:VEVENT
DTSTART;TZID=Pacific/Honolulu:20230718T093000
DTEND;TZID=Pacific/Honolulu:20230718T103000
DTSTAMP:20260421T112222
CREATED:20230428T010139Z
LAST-MODIFIED:20230428T010139Z
UID:10002662-1689672600-1689676200@hmono.org
SUMMARY:Basic Stretch and Strengthening Exercise Class (online)
DESCRIPTION:Join us in quick basic stretches that will strengthen your flexibility and muscles! Grab a chair\, water to stay hydrated\, and a stretch band if you have one! To sign-up visit hmono.org/services\, we hope to see you there!
URL:https://hmono.org/calendar/basic-stretch-and-strengthening-exercise-class-online-5/2023-07-18/
CATEGORIES:BS&SEC,Exercise
END:VEVENT
BEGIN:VEVENT
DTSTART;TZID=Pacific/Honolulu:20230720T093000
DTEND;TZID=Pacific/Honolulu:20230720T103000
DTSTAMP:20260421T112222
CREATED:20230428T010139Z
LAST-MODIFIED:20230428T010139Z
UID:10002663-1689845400-1689849000@hmono.org
SUMMARY:Basic Stretch and Strengthening Exercise Class (online)
DESCRIPTION:Join us in quick basic stretches that will strengthen your flexibility and muscles! Grab a chair\, water to stay hydrated\, and a stretch band if you have one! To sign-up visit hmono.org/services\, we hope to see you there!
URL:https://hmono.org/calendar/basic-stretch-and-strengthening-exercise-class-online-5/2023-07-20/
CATEGORIES:BS&SEC,Exercise
END:VEVENT
BEGIN:VEVENT
DTSTART;TZID=Pacific/Honolulu:20230725T093000
DTEND;TZID=Pacific/Honolulu:20230725T103000
DTSTAMP:20260421T112222
CREATED:20230428T010139Z
LAST-MODIFIED:20230428T010139Z
UID:10002664-1690277400-1690281000@hmono.org
SUMMARY:Basic Stretch and Strengthening Exercise Class (online)
DESCRIPTION:Join us in quick basic stretches that will strengthen your flexibility and muscles! Grab a chair\, water to stay hydrated\, and a stretch band if you have one! To sign-up visit hmono.org/services\, we hope to see you there!
URL:https://hmono.org/calendar/basic-stretch-and-strengthening-exercise-class-online-5/2023-07-25/
CATEGORIES:BS&SEC,Exercise
END:VEVENT
BEGIN:VEVENT
DTSTART;TZID=Pacific/Honolulu:20230727T093000
DTEND;TZID=Pacific/Honolulu:20230727T103000
DTSTAMP:20260421T112222
CREATED:20230428T010139Z
LAST-MODIFIED:20230428T010139Z
UID:10002665-1690450200-1690453800@hmono.org
SUMMARY:Basic Stretch and Strengthening Exercise Class (online)
DESCRIPTION:Join us in quick basic stretches that will strengthen your flexibility and muscles! Grab a chair\, water to stay hydrated\, and a stretch band if you have one! To sign-up visit hmono.org/services\, we hope to see you there!
URL:https://hmono.org/calendar/basic-stretch-and-strengthening-exercise-class-online-5/2023-07-27/
CATEGORIES:BS&SEC,Exercise
END:VEVENT
BEGIN:VEVENT
DTSTART;TZID=Pacific/Honolulu:20230801T093000
DTEND;TZID=Pacific/Honolulu:20230801T103000
DTSTAMP:20260421T112222
CREATED:20230815T011054Z
LAST-MODIFIED:20230815T011130Z
UID:10003163-1690882200-1690885800@hmono.org
SUMMARY:Basic Stretch & Strengthening (online)
DESCRIPTION:Join us in quick basic stretches that will strengthen your flexibility and muscles! Grab a chair\, water to stay hydrated\, and a stretch band if you have one! To sign-up visit hmono.org/services\, we hope to see you there!
URL:https://hmono.org/calendar/basic-stretch-strengthening/2023-08-01/
CATEGORIES:BS&SEC,Exercise
END:VEVENT
BEGIN:VEVENT
DTSTART;TZID=Pacific/Honolulu:20230803T093000
DTEND;TZID=Pacific/Honolulu:20230803T103000
DTSTAMP:20260421T112222
CREATED:20230815T011054Z
LAST-MODIFIED:20230815T011130Z
UID:10003164-1691055000-1691058600@hmono.org
SUMMARY:Basic Stretch & Strengthening (online)
DESCRIPTION:Join us in quick basic stretches that will strengthen your flexibility and muscles! Grab a chair\, water to stay hydrated\, and a stretch band if you have one! To sign-up visit hmono.org/services\, we hope to see you there!
URL:https://hmono.org/calendar/basic-stretch-strengthening/2023-08-03/
CATEGORIES:BS&SEC,Exercise
END:VEVENT
BEGIN:VEVENT
DTSTART;TZID=Pacific/Honolulu:20230808T093000
DTEND;TZID=Pacific/Honolulu:20230808T103000
DTSTAMP:20260421T112222
CREATED:20230815T011054Z
LAST-MODIFIED:20230815T011130Z
UID:10003165-1691487000-1691490600@hmono.org
SUMMARY:Basic Stretch & Strengthening (online)
DESCRIPTION:Join us in quick basic stretches that will strengthen your flexibility and muscles! Grab a chair\, water to stay hydrated\, and a stretch band if you have one! To sign-up visit hmono.org/services\, we hope to see you there!
URL:https://hmono.org/calendar/basic-stretch-strengthening/2023-08-08/
CATEGORIES:BS&SEC,Exercise
END:VEVENT
BEGIN:VEVENT
DTSTART;TZID=Pacific/Honolulu:20230810T093000
DTEND;TZID=Pacific/Honolulu:20230810T103000
DTSTAMP:20260421T112222
CREATED:20230815T011054Z
LAST-MODIFIED:20230815T011130Z
UID:10003166-1691659800-1691663400@hmono.org
SUMMARY:Basic Stretch & Strengthening (online)
DESCRIPTION:Join us in quick basic stretches that will strengthen your flexibility and muscles! Grab a chair\, water to stay hydrated\, and a stretch band if you have one! To sign-up visit hmono.org/services\, we hope to see you there!
URL:https://hmono.org/calendar/basic-stretch-strengthening/2023-08-10/
CATEGORIES:BS&SEC,Exercise
END:VEVENT
BEGIN:VEVENT
DTSTART;TZID=Pacific/Honolulu:20230815T093000
DTEND;TZID=Pacific/Honolulu:20230815T103000
DTSTAMP:20260421T112222
CREATED:20230815T011054Z
LAST-MODIFIED:20230815T011130Z
UID:10003167-1692091800-1692095400@hmono.org
SUMMARY:Basic Stretch & Strengthening (online)
DESCRIPTION:Join us in quick basic stretches that will strengthen your flexibility and muscles! Grab a chair\, water to stay hydrated\, and a stretch band if you have one! To sign-up visit hmono.org/services\, we hope to see you there!
URL:https://hmono.org/calendar/basic-stretch-strengthening/2023-08-15/
CATEGORIES:BS&SEC,Exercise
END:VEVENT
BEGIN:VEVENT
DTSTART;TZID=Pacific/Honolulu:20230817T093000
DTEND;TZID=Pacific/Honolulu:20230817T103000
DTSTAMP:20260421T112223
CREATED:20230815T011054Z
LAST-MODIFIED:20230815T011130Z
UID:10003168-1692264600-1692268200@hmono.org
SUMMARY:Basic Stretch & Strengthening (online)
DESCRIPTION:Join us in quick basic stretches that will strengthen your flexibility and muscles! Grab a chair\, water to stay hydrated\, and a stretch band if you have one! To sign-up visit hmono.org/services\, we hope to see you there!
URL:https://hmono.org/calendar/basic-stretch-strengthening/2023-08-17/
CATEGORIES:BS&SEC,Exercise
END:VEVENT
BEGIN:VEVENT
DTSTART;TZID=Pacific/Honolulu:20230822T093000
DTEND;TZID=Pacific/Honolulu:20230822T103000
DTSTAMP:20260421T112223
CREATED:20230815T011054Z
LAST-MODIFIED:20230815T011130Z
UID:10003169-1692696600-1692700200@hmono.org
SUMMARY:Basic Stretch & Strengthening (online)
DESCRIPTION:Join us in quick basic stretches that will strengthen your flexibility and muscles! Grab a chair\, water to stay hydrated\, and a stretch band if you have one! To sign-up visit hmono.org/services\, we hope to see you there!
URL:https://hmono.org/calendar/basic-stretch-strengthening/2023-08-22/
CATEGORIES:BS&SEC,Exercise
END:VEVENT
BEGIN:VEVENT
DTSTART;TZID=Pacific/Honolulu:20230824T093000
DTEND;TZID=Pacific/Honolulu:20230824T103000
DTSTAMP:20260421T112223
CREATED:20230815T011054Z
LAST-MODIFIED:20230815T011130Z
UID:10003170-1692869400-1692873000@hmono.org
SUMMARY:Basic Stretch & Strengthening (online)
DESCRIPTION:Join us in quick basic stretches that will strengthen your flexibility and muscles! Grab a chair\, water to stay hydrated\, and a stretch band if you have one! To sign-up visit hmono.org/services\, we hope to see you there!
URL:https://hmono.org/calendar/basic-stretch-strengthening/2023-08-24/
CATEGORIES:BS&SEC,Exercise
END:VEVENT
BEGIN:VEVENT
DTSTART;TZID=Pacific/Honolulu:20230829T093000
DTEND;TZID=Pacific/Honolulu:20230829T103000
DTSTAMP:20260421T112223
CREATED:20230815T011054Z
LAST-MODIFIED:20230815T011130Z
UID:10003171-1693301400-1693305000@hmono.org
SUMMARY:Basic Stretch & Strengthening (online)
DESCRIPTION:Join us in quick basic stretches that will strengthen your flexibility and muscles! Grab a chair\, water to stay hydrated\, and a stretch band if you have one! To sign-up visit hmono.org/services\, we hope to see you there!
URL:https://hmono.org/calendar/basic-stretch-strengthening/2023-08-29/
CATEGORIES:BS&SEC,Exercise
END:VEVENT
BEGIN:VEVENT
DTSTART;TZID=Pacific/Honolulu:20230831T093000
DTEND;TZID=Pacific/Honolulu:20230831T103000
DTSTAMP:20260421T112223
CREATED:20230815T011054Z
LAST-MODIFIED:20230815T011130Z
UID:10003172-1693474200-1693477800@hmono.org
SUMMARY:Basic Stretch & Strengthening (online)
DESCRIPTION:Join us in quick basic stretches that will strengthen your flexibility and muscles! Grab a chair\, water to stay hydrated\, and a stretch band if you have one! To sign-up visit hmono.org/services\, we hope to see you there!
URL:https://hmono.org/calendar/basic-stretch-strengthening/2023-08-31/
CATEGORIES:BS&SEC,Exercise
END:VEVENT
BEGIN:VEVENT
DTSTART;TZID=Pacific/Honolulu:20230905T093000
DTEND;TZID=Pacific/Honolulu:20230905T103000
DTSTAMP:20260421T112223
CREATED:20230815T011054Z
LAST-MODIFIED:20230815T011130Z
UID:10003173-1693906200-1693909800@hmono.org
SUMMARY:Basic Stretch & Strengthening (online)
DESCRIPTION:Join us in quick basic stretches that will strengthen your flexibility and muscles! Grab a chair\, water to stay hydrated\, and a stretch band if you have one! To sign-up visit hmono.org/services\, we hope to see you there!
URL:https://hmono.org/calendar/basic-stretch-strengthening/2023-09-05/
CATEGORIES:BS&SEC,Exercise
END:VEVENT
BEGIN:VEVENT
DTSTART;TZID=Pacific/Honolulu:20230907T093000
DTEND;TZID=Pacific/Honolulu:20230907T103000
DTSTAMP:20260421T112223
CREATED:20230815T011054Z
LAST-MODIFIED:20230815T011130Z
UID:10003174-1694079000-1694082600@hmono.org
SUMMARY:Basic Stretch & Strengthening (online)
DESCRIPTION:Join us in quick basic stretches that will strengthen your flexibility and muscles! Grab a chair\, water to stay hydrated\, and a stretch band if you have one! To sign-up visit hmono.org/services\, we hope to see you there!
URL:https://hmono.org/calendar/basic-stretch-strengthening/2023-09-07/
CATEGORIES:BS&SEC,Exercise
END:VEVENT
BEGIN:VEVENT
DTSTART;TZID=Pacific/Honolulu:20230912T093000
DTEND;TZID=Pacific/Honolulu:20230912T103000
DTSTAMP:20260421T112223
CREATED:20230815T011054Z
LAST-MODIFIED:20230815T011130Z
UID:10003175-1694511000-1694514600@hmono.org
SUMMARY:Basic Stretch & Strengthening (online)
DESCRIPTION:Join us in quick basic stretches that will strengthen your flexibility and muscles! Grab a chair\, water to stay hydrated\, and a stretch band if you have one! To sign-up visit hmono.org/services\, we hope to see you there!
URL:https://hmono.org/calendar/basic-stretch-strengthening/2023-09-12/
CATEGORIES:BS&SEC,Exercise
END:VEVENT
BEGIN:VEVENT
DTSTART;TZID=Pacific/Honolulu:20230914T093000
DTEND;TZID=Pacific/Honolulu:20230914T103000
DTSTAMP:20260421T112223
CREATED:20230815T011054Z
LAST-MODIFIED:20230815T011130Z
UID:10003176-1694683800-1694687400@hmono.org
SUMMARY:Basic Stretch & Strengthening (online)
DESCRIPTION:Join us in quick basic stretches that will strengthen your flexibility and muscles! Grab a chair\, water to stay hydrated\, and a stretch band if you have one! To sign-up visit hmono.org/services\, we hope to see you there!
URL:https://hmono.org/calendar/basic-stretch-strengthening/2023-09-14/
CATEGORIES:BS&SEC,Exercise
END:VEVENT
BEGIN:VEVENT
DTSTART;TZID=Pacific/Honolulu:20230926T093000
DTEND;TZID=Pacific/Honolulu:20230926T103000
DTSTAMP:20260421T112223
CREATED:20230815T011054Z
LAST-MODIFIED:20230815T011130Z
UID:10003179-1695720600-1695724200@hmono.org
SUMMARY:Basic Stretch & Strengthening (online)
DESCRIPTION:Join us in quick basic stretches that will strengthen your flexibility and muscles! Grab a chair\, water to stay hydrated\, and a stretch band if you have one! To sign-up visit hmono.org/services\, we hope to see you there!
URL:https://hmono.org/calendar/basic-stretch-strengthening/2023-09-26/
CATEGORIES:BS&SEC,Exercise
END:VEVENT
END:VCALENDAR