BEGIN:VCALENDAR
VERSION:2.0
PRODID:-//Hui Mālama Ola Nā ʻŌiwi - ECPv6.15.20//NONSGML v1.0//EN
CALSCALE:GREGORIAN
METHOD:PUBLISH
X-WR-CALNAME:Hui Mālama Ola Nā ʻŌiwi
X-ORIGINAL-URL:https://hmono.org
X-WR-CALDESC:Events for Hui Mālama Ola Nā ʻŌiwi
REFRESH-INTERVAL;VALUE=DURATION:PT1H
X-Robots-Tag:noindex
X-PUBLISHED-TTL:PT1H
BEGIN:VTIMEZONE
TZID:Pacific/Honolulu
BEGIN:STANDARD
TZOFFSETFROM:-1000
TZOFFSETTO:-1000
TZNAME:HST
DTSTART:20190101T000000
END:STANDARD
END:VTIMEZONE
BEGIN:VEVENT
DTSTART;TZID=Pacific/Honolulu:20200211T103000
DTEND;TZID=Pacific/Honolulu:20200211T113000
DTSTAMP:20260422T124553
CREATED:20191204T000611Z
LAST-MODIFIED:20191204T000611Z
UID:10000694-1581417000-1581420600@hmono.org
SUMMARY:BS&SEC Keaukaha 10:30am
DESCRIPTION:Join us for Basic Stretch & Strengthening Exercise Class (BS&SEC) in Keaukaha! This class has varied levels and is open to all ages and abilities. Call (808) 969-9220 for more info.
URL:https://hmono.org/calendar/bssec-keaukaha-1030am-61/2020-02-11/
LOCATION:Malia Puka O Kalani Church Gym\, 326 Desha Ave\, Hilo\, HI 96720\, Hilo\, United States
CATEGORIES:BS&SEC,Exercise
GEO:19.7296034;-155.0427974
X-APPLE-STRUCTURED-LOCATION;VALUE=URI;X-ADDRESS=Malia Puka O Kalani Church Gym 326 Desha Ave Hilo HI 96720 Hilo United States;X-APPLE-RADIUS=500;X-TITLE=326 Desha Ave\, Hilo\, HI 96720:geo:-155.0427974,19.7296034
END:VEVENT
BEGIN:VEVENT
DTSTART;TZID=Pacific/Honolulu:20200213T103000
DTEND;TZID=Pacific/Honolulu:20200213T113000
DTSTAMP:20260422T124553
CREATED:20191204T000611Z
LAST-MODIFIED:20200212T000558Z
UID:10002125-1581589800-1581593400@hmono.org
SUMMARY:BS&SEC Keaukaha CANCELLED
DESCRIPTION:This class in Keaukaha is cancelled on this day. Classes will continue as scheduled on Tuesday\, February 18. Call (808) 969-9220 for more info.
URL:https://hmono.org/calendar/bssec-keaukaha-1030am-61-2020-02-13/
LOCATION:Malia Puka O Kalani Church Gym\, 326 Desha Ave\, Hilo\, HI 96720\, Hilo\, United States
CATEGORIES:BS&SEC,Exercise
GEO:19.7296034;-155.0427974
X-APPLE-STRUCTURED-LOCATION;VALUE=URI;X-ADDRESS=Malia Puka O Kalani Church Gym 326 Desha Ave Hilo HI 96720 Hilo United States;X-APPLE-RADIUS=500;X-TITLE=326 Desha Ave\, Hilo\, HI 96720:geo:-155.0427974,19.7296034
END:VEVENT
END:VCALENDAR