BEGIN:VCALENDAR
VERSION:2.0
PRODID:-//Hui Mālama Ola Nā ʻŌiwi - ECPv6.15.20//NONSGML v1.0//EN
CALSCALE:GREGORIAN
METHOD:PUBLISH
X-WR-CALNAME:Hui Mālama Ola Nā ʻŌiwi
X-ORIGINAL-URL:https://hmono.org
X-WR-CALDESC:Events for Hui Mālama Ola Nā ʻŌiwi
REFRESH-INTERVAL;VALUE=DURATION:PT1H
X-Robots-Tag:noindex
X-PUBLISHED-TTL:PT1H
BEGIN:VTIMEZONE
TZID:Pacific/Honolulu
BEGIN:STANDARD
TZOFFSETFROM:-1000
TZOFFSETTO:-1000
TZNAME:HST
DTSTART:20270101T000000
END:STANDARD
END:VTIMEZONE
BEGIN:VEVENT
DTSTART;TZID=Pacific/Honolulu:20280502T170000
DTEND;TZID=Pacific/Honolulu:20280502T180000
DTSTAMP:20260419T154945
CREATED:20240725T224621Z
LAST-MODIFIED:20240725T230221Z
UID:10004185-1840899600-1840903200@hmono.org
SUMMARY:Yoga (online)
DESCRIPTION:Join us online for therapeutic yoga to get a gentle stretch and increase flexibility! Those with no computer access may call in via phone line. Visit hmono.org/services to sign up today for this online class!
URL:https://hmono.org/calendar/yoga-online-2-2-2/2028-05-02/
CATEGORIES:Exercise,Yoga
END:VEVENT
BEGIN:VEVENT
DTSTART;TZID=Pacific/Honolulu:20280504T170000
DTEND;TZID=Pacific/Honolulu:20280504T180000
DTSTAMP:20260419T154945
CREATED:20240725T224621Z
LAST-MODIFIED:20240725T230221Z
UID:10004186-1841072400-1841076000@hmono.org
SUMMARY:Yoga (online)
DESCRIPTION:Join us online for therapeutic yoga to get a gentle stretch and increase flexibility! Those with no computer access may call in via phone line. Visit hmono.org/services to sign up today for this online class!
URL:https://hmono.org/calendar/yoga-online-2-2-2/2028-05-04/
CATEGORIES:Exercise,Yoga
END:VEVENT
BEGIN:VEVENT
DTSTART;TZID=Pacific/Honolulu:20280509T170000
DTEND;TZID=Pacific/Honolulu:20280509T180000
DTSTAMP:20260419T154945
CREATED:20240725T224621Z
LAST-MODIFIED:20240725T230221Z
UID:10004187-1841504400-1841508000@hmono.org
SUMMARY:Yoga (online)
DESCRIPTION:Join us online for therapeutic yoga to get a gentle stretch and increase flexibility! Those with no computer access may call in via phone line. Visit hmono.org/services to sign up today for this online class!
URL:https://hmono.org/calendar/yoga-online-2-2-2/2028-05-09/
CATEGORIES:Exercise,Yoga
END:VEVENT
BEGIN:VEVENT
DTSTART;TZID=Pacific/Honolulu:20280511T170000
DTEND;TZID=Pacific/Honolulu:20280511T180000
DTSTAMP:20260419T154945
CREATED:20240725T224621Z
LAST-MODIFIED:20240725T230221Z
UID:10004188-1841677200-1841680800@hmono.org
SUMMARY:Yoga (online)
DESCRIPTION:Join us online for therapeutic yoga to get a gentle stretch and increase flexibility! Those with no computer access may call in via phone line. Visit hmono.org/services to sign up today for this online class!
URL:https://hmono.org/calendar/yoga-online-2-2-2/2028-05-11/
CATEGORIES:Exercise,Yoga
END:VEVENT
BEGIN:VEVENT
DTSTART;TZID=Pacific/Honolulu:20280516T170000
DTEND;TZID=Pacific/Honolulu:20280516T180000
DTSTAMP:20260419T154945
CREATED:20240725T224621Z
LAST-MODIFIED:20240725T230221Z
UID:10004189-1842109200-1842112800@hmono.org
SUMMARY:Yoga (online)
DESCRIPTION:Join us online for therapeutic yoga to get a gentle stretch and increase flexibility! Those with no computer access may call in via phone line. Visit hmono.org/services to sign up today for this online class!
URL:https://hmono.org/calendar/yoga-online-2-2-2/2028-05-16/
CATEGORIES:Exercise,Yoga
END:VEVENT
BEGIN:VEVENT
DTSTART;TZID=Pacific/Honolulu:20280518T170000
DTEND;TZID=Pacific/Honolulu:20280518T180000
DTSTAMP:20260419T154945
CREATED:20240725T224621Z
LAST-MODIFIED:20240725T230221Z
UID:10004190-1842282000-1842285600@hmono.org
SUMMARY:Yoga (online)
DESCRIPTION:Join us online for therapeutic yoga to get a gentle stretch and increase flexibility! Those with no computer access may call in via phone line. Visit hmono.org/services to sign up today for this online class!
URL:https://hmono.org/calendar/yoga-online-2-2-2/2028-05-18/
CATEGORIES:Exercise,Yoga
END:VEVENT
BEGIN:VEVENT
DTSTART;TZID=Pacific/Honolulu:20280523T170000
DTEND;TZID=Pacific/Honolulu:20280523T180000
DTSTAMP:20260419T154945
CREATED:20240725T224621Z
LAST-MODIFIED:20240725T230221Z
UID:10004191-1842714000-1842717600@hmono.org
SUMMARY:Yoga (online)
DESCRIPTION:Join us online for therapeutic yoga to get a gentle stretch and increase flexibility! Those with no computer access may call in via phone line. Visit hmono.org/services to sign up today for this online class!
URL:https://hmono.org/calendar/yoga-online-2-2-2/2028-05-23/
CATEGORIES:Exercise,Yoga
END:VEVENT
BEGIN:VEVENT
DTSTART;TZID=Pacific/Honolulu:20280525T170000
DTEND;TZID=Pacific/Honolulu:20280525T180000
DTSTAMP:20260419T154945
CREATED:20240725T224621Z
LAST-MODIFIED:20240725T230221Z
UID:10004192-1842886800-1842890400@hmono.org
SUMMARY:Yoga (online)
DESCRIPTION:Join us online for therapeutic yoga to get a gentle stretch and increase flexibility! Those with no computer access may call in via phone line. Visit hmono.org/services to sign up today for this online class!
URL:https://hmono.org/calendar/yoga-online-2-2-2/2028-05-25/
CATEGORIES:Exercise,Yoga
END:VEVENT
BEGIN:VEVENT
DTSTART;TZID=Pacific/Honolulu:20280530T170000
DTEND;TZID=Pacific/Honolulu:20280530T180000
DTSTAMP:20260419T154945
CREATED:20240725T224621Z
LAST-MODIFIED:20240725T230221Z
UID:10004193-1843318800-1843322400@hmono.org
SUMMARY:Yoga (online)
DESCRIPTION:Join us online for therapeutic yoga to get a gentle stretch and increase flexibility! Those with no computer access may call in via phone line. Visit hmono.org/services to sign up today for this online class!
URL:https://hmono.org/calendar/yoga-online-2-2-2/2028-05-30/
CATEGORIES:Exercise,Yoga
END:VEVENT
END:VCALENDAR