BEGIN:VCALENDAR
VERSION:2.0
PRODID:-//Hui Mālama Ola Nā ʻŌiwi - ECPv6.15.20//NONSGML v1.0//EN
CALSCALE:GREGORIAN
METHOD:PUBLISH
X-ORIGINAL-URL:https://hmono.org
X-WR-CALDESC:Events for Hui Mālama Ola Nā ʻŌiwi
REFRESH-INTERVAL;VALUE=DURATION:PT1H
X-Robots-Tag:noindex
X-PUBLISHED-TTL:PT1H
BEGIN:VTIMEZONE
TZID:Pacific/Honolulu
BEGIN:STANDARD
TZOFFSETFROM:-1000
TZOFFSETTO:-1000
TZNAME:HST
DTSTART:20270101T000000
END:STANDARD
END:VTIMEZONE
BEGIN:VEVENT
DTSTART;TZID=Pacific/Honolulu:20280601T170000
DTEND;TZID=Pacific/Honolulu:20280601T180000
DTSTAMP:20260419T215950
CREATED:20240725T224621Z
LAST-MODIFIED:20240725T230221Z
UID:10004194-1843491600-1843495200@hmono.org
SUMMARY:Yoga (online)
DESCRIPTION:Join us online for therapeutic yoga to get a gentle stretch and increase flexibility! Those with no computer access may call in via phone line. Visit hmono.org/services to sign up today for this online class!
URL:https://hmono.org/calendar/yoga-online-2-2-2/2028-06-01/
CATEGORIES:Exercise,Yoga
END:VEVENT
BEGIN:VEVENT
DTSTART;TZID=Pacific/Honolulu:20280606T170000
DTEND;TZID=Pacific/Honolulu:20280606T180000
DTSTAMP:20260419T215950
CREATED:20240725T224621Z
LAST-MODIFIED:20240725T230221Z
UID:10004195-1843923600-1843927200@hmono.org
SUMMARY:Yoga (online)
DESCRIPTION:Join us online for therapeutic yoga to get a gentle stretch and increase flexibility! Those with no computer access may call in via phone line. Visit hmono.org/services to sign up today for this online class!
URL:https://hmono.org/calendar/yoga-online-2-2-2/2028-06-06/
CATEGORIES:Exercise,Yoga
END:VEVENT
BEGIN:VEVENT
DTSTART;TZID=Pacific/Honolulu:20280608T170000
DTEND;TZID=Pacific/Honolulu:20280608T180000
DTSTAMP:20260419T215950
CREATED:20240725T224621Z
LAST-MODIFIED:20240725T230221Z
UID:10004196-1844096400-1844100000@hmono.org
SUMMARY:Yoga (online)
DESCRIPTION:Join us online for therapeutic yoga to get a gentle stretch and increase flexibility! Those with no computer access may call in via phone line. Visit hmono.org/services to sign up today for this online class!
URL:https://hmono.org/calendar/yoga-online-2-2-2/2028-06-08/
CATEGORIES:Exercise,Yoga
END:VEVENT
BEGIN:VEVENT
DTSTART;TZID=Pacific/Honolulu:20280613T170000
DTEND;TZID=Pacific/Honolulu:20280613T180000
DTSTAMP:20260419T215950
CREATED:20240725T224621Z
LAST-MODIFIED:20240725T230221Z
UID:10004197-1844528400-1844532000@hmono.org
SUMMARY:Yoga (online)
DESCRIPTION:Join us online for therapeutic yoga to get a gentle stretch and increase flexibility! Those with no computer access may call in via phone line. Visit hmono.org/services to sign up today for this online class!
URL:https://hmono.org/calendar/yoga-online-2-2-2/2028-06-13/
CATEGORIES:Exercise,Yoga
END:VEVENT
BEGIN:VEVENT
DTSTART;TZID=Pacific/Honolulu:20280615T170000
DTEND;TZID=Pacific/Honolulu:20280615T180000
DTSTAMP:20260419T215950
CREATED:20240725T224621Z
LAST-MODIFIED:20240725T230221Z
UID:10004198-1844701200-1844704800@hmono.org
SUMMARY:Yoga (online)
DESCRIPTION:Join us online for therapeutic yoga to get a gentle stretch and increase flexibility! Those with no computer access may call in via phone line. Visit hmono.org/services to sign up today for this online class!
URL:https://hmono.org/calendar/yoga-online-2-2-2/2028-06-15/
CATEGORIES:Exercise,Yoga
END:VEVENT
BEGIN:VEVENT
DTSTART;TZID=Pacific/Honolulu:20280620T170000
DTEND;TZID=Pacific/Honolulu:20280620T180000
DTSTAMP:20260419T215950
CREATED:20240725T224621Z
LAST-MODIFIED:20240725T230221Z
UID:10004199-1845133200-1845136800@hmono.org
SUMMARY:Yoga (online)
DESCRIPTION:Join us online for therapeutic yoga to get a gentle stretch and increase flexibility! Those with no computer access may call in via phone line. Visit hmono.org/services to sign up today for this online class!
URL:https://hmono.org/calendar/yoga-online-2-2-2/2028-06-20/
CATEGORIES:Exercise,Yoga
END:VEVENT
BEGIN:VEVENT
DTSTART;TZID=Pacific/Honolulu:20280622T170000
DTEND;TZID=Pacific/Honolulu:20280622T180000
DTSTAMP:20260419T215950
CREATED:20240725T224621Z
LAST-MODIFIED:20240725T230221Z
UID:10004200-1845306000-1845309600@hmono.org
SUMMARY:Yoga (online)
DESCRIPTION:Join us online for therapeutic yoga to get a gentle stretch and increase flexibility! Those with no computer access may call in via phone line. Visit hmono.org/services to sign up today for this online class!
URL:https://hmono.org/calendar/yoga-online-2-2-2/2028-06-22/
CATEGORIES:Exercise,Yoga
END:VEVENT
BEGIN:VEVENT
DTSTART;TZID=Pacific/Honolulu:20280627T170000
DTEND;TZID=Pacific/Honolulu:20280627T180000
DTSTAMP:20260419T215950
CREATED:20240725T224621Z
LAST-MODIFIED:20240725T230221Z
UID:10004201-1845738000-1845741600@hmono.org
SUMMARY:Yoga (online)
DESCRIPTION:Join us online for therapeutic yoga to get a gentle stretch and increase flexibility! Those with no computer access may call in via phone line. Visit hmono.org/services to sign up today for this online class!
URL:https://hmono.org/calendar/yoga-online-2-2-2/2028-06-27/
CATEGORIES:Exercise,Yoga
END:VEVENT
BEGIN:VEVENT
DTSTART;TZID=Pacific/Honolulu:20280629T170000
DTEND;TZID=Pacific/Honolulu:20280629T180000
DTSTAMP:20260419T215950
CREATED:20240725T224621Z
LAST-MODIFIED:20240725T230221Z
UID:10004202-1845910800-1845914400@hmono.org
SUMMARY:Yoga (online)
DESCRIPTION:Join us online for therapeutic yoga to get a gentle stretch and increase flexibility! Those with no computer access may call in via phone line. Visit hmono.org/services to sign up today for this online class!
URL:https://hmono.org/calendar/yoga-online-2-2-2/2028-06-29/
CATEGORIES:Exercise,Yoga
END:VEVENT
END:VCALENDAR