BEGIN:VCALENDAR
VERSION:2.0
PRODID:-//Hui Mālama Ola Nā ʻŌiwi - ECPv6.15.20//NONSGML v1.0//EN
CALSCALE:GREGORIAN
METHOD:PUBLISH
X-WR-CALNAME:Hui Mālama Ola Nā ʻŌiwi
X-ORIGINAL-URL:https://hmono.org
X-WR-CALDESC:Events for Hui Mālama Ola Nā ʻŌiwi
REFRESH-INTERVAL;VALUE=DURATION:PT1H
X-Robots-Tag:noindex
X-PUBLISHED-TTL:PT1H
BEGIN:VTIMEZONE
TZID:Pacific/Honolulu
BEGIN:STANDARD
TZOFFSETFROM:-1000
TZOFFSETTO:-1000
TZNAME:HST
DTSTART:20180101T000000
END:STANDARD
END:VTIMEZONE
BEGIN:VEVENT
DTSTART;TZID=Pacific/Honolulu:20190625T170000
DTEND;TZID=Pacific/Honolulu:20190625T180000
DTSTAMP:20260421T143315
CREATED:20190320T020002Z
LAST-MODIFIED:20190620T005641Z
UID:10001714-1561482000-1561485600@hmono.org
SUMMARY:Therapeutic Yoga Keaukaha 5:00pm
DESCRIPTION:Join us for yoga to get a gentle stretch and increase flexibility! Call (808) 969-9220 for more info.
URL:https://hmono.org/calendar/therapeutic-yoga/2019-06-25/
LOCATION:Malia Puka O Kalani Church Gym\, 326 Desha Ave\, Hilo\, HI 96720\, Hilo\, United States
CATEGORIES:Exercise,Yoga
GEO:19.7296034;-155.0427974
X-APPLE-STRUCTURED-LOCATION;VALUE=URI;X-ADDRESS=Malia Puka O Kalani Church Gym 326 Desha Ave Hilo HI 96720 Hilo United States;X-APPLE-RADIUS=500;X-TITLE=326 Desha Ave\, Hilo\, HI 96720:geo:-155.0427974,19.7296034
END:VEVENT
BEGIN:VEVENT
DTSTART;TZID=Pacific/Honolulu:20190627T170000
DTEND;TZID=Pacific/Honolulu:20190627T180000
DTSTAMP:20260421T143315
CREATED:20190320T020002Z
LAST-MODIFIED:20190620T005641Z
UID:10001715-1561654800-1561658400@hmono.org
SUMMARY:Therapeutic Yoga Keaukaha 5:00pm
DESCRIPTION:Join us for yoga to get a gentle stretch and increase flexibility! Call (808) 969-9220 for more info.
URL:https://hmono.org/calendar/therapeutic-yoga/2019-06-27/
LOCATION:Malia Puka O Kalani Church Gym\, 326 Desha Ave\, Hilo\, HI 96720\, Hilo\, United States
CATEGORIES:Exercise,Yoga
GEO:19.7296034;-155.0427974
X-APPLE-STRUCTURED-LOCATION;VALUE=URI;X-ADDRESS=Malia Puka O Kalani Church Gym 326 Desha Ave Hilo HI 96720 Hilo United States;X-APPLE-RADIUS=500;X-TITLE=326 Desha Ave\, Hilo\, HI 96720:geo:-155.0427974,19.7296034
END:VEVENT
BEGIN:VEVENT
DTSTART;TZID=Pacific/Honolulu:20190702T170000
DTEND;TZID=Pacific/Honolulu:20190702T180000
DTSTAMP:20260421T143315
CREATED:20190320T020002Z
LAST-MODIFIED:20190620T005641Z
UID:10001716-1562086800-1562090400@hmono.org
SUMMARY:Therapeutic Yoga Keaukaha 5:00pm
DESCRIPTION:Join us for yoga to get a gentle stretch and increase flexibility! Call (808) 969-9220 for more info.
URL:https://hmono.org/calendar/therapeutic-yoga/2019-07-02/
LOCATION:Malia Puka O Kalani Church Gym\, 326 Desha Ave\, Hilo\, HI 96720\, Hilo\, United States
CATEGORIES:Exercise,Yoga
GEO:19.7296034;-155.0427974
X-APPLE-STRUCTURED-LOCATION;VALUE=URI;X-ADDRESS=Malia Puka O Kalani Church Gym 326 Desha Ave Hilo HI 96720 Hilo United States;X-APPLE-RADIUS=500;X-TITLE=326 Desha Ave\, Hilo\, HI 96720:geo:-155.0427974,19.7296034
END:VEVENT
BEGIN:VEVENT
DTSTART;TZID=Pacific/Honolulu:20190709T170000
DTEND;TZID=Pacific/Honolulu:20190709T180000
DTSTAMP:20260421T143315
CREATED:20190320T020002Z
LAST-MODIFIED:20190620T005641Z
UID:10001717-1562691600-1562695200@hmono.org
SUMMARY:Therapeutic Yoga Keaukaha 5:00pm
DESCRIPTION:Join us for yoga to get a gentle stretch and increase flexibility! Call (808) 969-9220 for more info.
URL:https://hmono.org/calendar/therapeutic-yoga/2019-07-09/
LOCATION:Malia Puka O Kalani Church Gym\, 326 Desha Ave\, Hilo\, HI 96720\, Hilo\, United States
CATEGORIES:Exercise,Yoga
GEO:19.7296034;-155.0427974
X-APPLE-STRUCTURED-LOCATION;VALUE=URI;X-ADDRESS=Malia Puka O Kalani Church Gym 326 Desha Ave Hilo HI 96720 Hilo United States;X-APPLE-RADIUS=500;X-TITLE=326 Desha Ave\, Hilo\, HI 96720:geo:-155.0427974,19.7296034
END:VEVENT
BEGIN:VEVENT
DTSTART;TZID=Pacific/Honolulu:20190711T170000
DTEND;TZID=Pacific/Honolulu:20190711T180000
DTSTAMP:20260421T143315
CREATED:20190320T020002Z
LAST-MODIFIED:20190620T005641Z
UID:10001718-1562864400-1562868000@hmono.org
SUMMARY:Therapeutic Yoga Keaukaha 5:00pm
DESCRIPTION:Join us for yoga to get a gentle stretch and increase flexibility! Call (808) 969-9220 for more info.
URL:https://hmono.org/calendar/therapeutic-yoga/2019-07-11/
LOCATION:Malia Puka O Kalani Church Gym\, 326 Desha Ave\, Hilo\, HI 96720\, Hilo\, United States
CATEGORIES:Exercise,Yoga
GEO:19.7296034;-155.0427974
X-APPLE-STRUCTURED-LOCATION;VALUE=URI;X-ADDRESS=Malia Puka O Kalani Church Gym 326 Desha Ave Hilo HI 96720 Hilo United States;X-APPLE-RADIUS=500;X-TITLE=326 Desha Ave\, Hilo\, HI 96720:geo:-155.0427974,19.7296034
END:VEVENT
BEGIN:VEVENT
DTSTART;TZID=Pacific/Honolulu:20190716T170000
DTEND;TZID=Pacific/Honolulu:20190716T180000
DTSTAMP:20260421T143315
CREATED:20190320T020002Z
LAST-MODIFIED:20190705T193723Z
UID:10001772-1563296400-1563300000@hmono.org
SUMMARY:Therapeutic Yoga Keaukaha 5:00pm
DESCRIPTION:Join us for yoga to get a gentle stretch and increase flexibility! Call (808) 969-9220 for more info.
URL:https://hmono.org/calendar/therapeutic-yoga-2019-07-16/
LOCATION:Malia Puka O Kalani Church Gym\, 326 Desha Ave\, Hilo\, HI 96720\, Hilo\, United States
CATEGORIES:Exercise,Yoga
GEO:19.7296034;-155.0427974
X-APPLE-STRUCTURED-LOCATION;VALUE=URI;X-ADDRESS=Malia Puka O Kalani Church Gym 326 Desha Ave Hilo HI 96720 Hilo United States;X-APPLE-RADIUS=500;X-TITLE=326 Desha Ave\, Hilo\, HI 96720:geo:-155.0427974,19.7296034
END:VEVENT
BEGIN:VEVENT
DTSTART;TZID=Pacific/Honolulu:20190718T170000
DTEND;TZID=Pacific/Honolulu:20190718T180000
DTSTAMP:20260421T143315
CREATED:20190320T020002Z
LAST-MODIFIED:20190620T005641Z
UID:10001719-1563469200-1563472800@hmono.org
SUMMARY:Therapeutic Yoga Keaukaha 5:00pm
DESCRIPTION:Join us for yoga to get a gentle stretch and increase flexibility! Call (808) 969-9220 for more info.
URL:https://hmono.org/calendar/therapeutic-yoga/2019-07-18/
LOCATION:Malia Puka O Kalani Church Gym\, 326 Desha Ave\, Hilo\, HI 96720\, Hilo\, United States
CATEGORIES:Exercise,Yoga
GEO:19.7296034;-155.0427974
X-APPLE-STRUCTURED-LOCATION;VALUE=URI;X-ADDRESS=Malia Puka O Kalani Church Gym 326 Desha Ave Hilo HI 96720 Hilo United States;X-APPLE-RADIUS=500;X-TITLE=326 Desha Ave\, Hilo\, HI 96720:geo:-155.0427974,19.7296034
END:VEVENT
BEGIN:VEVENT
DTSTART;TZID=Pacific/Honolulu:20190723T170000
DTEND;TZID=Pacific/Honolulu:20190723T180000
DTSTAMP:20260421T143315
CREATED:20190320T020002Z
LAST-MODIFIED:20190709T200724Z
UID:10001805-1563901200-1563904800@hmono.org
SUMMARY:Therapeutic Yoga Keaukaha 5:00pm
DESCRIPTION:Join us for yoga to get a gentle stretch and increase flexibility! Call (808) 969-9220 for more info.
URL:https://hmono.org/calendar/therapeutic-yoga-2019-07-23/
LOCATION:Malia Puka O Kalani Church Gym\, 326 Desha Ave\, Hilo\, HI 96720\, Hilo\, United States
CATEGORIES:Exercise,Yoga
GEO:19.7296034;-155.0427974
X-APPLE-STRUCTURED-LOCATION;VALUE=URI;X-ADDRESS=Malia Puka O Kalani Church Gym 326 Desha Ave Hilo HI 96720 Hilo United States;X-APPLE-RADIUS=500;X-TITLE=326 Desha Ave\, Hilo\, HI 96720:geo:-155.0427974,19.7296034
END:VEVENT
BEGIN:VEVENT
DTSTART;TZID=Pacific/Honolulu:20190725T170000
DTEND;TZID=Pacific/Honolulu:20190725T180000
DTSTAMP:20260421T143315
CREATED:20190320T020002Z
LAST-MODIFIED:20190720T022947Z
UID:10001727-1564074000-1564077600@hmono.org
SUMMARY:Therapeutic Yoga Keaukaha 5:00pm
DESCRIPTION:Join us for yoga to get a gentle stretch and increase flexibility! Call (808) 969-9220 for more info.
URL:https://hmono.org/calendar/therapeutic-yoga-2019-07-25/2019-07-25/
LOCATION:Malia Puka O Kalani Church Gym\, 326 Desha Ave\, Hilo\, HI 96720\, Hilo\, United States
CATEGORIES:Exercise,Yoga
GEO:19.7296034;-155.0427974
X-APPLE-STRUCTURED-LOCATION;VALUE=URI;X-ADDRESS=Malia Puka O Kalani Church Gym 326 Desha Ave Hilo HI 96720 Hilo United States;X-APPLE-RADIUS=500;X-TITLE=326 Desha Ave\, Hilo\, HI 96720:geo:-155.0427974,19.7296034
END:VEVENT
BEGIN:VEVENT
DTSTART;TZID=Pacific/Honolulu:20190730T170000
DTEND;TZID=Pacific/Honolulu:20190730T180000
DTSTAMP:20260421T143315
CREATED:20190320T020002Z
LAST-MODIFIED:20190720T022947Z
UID:10001728-1564506000-1564509600@hmono.org
SUMMARY:Therapeutic Yoga Keaukaha 5:00pm
DESCRIPTION:Join us for yoga to get a gentle stretch and increase flexibility! Call (808) 969-9220 for more info.
URL:https://hmono.org/calendar/therapeutic-yoga-2019-07-25/2019-07-30/
LOCATION:Malia Puka O Kalani Church Gym\, 326 Desha Ave\, Hilo\, HI 96720\, Hilo\, United States
CATEGORIES:Exercise,Yoga
GEO:19.7296034;-155.0427974
X-APPLE-STRUCTURED-LOCATION;VALUE=URI;X-ADDRESS=Malia Puka O Kalani Church Gym 326 Desha Ave Hilo HI 96720 Hilo United States;X-APPLE-RADIUS=500;X-TITLE=326 Desha Ave\, Hilo\, HI 96720:geo:-155.0427974,19.7296034
END:VEVENT
BEGIN:VEVENT
DTSTART;TZID=Pacific/Honolulu:20190730T170000
DTEND;TZID=Pacific/Honolulu:20190730T180000
DTSTAMP:20260421T143315
CREATED:20190320T020002Z
LAST-MODIFIED:20190709T200259Z
UID:10001722-1564506000-1564509600@hmono.org
SUMMARY:Therapeutic Yoga Keaukaha CANCELLED
DESCRIPTION:This class in Keaukaha has been cancelled for this date. No other classes are affected. Mahalo for your patience. Call (808) 969-9220 for more info.
URL:https://hmono.org/calendar/therapeutic-yoga-2019-07-30/
LOCATION:Malia Puka O Kalani Church Gym\, 326 Desha Ave\, Hilo\, HI 96720\, Hilo\, United States
CATEGORIES:Exercise,Yoga
GEO:19.7296034;-155.0427974
X-APPLE-STRUCTURED-LOCATION;VALUE=URI;X-ADDRESS=Malia Puka O Kalani Church Gym 326 Desha Ave Hilo HI 96720 Hilo United States;X-APPLE-RADIUS=500;X-TITLE=326 Desha Ave\, Hilo\, HI 96720:geo:-155.0427974,19.7296034
END:VEVENT
BEGIN:VEVENT
DTSTART;TZID=Pacific/Honolulu:20190801T170000
DTEND;TZID=Pacific/Honolulu:20190801T180000
DTSTAMP:20260421T143315
CREATED:20190320T020002Z
LAST-MODIFIED:20190720T022947Z
UID:10001729-1564678800-1564682400@hmono.org
SUMMARY:Therapeutic Yoga Keaukaha 5:00pm
DESCRIPTION:Join us for yoga to get a gentle stretch and increase flexibility! Call (808) 969-9220 for more info.
URL:https://hmono.org/calendar/therapeutic-yoga-2019-07-25/2019-08-01/
LOCATION:Malia Puka O Kalani Church Gym\, 326 Desha Ave\, Hilo\, HI 96720\, Hilo\, United States
CATEGORIES:Exercise,Yoga
GEO:19.7296034;-155.0427974
X-APPLE-STRUCTURED-LOCATION;VALUE=URI;X-ADDRESS=Malia Puka O Kalani Church Gym 326 Desha Ave Hilo HI 96720 Hilo United States;X-APPLE-RADIUS=500;X-TITLE=326 Desha Ave\, Hilo\, HI 96720:geo:-155.0427974,19.7296034
END:VEVENT
BEGIN:VEVENT
DTSTART;TZID=Pacific/Honolulu:20190806T170000
DTEND;TZID=Pacific/Honolulu:20190806T180000
DTSTAMP:20260421T143315
CREATED:20190320T020002Z
LAST-MODIFIED:20190720T022947Z
UID:10001730-1565110800-1565114400@hmono.org
SUMMARY:Therapeutic Yoga Keaukaha 5:00pm
DESCRIPTION:Join us for yoga to get a gentle stretch and increase flexibility! Call (808) 969-9220 for more info.
URL:https://hmono.org/calendar/therapeutic-yoga-2019-07-25/2019-08-06/
LOCATION:Malia Puka O Kalani Church Gym\, 326 Desha Ave\, Hilo\, HI 96720\, Hilo\, United States
CATEGORIES:Exercise,Yoga
GEO:19.7296034;-155.0427974
X-APPLE-STRUCTURED-LOCATION;VALUE=URI;X-ADDRESS=Malia Puka O Kalani Church Gym 326 Desha Ave Hilo HI 96720 Hilo United States;X-APPLE-RADIUS=500;X-TITLE=326 Desha Ave\, Hilo\, HI 96720:geo:-155.0427974,19.7296034
END:VEVENT
BEGIN:VEVENT
DTSTART;TZID=Pacific/Honolulu:20190808T170000
DTEND;TZID=Pacific/Honolulu:20190808T180000
DTSTAMP:20260421T143315
CREATED:20190320T020002Z
LAST-MODIFIED:20190720T022947Z
UID:10001731-1565283600-1565287200@hmono.org
SUMMARY:Therapeutic Yoga Keaukaha 5:00pm
DESCRIPTION:Join us for yoga to get a gentle stretch and increase flexibility! Call (808) 969-9220 for more info.
URL:https://hmono.org/calendar/therapeutic-yoga-2019-07-25/2019-08-08/
LOCATION:Malia Puka O Kalani Church Gym\, 326 Desha Ave\, Hilo\, HI 96720\, Hilo\, United States
CATEGORIES:Exercise,Yoga
GEO:19.7296034;-155.0427974
X-APPLE-STRUCTURED-LOCATION;VALUE=URI;X-ADDRESS=Malia Puka O Kalani Church Gym 326 Desha Ave Hilo HI 96720 Hilo United States;X-APPLE-RADIUS=500;X-TITLE=326 Desha Ave\, Hilo\, HI 96720:geo:-155.0427974,19.7296034
END:VEVENT
BEGIN:VEVENT
DTSTART;TZID=Pacific/Honolulu:20190813T170000
DTEND;TZID=Pacific/Honolulu:20190813T180000
DTSTAMP:20260421T143315
CREATED:20190320T020002Z
LAST-MODIFIED:20190720T022947Z
UID:10001732-1565715600-1565719200@hmono.org
SUMMARY:Therapeutic Yoga Keaukaha 5:00pm
DESCRIPTION:Join us for yoga to get a gentle stretch and increase flexibility! Call (808) 969-9220 for more info.
URL:https://hmono.org/calendar/therapeutic-yoga-2019-07-25/2019-08-13/
LOCATION:Malia Puka O Kalani Church Gym\, 326 Desha Ave\, Hilo\, HI 96720\, Hilo\, United States
CATEGORIES:Exercise,Yoga
GEO:19.7296034;-155.0427974
X-APPLE-STRUCTURED-LOCATION;VALUE=URI;X-ADDRESS=Malia Puka O Kalani Church Gym 326 Desha Ave Hilo HI 96720 Hilo United States;X-APPLE-RADIUS=500;X-TITLE=326 Desha Ave\, Hilo\, HI 96720:geo:-155.0427974,19.7296034
END:VEVENT
BEGIN:VEVENT
DTSTART;TZID=Pacific/Honolulu:20190815T170000
DTEND;TZID=Pacific/Honolulu:20190815T180000
DTSTAMP:20260421T143315
CREATED:20190320T020002Z
LAST-MODIFIED:20190720T022947Z
UID:10001733-1565888400-1565892000@hmono.org
SUMMARY:Therapeutic Yoga Keaukaha 5:00pm
DESCRIPTION:Join us for yoga to get a gentle stretch and increase flexibility! Call (808) 969-9220 for more info.
URL:https://hmono.org/calendar/therapeutic-yoga-2019-07-25/2019-08-15/
LOCATION:Malia Puka O Kalani Church Gym\, 326 Desha Ave\, Hilo\, HI 96720\, Hilo\, United States
CATEGORIES:Exercise,Yoga
GEO:19.7296034;-155.0427974
X-APPLE-STRUCTURED-LOCATION;VALUE=URI;X-ADDRESS=Malia Puka O Kalani Church Gym 326 Desha Ave Hilo HI 96720 Hilo United States;X-APPLE-RADIUS=500;X-TITLE=326 Desha Ave\, Hilo\, HI 96720:geo:-155.0427974,19.7296034
END:VEVENT
BEGIN:VEVENT
DTSTART;TZID=Pacific/Honolulu:20190820T170000
DTEND;TZID=Pacific/Honolulu:20190820T180000
DTSTAMP:20260421T143315
CREATED:20190320T020002Z
LAST-MODIFIED:20190720T022947Z
UID:10001734-1566320400-1566324000@hmono.org
SUMMARY:Therapeutic Yoga Keaukaha 5:00pm
DESCRIPTION:Join us for yoga to get a gentle stretch and increase flexibility! Call (808) 969-9220 for more info.
URL:https://hmono.org/calendar/therapeutic-yoga-2019-07-25/2019-08-20/
LOCATION:Malia Puka O Kalani Church Gym\, 326 Desha Ave\, Hilo\, HI 96720\, Hilo\, United States
CATEGORIES:Exercise,Yoga
GEO:19.7296034;-155.0427974
X-APPLE-STRUCTURED-LOCATION;VALUE=URI;X-ADDRESS=Malia Puka O Kalani Church Gym 326 Desha Ave Hilo HI 96720 Hilo United States;X-APPLE-RADIUS=500;X-TITLE=326 Desha Ave\, Hilo\, HI 96720:geo:-155.0427974,19.7296034
END:VEVENT
BEGIN:VEVENT
DTSTART;TZID=Pacific/Honolulu:20190822T170000
DTEND;TZID=Pacific/Honolulu:20190822T180000
DTSTAMP:20260421T143315
CREATED:20190320T020002Z
LAST-MODIFIED:20190720T022947Z
UID:10001735-1566493200-1566496800@hmono.org
SUMMARY:Therapeutic Yoga Keaukaha 5:00pm
DESCRIPTION:Join us for yoga to get a gentle stretch and increase flexibility! Call (808) 969-9220 for more info.
URL:https://hmono.org/calendar/therapeutic-yoga-2019-07-25/2019-08-22/
LOCATION:Malia Puka O Kalani Church Gym\, 326 Desha Ave\, Hilo\, HI 96720\, Hilo\, United States
CATEGORIES:Exercise,Yoga
GEO:19.7296034;-155.0427974
X-APPLE-STRUCTURED-LOCATION;VALUE=URI;X-ADDRESS=Malia Puka O Kalani Church Gym 326 Desha Ave Hilo HI 96720 Hilo United States;X-APPLE-RADIUS=500;X-TITLE=326 Desha Ave\, Hilo\, HI 96720:geo:-155.0427974,19.7296034
END:VEVENT
BEGIN:VEVENT
DTSTART;TZID=Pacific/Honolulu:20190827T170000
DTEND;TZID=Pacific/Honolulu:20190827T180000
DTSTAMP:20260421T143315
CREATED:20190320T020002Z
LAST-MODIFIED:20190720T022947Z
UID:10001736-1566925200-1566928800@hmono.org
SUMMARY:Therapeutic Yoga Keaukaha 5:00pm
DESCRIPTION:Join us for yoga to get a gentle stretch and increase flexibility! Call (808) 969-9220 for more info.
URL:https://hmono.org/calendar/therapeutic-yoga-2019-07-25/2019-08-27/
LOCATION:Malia Puka O Kalani Church Gym\, 326 Desha Ave\, Hilo\, HI 96720\, Hilo\, United States
CATEGORIES:Exercise,Yoga
GEO:19.7296034;-155.0427974
X-APPLE-STRUCTURED-LOCATION;VALUE=URI;X-ADDRESS=Malia Puka O Kalani Church Gym 326 Desha Ave Hilo HI 96720 Hilo United States;X-APPLE-RADIUS=500;X-TITLE=326 Desha Ave\, Hilo\, HI 96720:geo:-155.0427974,19.7296034
END:VEVENT
BEGIN:VEVENT
DTSTART;TZID=Pacific/Honolulu:20190829T170000
DTEND;TZID=Pacific/Honolulu:20190829T180000
DTSTAMP:20260421T143315
CREATED:20190320T020002Z
LAST-MODIFIED:20190720T022947Z
UID:10001737-1567098000-1567101600@hmono.org
SUMMARY:Therapeutic Yoga Keaukaha 5:00pm
DESCRIPTION:Join us for yoga to get a gentle stretch and increase flexibility! Call (808) 969-9220 for more info.
URL:https://hmono.org/calendar/therapeutic-yoga-2019-07-25/2019-08-29/
LOCATION:Malia Puka O Kalani Church Gym\, 326 Desha Ave\, Hilo\, HI 96720\, Hilo\, United States
CATEGORIES:Exercise,Yoga
GEO:19.7296034;-155.0427974
X-APPLE-STRUCTURED-LOCATION;VALUE=URI;X-ADDRESS=Malia Puka O Kalani Church Gym 326 Desha Ave Hilo HI 96720 Hilo United States;X-APPLE-RADIUS=500;X-TITLE=326 Desha Ave\, Hilo\, HI 96720:geo:-155.0427974,19.7296034
END:VEVENT
BEGIN:VEVENT
DTSTART;TZID=Pacific/Honolulu:20190903T170000
DTEND;TZID=Pacific/Honolulu:20190903T180000
DTSTAMP:20260421T143315
CREATED:20190320T020002Z
LAST-MODIFIED:20190720T022947Z
UID:10001738-1567530000-1567533600@hmono.org
SUMMARY:Therapeutic Yoga Keaukaha 5:00pm
DESCRIPTION:Join us for yoga to get a gentle stretch and increase flexibility! Call (808) 969-9220 for more info.
URL:https://hmono.org/calendar/therapeutic-yoga-2019-07-25/2019-09-03/
LOCATION:Malia Puka O Kalani Church Gym\, 326 Desha Ave\, Hilo\, HI 96720\, Hilo\, United States
CATEGORIES:Exercise,Yoga
GEO:19.7296034;-155.0427974
X-APPLE-STRUCTURED-LOCATION;VALUE=URI;X-ADDRESS=Malia Puka O Kalani Church Gym 326 Desha Ave Hilo HI 96720 Hilo United States;X-APPLE-RADIUS=500;X-TITLE=326 Desha Ave\, Hilo\, HI 96720:geo:-155.0427974,19.7296034
END:VEVENT
BEGIN:VEVENT
DTSTART;TZID=Pacific/Honolulu:20190905T170000
DTEND;TZID=Pacific/Honolulu:20190905T180000
DTSTAMP:20260421T143315
CREATED:20190320T020002Z
LAST-MODIFIED:20190720T022947Z
UID:10001739-1567702800-1567706400@hmono.org
SUMMARY:Therapeutic Yoga Keaukaha 5:00pm
DESCRIPTION:Join us for yoga to get a gentle stretch and increase flexibility! Call (808) 969-9220 for more info.
URL:https://hmono.org/calendar/therapeutic-yoga-2019-07-25/2019-09-05/
LOCATION:Malia Puka O Kalani Church Gym\, 326 Desha Ave\, Hilo\, HI 96720\, Hilo\, United States
CATEGORIES:Exercise,Yoga
GEO:19.7296034;-155.0427974
X-APPLE-STRUCTURED-LOCATION;VALUE=URI;X-ADDRESS=Malia Puka O Kalani Church Gym 326 Desha Ave Hilo HI 96720 Hilo United States;X-APPLE-RADIUS=500;X-TITLE=326 Desha Ave\, Hilo\, HI 96720:geo:-155.0427974,19.7296034
END:VEVENT
BEGIN:VEVENT
DTSTART;TZID=Pacific/Honolulu:20190910T170000
DTEND;TZID=Pacific/Honolulu:20190910T180000
DTSTAMP:20260421T143315
CREATED:20190320T020002Z
LAST-MODIFIED:20190720T022947Z
UID:10001740-1568134800-1568138400@hmono.org
SUMMARY:Therapeutic Yoga Keaukaha 5:00pm
DESCRIPTION:Join us for yoga to get a gentle stretch and increase flexibility! Call (808) 969-9220 for more info.
URL:https://hmono.org/calendar/therapeutic-yoga-2019-07-25/2019-09-10/
LOCATION:Malia Puka O Kalani Church Gym\, 326 Desha Ave\, Hilo\, HI 96720\, Hilo\, United States
CATEGORIES:Exercise,Yoga
GEO:19.7296034;-155.0427974
X-APPLE-STRUCTURED-LOCATION;VALUE=URI;X-ADDRESS=Malia Puka O Kalani Church Gym 326 Desha Ave Hilo HI 96720 Hilo United States;X-APPLE-RADIUS=500;X-TITLE=326 Desha Ave\, Hilo\, HI 96720:geo:-155.0427974,19.7296034
END:VEVENT
BEGIN:VEVENT
DTSTART;TZID=Pacific/Honolulu:20190912T170000
DTEND;TZID=Pacific/Honolulu:20190912T180000
DTSTAMP:20260421T143315
CREATED:20190320T020002Z
LAST-MODIFIED:20190720T022947Z
UID:10001741-1568307600-1568311200@hmono.org
SUMMARY:Therapeutic Yoga Keaukaha 5:00pm
DESCRIPTION:Join us for yoga to get a gentle stretch and increase flexibility! Call (808) 969-9220 for more info.
URL:https://hmono.org/calendar/therapeutic-yoga-2019-07-25/2019-09-12/
LOCATION:Malia Puka O Kalani Church Gym\, 326 Desha Ave\, Hilo\, HI 96720\, Hilo\, United States
CATEGORIES:Exercise,Yoga
GEO:19.7296034;-155.0427974
X-APPLE-STRUCTURED-LOCATION;VALUE=URI;X-ADDRESS=Malia Puka O Kalani Church Gym 326 Desha Ave Hilo HI 96720 Hilo United States;X-APPLE-RADIUS=500;X-TITLE=326 Desha Ave\, Hilo\, HI 96720:geo:-155.0427974,19.7296034
END:VEVENT
BEGIN:VEVENT
DTSTART;TZID=Pacific/Honolulu:20190917T170000
DTEND;TZID=Pacific/Honolulu:20190917T180000
DTSTAMP:20260421T143315
CREATED:20190320T020002Z
LAST-MODIFIED:20190826T194752Z
UID:10001768-1568739600-1568743200@hmono.org
SUMMARY:Therapeutic Yoga CANCELLED
DESCRIPTION:This class in Keaukaha has been cancelled for this date. No other classes are affected. Mahalo for your patience. Call (808) 969-9220 for more info.
URL:https://hmono.org/calendar/therapeutic-yoga-2019-07-25-2019-09-17/
LOCATION:Malia Puka O Kalani Church Gym\, 326 Desha Ave\, Hilo\, HI 96720\, Hilo\, United States
CATEGORIES:Exercise,Yoga
GEO:19.7296034;-155.0427974
X-APPLE-STRUCTURED-LOCATION;VALUE=URI;X-ADDRESS=Malia Puka O Kalani Church Gym 326 Desha Ave Hilo HI 96720 Hilo United States;X-APPLE-RADIUS=500;X-TITLE=326 Desha Ave\, Hilo\, HI 96720:geo:-155.0427974,19.7296034
END:VEVENT
BEGIN:VEVENT
DTSTART;TZID=Pacific/Honolulu:20190919T170000
DTEND;TZID=Pacific/Honolulu:20190919T180000
DTSTAMP:20260421T143315
CREATED:20190320T020002Z
LAST-MODIFIED:20190827T181734Z
UID:10001724-1568912400-1568916000@hmono.org
SUMMARY:Therapeutic Yoga Keaukaha CANCELLED
DESCRIPTION:This class in Keaukaha has been cancelled for this date. No other classes are affected. Mahalo for your patience. Call (808) 969-9220 for more info.
URL:https://hmono.org/calendar/therapeutic-yoga-2019-07-25-2019-09-19/
LOCATION:Malia Puka O Kalani Church Gym\, 326 Desha Ave\, Hilo\, HI 96720\, Hilo\, United States
CATEGORIES:Exercise,Yoga
GEO:19.7296034;-155.0427974
X-APPLE-STRUCTURED-LOCATION;VALUE=URI;X-ADDRESS=Malia Puka O Kalani Church Gym 326 Desha Ave Hilo HI 96720 Hilo United States;X-APPLE-RADIUS=500;X-TITLE=326 Desha Ave\, Hilo\, HI 96720:geo:-155.0427974,19.7296034
END:VEVENT
BEGIN:VEVENT
DTSTART;TZID=Pacific/Honolulu:20190924T170000
DTEND;TZID=Pacific/Honolulu:20190924T180000
DTSTAMP:20260421T143315
CREATED:20190320T020002Z
LAST-MODIFIED:20190827T182730Z
UID:10001810-1569344400-1569348000@hmono.org
SUMMARY:Therapeutic Yoga Keaukaha CANCELLED
DESCRIPTION:This class in Keaukaha has been cancelled for this date. No other classes are affected. Mahalo for your patience. Call (808) 969-9220 for more info.
URL:https://hmono.org/calendar/therapeutic-yoga-2019-07-25-2019-09-24/
LOCATION:Malia Puka O Kalani Church Gym\, 326 Desha Ave\, Hilo\, HI 96720\, Hilo\, United States
CATEGORIES:Exercise,Yoga
GEO:19.7296034;-155.0427974
X-APPLE-STRUCTURED-LOCATION;VALUE=URI;X-ADDRESS=Malia Puka O Kalani Church Gym 326 Desha Ave Hilo HI 96720 Hilo United States;X-APPLE-RADIUS=500;X-TITLE=326 Desha Ave\, Hilo\, HI 96720:geo:-155.0427974,19.7296034
END:VEVENT
BEGIN:VEVENT
DTSTART;TZID=Pacific/Honolulu:20190926T170000
DTEND;TZID=Pacific/Honolulu:20190926T180000
DTSTAMP:20260421T143315
CREATED:20190320T020002Z
LAST-MODIFIED:20190827T183730Z
UID:10001804-1569517200-1569520800@hmono.org
SUMMARY:Therapeutic Yoga Keaukaha CANCELLED
DESCRIPTION:This class in Keaukaha has been cancelled for this date. No other classes are affected. Mahalo for your patience. Call (808) 969-9220 for more info.
URL:https://hmono.org/calendar/therapeutic-yoga-2019-07-25-2019-09-26/
LOCATION:Malia Puka O Kalani Church Gym\, 326 Desha Ave\, Hilo\, HI 96720\, Hilo\, United States
CATEGORIES:Exercise,Yoga
GEO:19.7296034;-155.0427974
X-APPLE-STRUCTURED-LOCATION;VALUE=URI;X-ADDRESS=Malia Puka O Kalani Church Gym 326 Desha Ave Hilo HI 96720 Hilo United States;X-APPLE-RADIUS=500;X-TITLE=326 Desha Ave\, Hilo\, HI 96720:geo:-155.0427974,19.7296034
END:VEVENT
BEGIN:VEVENT
DTSTART;TZID=Pacific/Honolulu:20191001T170000
DTEND;TZID=Pacific/Honolulu:20191001T180000
DTSTAMP:20260421T143315
CREATED:20190320T020002Z
LAST-MODIFIED:20190720T022947Z
UID:10001742-1569949200-1569952800@hmono.org
SUMMARY:Therapeutic Yoga Keaukaha 5:00pm
DESCRIPTION:Join us for yoga to get a gentle stretch and increase flexibility! Call (808) 969-9220 for more info.
URL:https://hmono.org/calendar/therapeutic-yoga-2019-07-25/2019-10-01/
LOCATION:Malia Puka O Kalani Church Gym\, 326 Desha Ave\, Hilo\, HI 96720\, Hilo\, United States
CATEGORIES:Exercise,Yoga
GEO:19.7296034;-155.0427974
X-APPLE-STRUCTURED-LOCATION;VALUE=URI;X-ADDRESS=Malia Puka O Kalani Church Gym 326 Desha Ave Hilo HI 96720 Hilo United States;X-APPLE-RADIUS=500;X-TITLE=326 Desha Ave\, Hilo\, HI 96720:geo:-155.0427974,19.7296034
END:VEVENT
BEGIN:VEVENT
DTSTART;TZID=Pacific/Honolulu:20191003T170000
DTEND;TZID=Pacific/Honolulu:20191003T180000
DTSTAMP:20260421T143315
CREATED:20190320T020002Z
LAST-MODIFIED:20190720T022947Z
UID:10001743-1570122000-1570125600@hmono.org
SUMMARY:Therapeutic Yoga Keaukaha 5:00pm
DESCRIPTION:Join us for yoga to get a gentle stretch and increase flexibility! Call (808) 969-9220 for more info.
URL:https://hmono.org/calendar/therapeutic-yoga-2019-07-25/2019-10-03/
LOCATION:Malia Puka O Kalani Church Gym\, 326 Desha Ave\, Hilo\, HI 96720\, Hilo\, United States
CATEGORIES:Exercise,Yoga
GEO:19.7296034;-155.0427974
X-APPLE-STRUCTURED-LOCATION;VALUE=URI;X-ADDRESS=Malia Puka O Kalani Church Gym 326 Desha Ave Hilo HI 96720 Hilo United States;X-APPLE-RADIUS=500;X-TITLE=326 Desha Ave\, Hilo\, HI 96720:geo:-155.0427974,19.7296034
END:VEVENT
END:VCALENDAR