BEGIN:VCALENDAR
VERSION:2.0
PRODID:-//Hui Mālama Ola Nā ʻŌiwi - ECPv6.15.20//NONSGML v1.0//EN
CALSCALE:GREGORIAN
METHOD:PUBLISH
X-WR-CALNAME:Hui Mālama Ola Nā ʻŌiwi
X-ORIGINAL-URL:https://hmono.org
X-WR-CALDESC:Events for Hui Mālama Ola Nā ʻŌiwi
REFRESH-INTERVAL;VALUE=DURATION:PT1H
X-Robots-Tag:noindex
X-PUBLISHED-TTL:PT1H
BEGIN:VTIMEZONE
TZID:Pacific/Honolulu
BEGIN:STANDARD
TZOFFSETFROM:-1000
TZOFFSETTO:-1000
TZNAME:HST
DTSTART:20270101T000000
END:STANDARD
END:VTIMEZONE
BEGIN:VEVENT
DTSTART;TZID=Pacific/Honolulu:20280808T170000
DTEND;TZID=Pacific/Honolulu:20280808T180000
DTSTAMP:20260419T042807
CREATED:20240725T224621Z
LAST-MODIFIED:20240725T230221Z
UID:10004213-1849366800-1849370400@hmono.org
SUMMARY:Yoga (online)
DESCRIPTION:Join us online for therapeutic yoga to get a gentle stretch and increase flexibility! Those with no computer access may call in via phone line. Visit hmono.org/services to sign up today for this online class!
URL:https://hmono.org/calendar/yoga-online-2-2-2/2028-08-08/
CATEGORIES:Exercise,Yoga
END:VEVENT
BEGIN:VEVENT
DTSTART;TZID=Pacific/Honolulu:20280810T170000
DTEND;TZID=Pacific/Honolulu:20280810T180000
DTSTAMP:20260419T042807
CREATED:20240725T224621Z
LAST-MODIFIED:20240725T230221Z
UID:10004214-1849539600-1849543200@hmono.org
SUMMARY:Yoga (online)
DESCRIPTION:Join us online for therapeutic yoga to get a gentle stretch and increase flexibility! Those with no computer access may call in via phone line. Visit hmono.org/services to sign up today for this online class!
URL:https://hmono.org/calendar/yoga-online-2-2-2/2028-08-10/
CATEGORIES:Exercise,Yoga
END:VEVENT
BEGIN:VEVENT
DTSTART;TZID=Pacific/Honolulu:20280815T170000
DTEND;TZID=Pacific/Honolulu:20280815T180000
DTSTAMP:20260419T042807
CREATED:20240725T224621Z
LAST-MODIFIED:20240725T230221Z
UID:10005238-1849971600-1849975200@hmono.org
SUMMARY:Yoga (online)
DESCRIPTION:Join us online for therapeutic yoga to get a gentle stretch and increase flexibility! Those with no computer access may call in via phone line. Visit hmono.org/services to sign up today for this online class!
URL:https://hmono.org/calendar/yoga-online-2-2-2/2028-08-15/
CATEGORIES:Exercise,Yoga
END:VEVENT
BEGIN:VEVENT
DTSTART;TZID=Pacific/Honolulu:20280817T170000
DTEND;TZID=Pacific/Honolulu:20280817T180000
DTSTAMP:20260419T042807
CREATED:20240725T224621Z
LAST-MODIFIED:20240725T230221Z
UID:10005239-1850144400-1850148000@hmono.org
SUMMARY:Yoga (online)
DESCRIPTION:Join us online for therapeutic yoga to get a gentle stretch and increase flexibility! Those with no computer access may call in via phone line. Visit hmono.org/services to sign up today for this online class!
URL:https://hmono.org/calendar/yoga-online-2-2-2/2028-08-17/
CATEGORIES:Exercise,Yoga
END:VEVENT
BEGIN:VEVENT
DTSTART;TZID=Pacific/Honolulu:20280822T170000
DTEND;TZID=Pacific/Honolulu:20280822T180000
DTSTAMP:20260419T042807
CREATED:20240725T224621Z
LAST-MODIFIED:20240725T230221Z
UID:10005240-1850576400-1850580000@hmono.org
SUMMARY:Yoga (online)
DESCRIPTION:Join us online for therapeutic yoga to get a gentle stretch and increase flexibility! Those with no computer access may call in via phone line. Visit hmono.org/services to sign up today for this online class!
URL:https://hmono.org/calendar/yoga-online-2-2-2/2028-08-22/
CATEGORIES:Exercise,Yoga
END:VEVENT
BEGIN:VEVENT
DTSTART;TZID=Pacific/Honolulu:20280824T170000
DTEND;TZID=Pacific/Honolulu:20280824T180000
DTSTAMP:20260419T042807
CREATED:20240725T224621Z
LAST-MODIFIED:20240725T230221Z
UID:10005241-1850749200-1850752800@hmono.org
SUMMARY:Yoga (online)
DESCRIPTION:Join us online for therapeutic yoga to get a gentle stretch and increase flexibility! Those with no computer access may call in via phone line. Visit hmono.org/services to sign up today for this online class!
URL:https://hmono.org/calendar/yoga-online-2-2-2/2028-08-24/
CATEGORIES:Exercise,Yoga
END:VEVENT
BEGIN:VEVENT
DTSTART;TZID=Pacific/Honolulu:20280829T170000
DTEND;TZID=Pacific/Honolulu:20280829T180000
DTSTAMP:20260419T042807
CREATED:20240725T224621Z
LAST-MODIFIED:20240725T230221Z
UID:10005242-1851181200-1851184800@hmono.org
SUMMARY:Yoga (online)
DESCRIPTION:Join us online for therapeutic yoga to get a gentle stretch and increase flexibility! Those with no computer access may call in via phone line. Visit hmono.org/services to sign up today for this online class!
URL:https://hmono.org/calendar/yoga-online-2-2-2/2028-08-29/
CATEGORIES:Exercise,Yoga
END:VEVENT
BEGIN:VEVENT
DTSTART;TZID=Pacific/Honolulu:20280831T170000
DTEND;TZID=Pacific/Honolulu:20280831T180000
DTSTAMP:20260419T042807
CREATED:20240725T224621Z
LAST-MODIFIED:20240725T230221Z
UID:10005243-1851354000-1851357600@hmono.org
SUMMARY:Yoga (online)
DESCRIPTION:Join us online for therapeutic yoga to get a gentle stretch and increase flexibility! Those with no computer access may call in via phone line. Visit hmono.org/services to sign up today for this online class!
URL:https://hmono.org/calendar/yoga-online-2-2-2/2028-08-31/
CATEGORIES:Exercise,Yoga
END:VEVENT
BEGIN:VEVENT
DTSTART;TZID=Pacific/Honolulu:20280905T170000
DTEND;TZID=Pacific/Honolulu:20280905T180000
DTSTAMP:20260419T042807
CREATED:20240725T224621Z
LAST-MODIFIED:20240725T230221Z
UID:10005244-1851786000-1851789600@hmono.org
SUMMARY:Yoga (online)
DESCRIPTION:Join us online for therapeutic yoga to get a gentle stretch and increase flexibility! Those with no computer access may call in via phone line. Visit hmono.org/services to sign up today for this online class!
URL:https://hmono.org/calendar/yoga-online-2-2-2/2028-09-05/
CATEGORIES:Exercise,Yoga
END:VEVENT
BEGIN:VEVENT
DTSTART;TZID=Pacific/Honolulu:20280907T170000
DTEND;TZID=Pacific/Honolulu:20280907T180000
DTSTAMP:20260419T042807
CREATED:20240725T224621Z
LAST-MODIFIED:20240725T230221Z
UID:10005245-1851958800-1851962400@hmono.org
SUMMARY:Yoga (online)
DESCRIPTION:Join us online for therapeutic yoga to get a gentle stretch and increase flexibility! Those with no computer access may call in via phone line. Visit hmono.org/services to sign up today for this online class!
URL:https://hmono.org/calendar/yoga-online-2-2-2/2028-09-07/
CATEGORIES:Exercise,Yoga
END:VEVENT
BEGIN:VEVENT
DTSTART;TZID=Pacific/Honolulu:20280912T170000
DTEND;TZID=Pacific/Honolulu:20280912T180000
DTSTAMP:20260419T042807
CREATED:20240725T224621Z
LAST-MODIFIED:20240725T230221Z
UID:10005246-1852390800-1852394400@hmono.org
SUMMARY:Yoga (online)
DESCRIPTION:Join us online for therapeutic yoga to get a gentle stretch and increase flexibility! Those with no computer access may call in via phone line. Visit hmono.org/services to sign up today for this online class!
URL:https://hmono.org/calendar/yoga-online-2-2-2/2028-09-12/
CATEGORIES:Exercise,Yoga
END:VEVENT
BEGIN:VEVENT
DTSTART;TZID=Pacific/Honolulu:20280914T170000
DTEND;TZID=Pacific/Honolulu:20280914T180000
DTSTAMP:20260419T042807
CREATED:20240725T224621Z
LAST-MODIFIED:20240725T230221Z
UID:10005247-1852563600-1852567200@hmono.org
SUMMARY:Yoga (online)
DESCRIPTION:Join us online for therapeutic yoga to get a gentle stretch and increase flexibility! Those with no computer access may call in via phone line. Visit hmono.org/services to sign up today for this online class!
URL:https://hmono.org/calendar/yoga-online-2-2-2/2028-09-14/
CATEGORIES:Exercise,Yoga
END:VEVENT
BEGIN:VEVENT
DTSTART;TZID=Pacific/Honolulu:20280919T170000
DTEND;TZID=Pacific/Honolulu:20280919T180000
DTSTAMP:20260419T042807
CREATED:20240725T224621Z
LAST-MODIFIED:20240725T230221Z
UID:10005248-1852995600-1852999200@hmono.org
SUMMARY:Yoga (online)
DESCRIPTION:Join us online for therapeutic yoga to get a gentle stretch and increase flexibility! Those with no computer access may call in via phone line. Visit hmono.org/services to sign up today for this online class!
URL:https://hmono.org/calendar/yoga-online-2-2-2/2028-09-19/
CATEGORIES:Exercise,Yoga
END:VEVENT
BEGIN:VEVENT
DTSTART;TZID=Pacific/Honolulu:20280921T170000
DTEND;TZID=Pacific/Honolulu:20280921T180000
DTSTAMP:20260419T042807
CREATED:20240725T224621Z
LAST-MODIFIED:20240725T230221Z
UID:10005249-1853168400-1853172000@hmono.org
SUMMARY:Yoga (online)
DESCRIPTION:Join us online for therapeutic yoga to get a gentle stretch and increase flexibility! Those with no computer access may call in via phone line. Visit hmono.org/services to sign up today for this online class!
URL:https://hmono.org/calendar/yoga-online-2-2-2/2028-09-21/
CATEGORIES:Exercise,Yoga
END:VEVENT
BEGIN:VEVENT
DTSTART;TZID=Pacific/Honolulu:20280926T170000
DTEND;TZID=Pacific/Honolulu:20280926T180000
DTSTAMP:20260419T042807
CREATED:20240725T224621Z
LAST-MODIFIED:20240725T230221Z
UID:10005250-1853600400-1853604000@hmono.org
SUMMARY:Yoga (online)
DESCRIPTION:Join us online for therapeutic yoga to get a gentle stretch and increase flexibility! Those with no computer access may call in via phone line. Visit hmono.org/services to sign up today for this online class!
URL:https://hmono.org/calendar/yoga-online-2-2-2/2028-09-26/
CATEGORIES:Exercise,Yoga
END:VEVENT
BEGIN:VEVENT
DTSTART;TZID=Pacific/Honolulu:20280928T170000
DTEND;TZID=Pacific/Honolulu:20280928T180000
DTSTAMP:20260419T042807
CREATED:20240725T224621Z
LAST-MODIFIED:20240725T230221Z
UID:10005251-1853773200-1853776800@hmono.org
SUMMARY:Yoga (online)
DESCRIPTION:Join us online for therapeutic yoga to get a gentle stretch and increase flexibility! Those with no computer access may call in via phone line. Visit hmono.org/services to sign up today for this online class!
URL:https://hmono.org/calendar/yoga-online-2-2-2/2028-09-28/
CATEGORIES:Exercise,Yoga
END:VEVENT
BEGIN:VEVENT
DTSTART;TZID=Pacific/Honolulu:20281003T170000
DTEND;TZID=Pacific/Honolulu:20281003T180000
DTSTAMP:20260419T042807
CREATED:20240725T224621Z
LAST-MODIFIED:20240725T230221Z
UID:10005252-1854205200-1854208800@hmono.org
SUMMARY:Yoga (online)
DESCRIPTION:Join us online for therapeutic yoga to get a gentle stretch and increase flexibility! Those with no computer access may call in via phone line. Visit hmono.org/services to sign up today for this online class!
URL:https://hmono.org/calendar/yoga-online-2-2-2/2028-10-03/
CATEGORIES:Exercise,Yoga
END:VEVENT
BEGIN:VEVENT
DTSTART;TZID=Pacific/Honolulu:20281005T170000
DTEND;TZID=Pacific/Honolulu:20281005T180000
DTSTAMP:20260419T042807
CREATED:20240725T224621Z
LAST-MODIFIED:20240725T230221Z
UID:10005253-1854378000-1854381600@hmono.org
SUMMARY:Yoga (online)
DESCRIPTION:Join us online for therapeutic yoga to get a gentle stretch and increase flexibility! Those with no computer access may call in via phone line. Visit hmono.org/services to sign up today for this online class!
URL:https://hmono.org/calendar/yoga-online-2-2-2/2028-10-05/
CATEGORIES:Exercise,Yoga
END:VEVENT
BEGIN:VEVENT
DTSTART;TZID=Pacific/Honolulu:20281010T170000
DTEND;TZID=Pacific/Honolulu:20281010T180000
DTSTAMP:20260419T042807
CREATED:20240725T224621Z
LAST-MODIFIED:20240725T230221Z
UID:10005254-1854810000-1854813600@hmono.org
SUMMARY:Yoga (online)
DESCRIPTION:Join us online for therapeutic yoga to get a gentle stretch and increase flexibility! Those with no computer access may call in via phone line. Visit hmono.org/services to sign up today for this online class!
URL:https://hmono.org/calendar/yoga-online-2-2-2/2028-10-10/
CATEGORIES:Exercise,Yoga
END:VEVENT
BEGIN:VEVENT
DTSTART;TZID=Pacific/Honolulu:20281012T170000
DTEND;TZID=Pacific/Honolulu:20281012T180000
DTSTAMP:20260419T042807
CREATED:20240725T224621Z
LAST-MODIFIED:20240725T230221Z
UID:10005255-1854982800-1854986400@hmono.org
SUMMARY:Yoga (online)
DESCRIPTION:Join us online for therapeutic yoga to get a gentle stretch and increase flexibility! Those with no computer access may call in via phone line. Visit hmono.org/services to sign up today for this online class!
URL:https://hmono.org/calendar/yoga-online-2-2-2/2028-10-12/
CATEGORIES:Exercise,Yoga
END:VEVENT
BEGIN:VEVENT
DTSTART;TZID=Pacific/Honolulu:20281017T170000
DTEND;TZID=Pacific/Honolulu:20281017T180000
DTSTAMP:20260419T042807
CREATED:20240725T224621Z
LAST-MODIFIED:20240725T230221Z
UID:10005256-1855414800-1855418400@hmono.org
SUMMARY:Yoga (online)
DESCRIPTION:Join us online for therapeutic yoga to get a gentle stretch and increase flexibility! Those with no computer access may call in via phone line. Visit hmono.org/services to sign up today for this online class!
URL:https://hmono.org/calendar/yoga-online-2-2-2/2028-10-17/
CATEGORIES:Exercise,Yoga
END:VEVENT
BEGIN:VEVENT
DTSTART;TZID=Pacific/Honolulu:20281019T170000
DTEND;TZID=Pacific/Honolulu:20281019T180000
DTSTAMP:20260419T042807
CREATED:20240725T224621Z
LAST-MODIFIED:20240725T230221Z
UID:10005257-1855587600-1855591200@hmono.org
SUMMARY:Yoga (online)
DESCRIPTION:Join us online for therapeutic yoga to get a gentle stretch and increase flexibility! Those with no computer access may call in via phone line. Visit hmono.org/services to sign up today for this online class!
URL:https://hmono.org/calendar/yoga-online-2-2-2/2028-10-19/
CATEGORIES:Exercise,Yoga
END:VEVENT
BEGIN:VEVENT
DTSTART;TZID=Pacific/Honolulu:20281024T170000
DTEND;TZID=Pacific/Honolulu:20281024T180000
DTSTAMP:20260419T042808
CREATED:20240725T224621Z
LAST-MODIFIED:20240725T230221Z
UID:10005258-1856019600-1856023200@hmono.org
SUMMARY:Yoga (online)
DESCRIPTION:Join us online for therapeutic yoga to get a gentle stretch and increase flexibility! Those with no computer access may call in via phone line. Visit hmono.org/services to sign up today for this online class!
URL:https://hmono.org/calendar/yoga-online-2-2-2/2028-10-24/
CATEGORIES:Exercise,Yoga
END:VEVENT
BEGIN:VEVENT
DTSTART;TZID=Pacific/Honolulu:20281026T170000
DTEND;TZID=Pacific/Honolulu:20281026T180000
DTSTAMP:20260419T042808
CREATED:20240725T224621Z
LAST-MODIFIED:20240725T230221Z
UID:10005259-1856192400-1856196000@hmono.org
SUMMARY:Yoga (online)
DESCRIPTION:Join us online for therapeutic yoga to get a gentle stretch and increase flexibility! Those with no computer access may call in via phone line. Visit hmono.org/services to sign up today for this online class!
URL:https://hmono.org/calendar/yoga-online-2-2-2/2028-10-26/
CATEGORIES:Exercise,Yoga
END:VEVENT
BEGIN:VEVENT
DTSTART;TZID=Pacific/Honolulu:20281031T170000
DTEND;TZID=Pacific/Honolulu:20281031T180000
DTSTAMP:20260419T042808
CREATED:20240725T224621Z
LAST-MODIFIED:20240725T230221Z
UID:10005260-1856624400-1856628000@hmono.org
SUMMARY:Yoga (online)
DESCRIPTION:Join us online for therapeutic yoga to get a gentle stretch and increase flexibility! Those with no computer access may call in via phone line. Visit hmono.org/services to sign up today for this online class!
URL:https://hmono.org/calendar/yoga-online-2-2-2/2028-10-31/
CATEGORIES:Exercise,Yoga
END:VEVENT
BEGIN:VEVENT
DTSTART;TZID=Pacific/Honolulu:20281102T170000
DTEND;TZID=Pacific/Honolulu:20281102T180000
DTSTAMP:20260419T042808
CREATED:20240725T224621Z
LAST-MODIFIED:20240725T230221Z
UID:10005261-1856797200-1856800800@hmono.org
SUMMARY:Yoga (online)
DESCRIPTION:Join us online for therapeutic yoga to get a gentle stretch and increase flexibility! Those with no computer access may call in via phone line. Visit hmono.org/services to sign up today for this online class!
URL:https://hmono.org/calendar/yoga-online-2-2-2/2028-11-02/
CATEGORIES:Exercise,Yoga
END:VEVENT
BEGIN:VEVENT
DTSTART;TZID=Pacific/Honolulu:20281107T170000
DTEND;TZID=Pacific/Honolulu:20281107T180000
DTSTAMP:20260419T042808
CREATED:20240725T224621Z
LAST-MODIFIED:20240725T230221Z
UID:10005262-1857229200-1857232800@hmono.org
SUMMARY:Yoga (online)
DESCRIPTION:Join us online for therapeutic yoga to get a gentle stretch and increase flexibility! Those with no computer access may call in via phone line. Visit hmono.org/services to sign up today for this online class!
URL:https://hmono.org/calendar/yoga-online-2-2-2/2028-11-07/
CATEGORIES:Exercise,Yoga
END:VEVENT
BEGIN:VEVENT
DTSTART;TZID=Pacific/Honolulu:20281109T170000
DTEND;TZID=Pacific/Honolulu:20281109T180000
DTSTAMP:20260419T042808
CREATED:20240725T224621Z
LAST-MODIFIED:20240725T230221Z
UID:10005263-1857402000-1857405600@hmono.org
SUMMARY:Yoga (online)
DESCRIPTION:Join us online for therapeutic yoga to get a gentle stretch and increase flexibility! Those with no computer access may call in via phone line. Visit hmono.org/services to sign up today for this online class!
URL:https://hmono.org/calendar/yoga-online-2-2-2/2028-11-09/
CATEGORIES:Exercise,Yoga
END:VEVENT
BEGIN:VEVENT
DTSTART;TZID=Pacific/Honolulu:20281114T170000
DTEND;TZID=Pacific/Honolulu:20281114T180000
DTSTAMP:20260419T042808
CREATED:20240725T224621Z
LAST-MODIFIED:20240725T230221Z
UID:10005264-1857834000-1857837600@hmono.org
SUMMARY:Yoga (online)
DESCRIPTION:Join us online for therapeutic yoga to get a gentle stretch and increase flexibility! Those with no computer access may call in via phone line. Visit hmono.org/services to sign up today for this online class!
URL:https://hmono.org/calendar/yoga-online-2-2-2/2028-11-14/
CATEGORIES:Exercise,Yoga
END:VEVENT
BEGIN:VEVENT
DTSTART;TZID=Pacific/Honolulu:20281116T170000
DTEND;TZID=Pacific/Honolulu:20281116T180000
DTSTAMP:20260419T042808
CREATED:20240725T224621Z
LAST-MODIFIED:20240725T230221Z
UID:10005265-1858006800-1858010400@hmono.org
SUMMARY:Yoga (online)
DESCRIPTION:Join us online for therapeutic yoga to get a gentle stretch and increase flexibility! Those with no computer access may call in via phone line. Visit hmono.org/services to sign up today for this online class!
URL:https://hmono.org/calendar/yoga-online-2-2-2/2028-11-16/
CATEGORIES:Exercise,Yoga
END:VEVENT
END:VCALENDAR