BEGIN:VCALENDAR
VERSION:2.0
PRODID:-//Hui Mālama Ola Nā ʻŌiwi - ECPv6.15.20//NONSGML v1.0//EN
CALSCALE:GREGORIAN
METHOD:PUBLISH
X-ORIGINAL-URL:https://hmono.org
X-WR-CALDESC:Events for Hui Mālama Ola Nā ʻŌiwi
REFRESH-INTERVAL;VALUE=DURATION:PT1H
X-Robots-Tag:noindex
X-PUBLISHED-TTL:PT1H
BEGIN:VTIMEZONE
TZID:Pacific/Honolulu
BEGIN:STANDARD
TZOFFSETFROM:-1000
TZOFFSETTO:-1000
TZNAME:HST
DTSTART:20280101T000000
END:STANDARD
END:VTIMEZONE
BEGIN:VEVENT
DTSTART;TZID=Pacific/Honolulu:20290109T170000
DTEND;TZID=Pacific/Honolulu:20290109T180000
DTSTAMP:20260420T015220
CREATED:20240725T224621Z
LAST-MODIFIED:20240725T230221Z
UID:10005280-1862672400-1862676000@hmono.org
SUMMARY:Yoga (online)
DESCRIPTION:Join us online for therapeutic yoga to get a gentle stretch and increase flexibility! Those with no computer access may call in via phone line. Visit hmono.org/services to sign up today for this online class!
URL:https://hmono.org/calendar/yoga-online-2-2-2/2029-01-09/
CATEGORIES:Exercise,Yoga
END:VEVENT
BEGIN:VEVENT
DTSTART;TZID=Pacific/Honolulu:20290111T170000
DTEND;TZID=Pacific/Honolulu:20290111T180000
DTSTAMP:20260420T015220
CREATED:20240725T224621Z
LAST-MODIFIED:20240725T230221Z
UID:10005281-1862845200-1862848800@hmono.org
SUMMARY:Yoga (online)
DESCRIPTION:Join us online for therapeutic yoga to get a gentle stretch and increase flexibility! Those with no computer access may call in via phone line. Visit hmono.org/services to sign up today for this online class!
URL:https://hmono.org/calendar/yoga-online-2-2-2/2029-01-11/
CATEGORIES:Exercise,Yoga
END:VEVENT
BEGIN:VEVENT
DTSTART;TZID=Pacific/Honolulu:20290116T170000
DTEND;TZID=Pacific/Honolulu:20290116T180000
DTSTAMP:20260420T015220
CREATED:20240725T224621Z
LAST-MODIFIED:20240725T230221Z
UID:10005282-1863277200-1863280800@hmono.org
SUMMARY:Yoga (online)
DESCRIPTION:Join us online for therapeutic yoga to get a gentle stretch and increase flexibility! Those with no computer access may call in via phone line. Visit hmono.org/services to sign up today for this online class!
URL:https://hmono.org/calendar/yoga-online-2-2-2/2029-01-16/
CATEGORIES:Exercise,Yoga
END:VEVENT
BEGIN:VEVENT
DTSTART;TZID=Pacific/Honolulu:20290118T170000
DTEND;TZID=Pacific/Honolulu:20290118T180000
DTSTAMP:20260420T015220
CREATED:20240725T224621Z
LAST-MODIFIED:20240725T230221Z
UID:10005283-1863450000-1863453600@hmono.org
SUMMARY:Yoga (online)
DESCRIPTION:Join us online for therapeutic yoga to get a gentle stretch and increase flexibility! Those with no computer access may call in via phone line. Visit hmono.org/services to sign up today for this online class!
URL:https://hmono.org/calendar/yoga-online-2-2-2/2029-01-18/
CATEGORIES:Exercise,Yoga
END:VEVENT
BEGIN:VEVENT
DTSTART;TZID=Pacific/Honolulu:20290123T170000
DTEND;TZID=Pacific/Honolulu:20290123T180000
DTSTAMP:20260420T015220
CREATED:20240725T224621Z
LAST-MODIFIED:20240725T230221Z
UID:10005284-1863882000-1863885600@hmono.org
SUMMARY:Yoga (online)
DESCRIPTION:Join us online for therapeutic yoga to get a gentle stretch and increase flexibility! Those with no computer access may call in via phone line. Visit hmono.org/services to sign up today for this online class!
URL:https://hmono.org/calendar/yoga-online-2-2-2/2029-01-23/
CATEGORIES:Exercise,Yoga
END:VEVENT
BEGIN:VEVENT
DTSTART;TZID=Pacific/Honolulu:20290125T170000
DTEND;TZID=Pacific/Honolulu:20290125T180000
DTSTAMP:20260420T015220
CREATED:20240725T224621Z
LAST-MODIFIED:20240725T230221Z
UID:10005285-1864054800-1864058400@hmono.org
SUMMARY:Yoga (online)
DESCRIPTION:Join us online for therapeutic yoga to get a gentle stretch and increase flexibility! Those with no computer access may call in via phone line. Visit hmono.org/services to sign up today for this online class!
URL:https://hmono.org/calendar/yoga-online-2-2-2/2029-01-25/
CATEGORIES:Exercise,Yoga
END:VEVENT
BEGIN:VEVENT
DTSTART;TZID=Pacific/Honolulu:20290130T170000
DTEND;TZID=Pacific/Honolulu:20290130T180000
DTSTAMP:20260420T015220
CREATED:20240725T224621Z
LAST-MODIFIED:20240725T230221Z
UID:10005286-1864486800-1864490400@hmono.org
SUMMARY:Yoga (online)
DESCRIPTION:Join us online for therapeutic yoga to get a gentle stretch and increase flexibility! Those with no computer access may call in via phone line. Visit hmono.org/services to sign up today for this online class!
URL:https://hmono.org/calendar/yoga-online-2-2-2/2029-01-30/
CATEGORIES:Exercise,Yoga
END:VEVENT
BEGIN:VEVENT
DTSTART;TZID=Pacific/Honolulu:20290201T170000
DTEND;TZID=Pacific/Honolulu:20290201T180000
DTSTAMP:20260420T015220
CREATED:20240725T224621Z
LAST-MODIFIED:20240725T230221Z
UID:10005287-1864659600-1864663200@hmono.org
SUMMARY:Yoga (online)
DESCRIPTION:Join us online for therapeutic yoga to get a gentle stretch and increase flexibility! Those with no computer access may call in via phone line. Visit hmono.org/services to sign up today for this online class!
URL:https://hmono.org/calendar/yoga-online-2-2-2/2029-02-01/
CATEGORIES:Exercise,Yoga
END:VEVENT
BEGIN:VEVENT
DTSTART;TZID=Pacific/Honolulu:20290206T170000
DTEND;TZID=Pacific/Honolulu:20290206T180000
DTSTAMP:20260420T015220
CREATED:20240725T224621Z
LAST-MODIFIED:20240725T230221Z
UID:10005288-1865091600-1865095200@hmono.org
SUMMARY:Yoga (online)
DESCRIPTION:Join us online for therapeutic yoga to get a gentle stretch and increase flexibility! Those with no computer access may call in via phone line. Visit hmono.org/services to sign up today for this online class!
URL:https://hmono.org/calendar/yoga-online-2-2-2/2029-02-06/
CATEGORIES:Exercise,Yoga
END:VEVENT
BEGIN:VEVENT
DTSTART;TZID=Pacific/Honolulu:20290208T170000
DTEND;TZID=Pacific/Honolulu:20290208T180000
DTSTAMP:20260420T015220
CREATED:20240725T224621Z
LAST-MODIFIED:20240725T230221Z
UID:10005289-1865264400-1865268000@hmono.org
SUMMARY:Yoga (online)
DESCRIPTION:Join us online for therapeutic yoga to get a gentle stretch and increase flexibility! Those with no computer access may call in via phone line. Visit hmono.org/services to sign up today for this online class!
URL:https://hmono.org/calendar/yoga-online-2-2-2/2029-02-08/
CATEGORIES:Exercise,Yoga
END:VEVENT
BEGIN:VEVENT
DTSTART;TZID=Pacific/Honolulu:20290213T170000
DTEND;TZID=Pacific/Honolulu:20290213T180000
DTSTAMP:20260420T015220
CREATED:20240725T224621Z
LAST-MODIFIED:20240725T230221Z
UID:10005290-1865696400-1865700000@hmono.org
SUMMARY:Yoga (online)
DESCRIPTION:Join us online for therapeutic yoga to get a gentle stretch and increase flexibility! Those with no computer access may call in via phone line. Visit hmono.org/services to sign up today for this online class!
URL:https://hmono.org/calendar/yoga-online-2-2-2/2029-02-13/
CATEGORIES:Exercise,Yoga
END:VEVENT
BEGIN:VEVENT
DTSTART;TZID=Pacific/Honolulu:20290215T170000
DTEND;TZID=Pacific/Honolulu:20290215T180000
DTSTAMP:20260420T015220
CREATED:20240725T224621Z
LAST-MODIFIED:20240725T230221Z
UID:10005291-1865869200-1865872800@hmono.org
SUMMARY:Yoga (online)
DESCRIPTION:Join us online for therapeutic yoga to get a gentle stretch and increase flexibility! Those with no computer access may call in via phone line. Visit hmono.org/services to sign up today for this online class!
URL:https://hmono.org/calendar/yoga-online-2-2-2/2029-02-15/
CATEGORIES:Exercise,Yoga
END:VEVENT
BEGIN:VEVENT
DTSTART;TZID=Pacific/Honolulu:20290220T170000
DTEND;TZID=Pacific/Honolulu:20290220T180000
DTSTAMP:20260420T015220
CREATED:20240725T224621Z
LAST-MODIFIED:20240725T230221Z
UID:10005292-1866301200-1866304800@hmono.org
SUMMARY:Yoga (online)
DESCRIPTION:Join us online for therapeutic yoga to get a gentle stretch and increase flexibility! Those with no computer access may call in via phone line. Visit hmono.org/services to sign up today for this online class!
URL:https://hmono.org/calendar/yoga-online-2-2-2/2029-02-20/
CATEGORIES:Exercise,Yoga
END:VEVENT
BEGIN:VEVENT
DTSTART;TZID=Pacific/Honolulu:20290222T170000
DTEND;TZID=Pacific/Honolulu:20290222T180000
DTSTAMP:20260420T015220
CREATED:20240725T224621Z
LAST-MODIFIED:20240725T230221Z
UID:10005293-1866474000-1866477600@hmono.org
SUMMARY:Yoga (online)
DESCRIPTION:Join us online for therapeutic yoga to get a gentle stretch and increase flexibility! Those with no computer access may call in via phone line. Visit hmono.org/services to sign up today for this online class!
URL:https://hmono.org/calendar/yoga-online-2-2-2/2029-02-22/
CATEGORIES:Exercise,Yoga
END:VEVENT
BEGIN:VEVENT
DTSTART;TZID=Pacific/Honolulu:20290227T170000
DTEND;TZID=Pacific/Honolulu:20290227T180000
DTSTAMP:20260420T015220
CREATED:20240725T224621Z
LAST-MODIFIED:20240725T230221Z
UID:10005294-1866906000-1866909600@hmono.org
SUMMARY:Yoga (online)
DESCRIPTION:Join us online for therapeutic yoga to get a gentle stretch and increase flexibility! Those with no computer access may call in via phone line. Visit hmono.org/services to sign up today for this online class!
URL:https://hmono.org/calendar/yoga-online-2-2-2/2029-02-27/
CATEGORIES:Exercise,Yoga
END:VEVENT
BEGIN:VEVENT
DTSTART;TZID=Pacific/Honolulu:20290301T170000
DTEND;TZID=Pacific/Honolulu:20290301T180000
DTSTAMP:20260420T015220
CREATED:20240725T224621Z
LAST-MODIFIED:20240725T230221Z
UID:10005295-1867078800-1867082400@hmono.org
SUMMARY:Yoga (online)
DESCRIPTION:Join us online for therapeutic yoga to get a gentle stretch and increase flexibility! Those with no computer access may call in via phone line. Visit hmono.org/services to sign up today for this online class!
URL:https://hmono.org/calendar/yoga-online-2-2-2/2029-03-01/
CATEGORIES:Exercise,Yoga
END:VEVENT
BEGIN:VEVENT
DTSTART;TZID=Pacific/Honolulu:20290306T170000
DTEND;TZID=Pacific/Honolulu:20290306T180000
DTSTAMP:20260420T015220
CREATED:20240725T224621Z
LAST-MODIFIED:20240725T230221Z
UID:10005296-1867510800-1867514400@hmono.org
SUMMARY:Yoga (online)
DESCRIPTION:Join us online for therapeutic yoga to get a gentle stretch and increase flexibility! Those with no computer access may call in via phone line. Visit hmono.org/services to sign up today for this online class!
URL:https://hmono.org/calendar/yoga-online-2-2-2/2029-03-06/
CATEGORIES:Exercise,Yoga
END:VEVENT
BEGIN:VEVENT
DTSTART;TZID=Pacific/Honolulu:20290308T170000
DTEND;TZID=Pacific/Honolulu:20290308T180000
DTSTAMP:20260420T015220
CREATED:20240725T224621Z
LAST-MODIFIED:20240725T230221Z
UID:10005297-1867683600-1867687200@hmono.org
SUMMARY:Yoga (online)
DESCRIPTION:Join us online for therapeutic yoga to get a gentle stretch and increase flexibility! Those with no computer access may call in via phone line. Visit hmono.org/services to sign up today for this online class!
URL:https://hmono.org/calendar/yoga-online-2-2-2/2029-03-08/
CATEGORIES:Exercise,Yoga
END:VEVENT
BEGIN:VEVENT
DTSTART;TZID=Pacific/Honolulu:20290313T170000
DTEND;TZID=Pacific/Honolulu:20290313T180000
DTSTAMP:20260420T015220
CREATED:20240725T224621Z
LAST-MODIFIED:20240725T230221Z
UID:10005298-1868115600-1868119200@hmono.org
SUMMARY:Yoga (online)
DESCRIPTION:Join us online for therapeutic yoga to get a gentle stretch and increase flexibility! Those with no computer access may call in via phone line. Visit hmono.org/services to sign up today for this online class!
URL:https://hmono.org/calendar/yoga-online-2-2-2/2029-03-13/
CATEGORIES:Exercise,Yoga
END:VEVENT
BEGIN:VEVENT
DTSTART;TZID=Pacific/Honolulu:20290315T170000
DTEND;TZID=Pacific/Honolulu:20290315T180000
DTSTAMP:20260420T015220
CREATED:20240725T224621Z
LAST-MODIFIED:20240725T230221Z
UID:10005299-1868288400-1868292000@hmono.org
SUMMARY:Yoga (online)
DESCRIPTION:Join us online for therapeutic yoga to get a gentle stretch and increase flexibility! Those with no computer access may call in via phone line. Visit hmono.org/services to sign up today for this online class!
URL:https://hmono.org/calendar/yoga-online-2-2-2/2029-03-15/
CATEGORIES:Exercise,Yoga
END:VEVENT
BEGIN:VEVENT
DTSTART;TZID=Pacific/Honolulu:20290320T170000
DTEND;TZID=Pacific/Honolulu:20290320T180000
DTSTAMP:20260420T015220
CREATED:20240725T224621Z
LAST-MODIFIED:20240725T230221Z
UID:10005300-1868720400-1868724000@hmono.org
SUMMARY:Yoga (online)
DESCRIPTION:Join us online for therapeutic yoga to get a gentle stretch and increase flexibility! Those with no computer access may call in via phone line. Visit hmono.org/services to sign up today for this online class!
URL:https://hmono.org/calendar/yoga-online-2-2-2/2029-03-20/
CATEGORIES:Exercise,Yoga
END:VEVENT
BEGIN:VEVENT
DTSTART;TZID=Pacific/Honolulu:20290322T170000
DTEND;TZID=Pacific/Honolulu:20290322T180000
DTSTAMP:20260420T015220
CREATED:20240725T224621Z
LAST-MODIFIED:20240725T230221Z
UID:10005301-1868893200-1868896800@hmono.org
SUMMARY:Yoga (online)
DESCRIPTION:Join us online for therapeutic yoga to get a gentle stretch and increase flexibility! Those with no computer access may call in via phone line. Visit hmono.org/services to sign up today for this online class!
URL:https://hmono.org/calendar/yoga-online-2-2-2/2029-03-22/
CATEGORIES:Exercise,Yoga
END:VEVENT
BEGIN:VEVENT
DTSTART;TZID=Pacific/Honolulu:20290327T170000
DTEND;TZID=Pacific/Honolulu:20290327T180000
DTSTAMP:20260420T015220
CREATED:20240725T224621Z
LAST-MODIFIED:20240725T230221Z
UID:10005302-1869325200-1869328800@hmono.org
SUMMARY:Yoga (online)
DESCRIPTION:Join us online for therapeutic yoga to get a gentle stretch and increase flexibility! Those with no computer access may call in via phone line. Visit hmono.org/services to sign up today for this online class!
URL:https://hmono.org/calendar/yoga-online-2-2-2/2029-03-27/
CATEGORIES:Exercise,Yoga
END:VEVENT
BEGIN:VEVENT
DTSTART;TZID=Pacific/Honolulu:20290329T170000
DTEND;TZID=Pacific/Honolulu:20290329T180000
DTSTAMP:20260420T015220
CREATED:20240725T224621Z
LAST-MODIFIED:20240725T230221Z
UID:10005303-1869498000-1869501600@hmono.org
SUMMARY:Yoga (online)
DESCRIPTION:Join us online for therapeutic yoga to get a gentle stretch and increase flexibility! Those with no computer access may call in via phone line. Visit hmono.org/services to sign up today for this online class!
URL:https://hmono.org/calendar/yoga-online-2-2-2/2029-03-29/
CATEGORIES:Exercise,Yoga
END:VEVENT
BEGIN:VEVENT
DTSTART;TZID=Pacific/Honolulu:20290403T170000
DTEND;TZID=Pacific/Honolulu:20290403T180000
DTSTAMP:20260420T015220
CREATED:20240725T224621Z
LAST-MODIFIED:20240725T230221Z
UID:10005304-1869930000-1869933600@hmono.org
SUMMARY:Yoga (online)
DESCRIPTION:Join us online for therapeutic yoga to get a gentle stretch and increase flexibility! Those with no computer access may call in via phone line. Visit hmono.org/services to sign up today for this online class!
URL:https://hmono.org/calendar/yoga-online-2-2-2/2029-04-03/
CATEGORIES:Exercise,Yoga
END:VEVENT
BEGIN:VEVENT
DTSTART;TZID=Pacific/Honolulu:20290405T170000
DTEND;TZID=Pacific/Honolulu:20290405T180000
DTSTAMP:20260420T015220
CREATED:20240725T224621Z
LAST-MODIFIED:20240725T230221Z
UID:10005305-1870102800-1870106400@hmono.org
SUMMARY:Yoga (online)
DESCRIPTION:Join us online for therapeutic yoga to get a gentle stretch and increase flexibility! Those with no computer access may call in via phone line. Visit hmono.org/services to sign up today for this online class!
URL:https://hmono.org/calendar/yoga-online-2-2-2/2029-04-05/
CATEGORIES:Exercise,Yoga
END:VEVENT
BEGIN:VEVENT
DTSTART;TZID=Pacific/Honolulu:20290410T170000
DTEND;TZID=Pacific/Honolulu:20290410T180000
DTSTAMP:20260420T015220
CREATED:20240725T224621Z
LAST-MODIFIED:20240725T230221Z
UID:10005306-1870534800-1870538400@hmono.org
SUMMARY:Yoga (online)
DESCRIPTION:Join us online for therapeutic yoga to get a gentle stretch and increase flexibility! Those with no computer access may call in via phone line. Visit hmono.org/services to sign up today for this online class!
URL:https://hmono.org/calendar/yoga-online-2-2-2/2029-04-10/
CATEGORIES:Exercise,Yoga
END:VEVENT
BEGIN:VEVENT
DTSTART;TZID=Pacific/Honolulu:20290412T170000
DTEND;TZID=Pacific/Honolulu:20290412T180000
DTSTAMP:20260420T015220
CREATED:20240725T224621Z
LAST-MODIFIED:20240725T230221Z
UID:10005307-1870707600-1870711200@hmono.org
SUMMARY:Yoga (online)
DESCRIPTION:Join us online for therapeutic yoga to get a gentle stretch and increase flexibility! Those with no computer access may call in via phone line. Visit hmono.org/services to sign up today for this online class!
URL:https://hmono.org/calendar/yoga-online-2-2-2/2029-04-12/
CATEGORIES:Exercise,Yoga
END:VEVENT
BEGIN:VEVENT
DTSTART;TZID=Pacific/Honolulu:20290417T170000
DTEND;TZID=Pacific/Honolulu:20290417T180000
DTSTAMP:20260420T015220
CREATED:20240725T224621Z
LAST-MODIFIED:20240725T230221Z
UID:10005308-1871139600-1871143200@hmono.org
SUMMARY:Yoga (online)
DESCRIPTION:Join us online for therapeutic yoga to get a gentle stretch and increase flexibility! Those with no computer access may call in via phone line. Visit hmono.org/services to sign up today for this online class!
URL:https://hmono.org/calendar/yoga-online-2-2-2/2029-04-17/
CATEGORIES:Exercise,Yoga
END:VEVENT
BEGIN:VEVENT
DTSTART;TZID=Pacific/Honolulu:20290419T170000
DTEND;TZID=Pacific/Honolulu:20290419T180000
DTSTAMP:20260420T015220
CREATED:20240725T224621Z
LAST-MODIFIED:20240725T230221Z
UID:10005309-1871312400-1871316000@hmono.org
SUMMARY:Yoga (online)
DESCRIPTION:Join us online for therapeutic yoga to get a gentle stretch and increase flexibility! Those with no computer access may call in via phone line. Visit hmono.org/services to sign up today for this online class!
URL:https://hmono.org/calendar/yoga-online-2-2-2/2029-04-19/
CATEGORIES:Exercise,Yoga
END:VEVENT
END:VCALENDAR