BEGIN:VCALENDAR
VERSION:2.0
PRODID:-//Hui Mālama Ola Nā ʻŌiwi - ECPv6.15.20//NONSGML v1.0//EN
CALSCALE:GREGORIAN
METHOD:PUBLISH
X-WR-CALNAME:Hui Mālama Ola Nā ʻŌiwi
X-ORIGINAL-URL:https://hmono.org
X-WR-CALDESC:Events for Hui Mālama Ola Nā ʻŌiwi
REFRESH-INTERVAL;VALUE=DURATION:PT1H
X-Robots-Tag:noindex
X-PUBLISHED-TTL:PT1H
BEGIN:VTIMEZONE
TZID:Pacific/Honolulu
BEGIN:STANDARD
TZOFFSETFROM:-1000
TZOFFSETTO:-1000
TZNAME:HST
DTSTART:20280101T000000
END:STANDARD
END:VTIMEZONE
BEGIN:VEVENT
DTSTART;TZID=Pacific/Honolulu:20290320T170000
DTEND;TZID=Pacific/Honolulu:20290320T180000
DTSTAMP:20260420T095340
CREATED:20240725T224621Z
LAST-MODIFIED:20240725T230221Z
UID:10005300-1868720400-1868724000@hmono.org
SUMMARY:Yoga (online)
DESCRIPTION:Join us online for therapeutic yoga to get a gentle stretch and increase flexibility! Those with no computer access may call in via phone line. Visit hmono.org/services to sign up today for this online class!
URL:https://hmono.org/calendar/yoga-online-2-2-2/2029-03-20/
CATEGORIES:Exercise,Yoga
END:VEVENT
BEGIN:VEVENT
DTSTART;TZID=Pacific/Honolulu:20290322T170000
DTEND;TZID=Pacific/Honolulu:20290322T180000
DTSTAMP:20260420T095340
CREATED:20240725T224621Z
LAST-MODIFIED:20240725T230221Z
UID:10005301-1868893200-1868896800@hmono.org
SUMMARY:Yoga (online)
DESCRIPTION:Join us online for therapeutic yoga to get a gentle stretch and increase flexibility! Those with no computer access may call in via phone line. Visit hmono.org/services to sign up today for this online class!
URL:https://hmono.org/calendar/yoga-online-2-2-2/2029-03-22/
CATEGORIES:Exercise,Yoga
END:VEVENT
BEGIN:VEVENT
DTSTART;TZID=Pacific/Honolulu:20290327T170000
DTEND;TZID=Pacific/Honolulu:20290327T180000
DTSTAMP:20260420T095340
CREATED:20240725T224621Z
LAST-MODIFIED:20240725T230221Z
UID:10005302-1869325200-1869328800@hmono.org
SUMMARY:Yoga (online)
DESCRIPTION:Join us online for therapeutic yoga to get a gentle stretch and increase flexibility! Those with no computer access may call in via phone line. Visit hmono.org/services to sign up today for this online class!
URL:https://hmono.org/calendar/yoga-online-2-2-2/2029-03-27/
CATEGORIES:Exercise,Yoga
END:VEVENT
BEGIN:VEVENT
DTSTART;TZID=Pacific/Honolulu:20290329T170000
DTEND;TZID=Pacific/Honolulu:20290329T180000
DTSTAMP:20260420T095340
CREATED:20240725T224621Z
LAST-MODIFIED:20240725T230221Z
UID:10005303-1869498000-1869501600@hmono.org
SUMMARY:Yoga (online)
DESCRIPTION:Join us online for therapeutic yoga to get a gentle stretch and increase flexibility! Those with no computer access may call in via phone line. Visit hmono.org/services to sign up today for this online class!
URL:https://hmono.org/calendar/yoga-online-2-2-2/2029-03-29/
CATEGORIES:Exercise,Yoga
END:VEVENT
BEGIN:VEVENT
DTSTART;TZID=Pacific/Honolulu:20290403T170000
DTEND;TZID=Pacific/Honolulu:20290403T180000
DTSTAMP:20260420T095340
CREATED:20240725T224621Z
LAST-MODIFIED:20240725T230221Z
UID:10005304-1869930000-1869933600@hmono.org
SUMMARY:Yoga (online)
DESCRIPTION:Join us online for therapeutic yoga to get a gentle stretch and increase flexibility! Those with no computer access may call in via phone line. Visit hmono.org/services to sign up today for this online class!
URL:https://hmono.org/calendar/yoga-online-2-2-2/2029-04-03/
CATEGORIES:Exercise,Yoga
END:VEVENT
BEGIN:VEVENT
DTSTART;TZID=Pacific/Honolulu:20290405T170000
DTEND;TZID=Pacific/Honolulu:20290405T180000
DTSTAMP:20260420T095340
CREATED:20240725T224621Z
LAST-MODIFIED:20240725T230221Z
UID:10005305-1870102800-1870106400@hmono.org
SUMMARY:Yoga (online)
DESCRIPTION:Join us online for therapeutic yoga to get a gentle stretch and increase flexibility! Those with no computer access may call in via phone line. Visit hmono.org/services to sign up today for this online class!
URL:https://hmono.org/calendar/yoga-online-2-2-2/2029-04-05/
CATEGORIES:Exercise,Yoga
END:VEVENT
BEGIN:VEVENT
DTSTART;TZID=Pacific/Honolulu:20290410T170000
DTEND;TZID=Pacific/Honolulu:20290410T180000
DTSTAMP:20260420T095340
CREATED:20240725T224621Z
LAST-MODIFIED:20240725T230221Z
UID:10005306-1870534800-1870538400@hmono.org
SUMMARY:Yoga (online)
DESCRIPTION:Join us online for therapeutic yoga to get a gentle stretch and increase flexibility! Those with no computer access may call in via phone line. Visit hmono.org/services to sign up today for this online class!
URL:https://hmono.org/calendar/yoga-online-2-2-2/2029-04-10/
CATEGORIES:Exercise,Yoga
END:VEVENT
BEGIN:VEVENT
DTSTART;TZID=Pacific/Honolulu:20290412T170000
DTEND;TZID=Pacific/Honolulu:20290412T180000
DTSTAMP:20260420T095340
CREATED:20240725T224621Z
LAST-MODIFIED:20240725T230221Z
UID:10005307-1870707600-1870711200@hmono.org
SUMMARY:Yoga (online)
DESCRIPTION:Join us online for therapeutic yoga to get a gentle stretch and increase flexibility! Those with no computer access may call in via phone line. Visit hmono.org/services to sign up today for this online class!
URL:https://hmono.org/calendar/yoga-online-2-2-2/2029-04-12/
CATEGORIES:Exercise,Yoga
END:VEVENT
BEGIN:VEVENT
DTSTART;TZID=Pacific/Honolulu:20290417T170000
DTEND;TZID=Pacific/Honolulu:20290417T180000
DTSTAMP:20260420T095340
CREATED:20240725T224621Z
LAST-MODIFIED:20240725T230221Z
UID:10005308-1871139600-1871143200@hmono.org
SUMMARY:Yoga (online)
DESCRIPTION:Join us online for therapeutic yoga to get a gentle stretch and increase flexibility! Those with no computer access may call in via phone line. Visit hmono.org/services to sign up today for this online class!
URL:https://hmono.org/calendar/yoga-online-2-2-2/2029-04-17/
CATEGORIES:Exercise,Yoga
END:VEVENT
BEGIN:VEVENT
DTSTART;TZID=Pacific/Honolulu:20290419T170000
DTEND;TZID=Pacific/Honolulu:20290419T180000
DTSTAMP:20260420T095340
CREATED:20240725T224621Z
LAST-MODIFIED:20240725T230221Z
UID:10005309-1871312400-1871316000@hmono.org
SUMMARY:Yoga (online)
DESCRIPTION:Join us online for therapeutic yoga to get a gentle stretch and increase flexibility! Those with no computer access may call in via phone line. Visit hmono.org/services to sign up today for this online class!
URL:https://hmono.org/calendar/yoga-online-2-2-2/2029-04-19/
CATEGORIES:Exercise,Yoga
END:VEVENT
BEGIN:VEVENT
DTSTART;TZID=Pacific/Honolulu:20290424T170000
DTEND;TZID=Pacific/Honolulu:20290424T180000
DTSTAMP:20260420T095340
CREATED:20240725T224621Z
LAST-MODIFIED:20240725T230221Z
UID:10005310-1871744400-1871748000@hmono.org
SUMMARY:Yoga (online)
DESCRIPTION:Join us online for therapeutic yoga to get a gentle stretch and increase flexibility! Those with no computer access may call in via phone line. Visit hmono.org/services to sign up today for this online class!
URL:https://hmono.org/calendar/yoga-online-2-2-2/2029-04-24/
CATEGORIES:Exercise,Yoga
END:VEVENT
BEGIN:VEVENT
DTSTART;TZID=Pacific/Honolulu:20290426T170000
DTEND;TZID=Pacific/Honolulu:20290426T180000
DTSTAMP:20260420T095340
CREATED:20240725T224621Z
LAST-MODIFIED:20240725T230221Z
UID:10005311-1871917200-1871920800@hmono.org
SUMMARY:Yoga (online)
DESCRIPTION:Join us online for therapeutic yoga to get a gentle stretch and increase flexibility! Those with no computer access may call in via phone line. Visit hmono.org/services to sign up today for this online class!
URL:https://hmono.org/calendar/yoga-online-2-2-2/2029-04-26/
CATEGORIES:Exercise,Yoga
END:VEVENT
BEGIN:VEVENT
DTSTART;TZID=Pacific/Honolulu:20290501T170000
DTEND;TZID=Pacific/Honolulu:20290501T180000
DTSTAMP:20260420T095340
CREATED:20240725T224621Z
LAST-MODIFIED:20240725T230221Z
UID:10005312-1872349200-1872352800@hmono.org
SUMMARY:Yoga (online)
DESCRIPTION:Join us online for therapeutic yoga to get a gentle stretch and increase flexibility! Those with no computer access may call in via phone line. Visit hmono.org/services to sign up today for this online class!
URL:https://hmono.org/calendar/yoga-online-2-2-2/2029-05-01/
CATEGORIES:Exercise,Yoga
END:VEVENT
BEGIN:VEVENT
DTSTART;TZID=Pacific/Honolulu:20290503T170000
DTEND;TZID=Pacific/Honolulu:20290503T180000
DTSTAMP:20260420T095340
CREATED:20240725T224621Z
LAST-MODIFIED:20240725T230221Z
UID:10005313-1872522000-1872525600@hmono.org
SUMMARY:Yoga (online)
DESCRIPTION:Join us online for therapeutic yoga to get a gentle stretch and increase flexibility! Those with no computer access may call in via phone line. Visit hmono.org/services to sign up today for this online class!
URL:https://hmono.org/calendar/yoga-online-2-2-2/2029-05-03/
CATEGORIES:Exercise,Yoga
END:VEVENT
BEGIN:VEVENT
DTSTART;TZID=Pacific/Honolulu:20290508T170000
DTEND;TZID=Pacific/Honolulu:20290508T180000
DTSTAMP:20260420T095340
CREATED:20240725T224621Z
LAST-MODIFIED:20240725T230221Z
UID:10005314-1872954000-1872957600@hmono.org
SUMMARY:Yoga (online)
DESCRIPTION:Join us online for therapeutic yoga to get a gentle stretch and increase flexibility! Those with no computer access may call in via phone line. Visit hmono.org/services to sign up today for this online class!
URL:https://hmono.org/calendar/yoga-online-2-2-2/2029-05-08/
CATEGORIES:Exercise,Yoga
END:VEVENT
BEGIN:VEVENT
DTSTART;TZID=Pacific/Honolulu:20290510T170000
DTEND;TZID=Pacific/Honolulu:20290510T180000
DTSTAMP:20260420T095340
CREATED:20240725T224621Z
LAST-MODIFIED:20240725T230221Z
UID:10005315-1873126800-1873130400@hmono.org
SUMMARY:Yoga (online)
DESCRIPTION:Join us online for therapeutic yoga to get a gentle stretch and increase flexibility! Those with no computer access may call in via phone line. Visit hmono.org/services to sign up today for this online class!
URL:https://hmono.org/calendar/yoga-online-2-2-2/2029-05-10/
CATEGORIES:Exercise,Yoga
END:VEVENT
BEGIN:VEVENT
DTSTART;TZID=Pacific/Honolulu:20290515T170000
DTEND;TZID=Pacific/Honolulu:20290515T180000
DTSTAMP:20260420T095340
CREATED:20240725T224621Z
LAST-MODIFIED:20240725T230221Z
UID:10005316-1873558800-1873562400@hmono.org
SUMMARY:Yoga (online)
DESCRIPTION:Join us online for therapeutic yoga to get a gentle stretch and increase flexibility! Those with no computer access may call in via phone line. Visit hmono.org/services to sign up today for this online class!
URL:https://hmono.org/calendar/yoga-online-2-2-2/2029-05-15/
CATEGORIES:Exercise,Yoga
END:VEVENT
BEGIN:VEVENT
DTSTART;TZID=Pacific/Honolulu:20290517T170000
DTEND;TZID=Pacific/Honolulu:20290517T180000
DTSTAMP:20260420T095340
CREATED:20240725T224621Z
LAST-MODIFIED:20240725T230221Z
UID:10005317-1873731600-1873735200@hmono.org
SUMMARY:Yoga (online)
DESCRIPTION:Join us online for therapeutic yoga to get a gentle stretch and increase flexibility! Those with no computer access may call in via phone line. Visit hmono.org/services to sign up today for this online class!
URL:https://hmono.org/calendar/yoga-online-2-2-2/2029-05-17/
CATEGORIES:Exercise,Yoga
END:VEVENT
BEGIN:VEVENT
DTSTART;TZID=Pacific/Honolulu:20290522T170000
DTEND;TZID=Pacific/Honolulu:20290522T180000
DTSTAMP:20260420T095340
CREATED:20240725T224621Z
LAST-MODIFIED:20240725T230221Z
UID:10005318-1874163600-1874167200@hmono.org
SUMMARY:Yoga (online)
DESCRIPTION:Join us online for therapeutic yoga to get a gentle stretch and increase flexibility! Those with no computer access may call in via phone line. Visit hmono.org/services to sign up today for this online class!
URL:https://hmono.org/calendar/yoga-online-2-2-2/2029-05-22/
CATEGORIES:Exercise,Yoga
END:VEVENT
BEGIN:VEVENT
DTSTART;TZID=Pacific/Honolulu:20290524T170000
DTEND;TZID=Pacific/Honolulu:20290524T180000
DTSTAMP:20260420T095340
CREATED:20240725T224621Z
LAST-MODIFIED:20240725T230221Z
UID:10005319-1874336400-1874340000@hmono.org
SUMMARY:Yoga (online)
DESCRIPTION:Join us online for therapeutic yoga to get a gentle stretch and increase flexibility! Those with no computer access may call in via phone line. Visit hmono.org/services to sign up today for this online class!
URL:https://hmono.org/calendar/yoga-online-2-2-2/2029-05-24/
CATEGORIES:Exercise,Yoga
END:VEVENT
BEGIN:VEVENT
DTSTART;TZID=Pacific/Honolulu:20290529T170000
DTEND;TZID=Pacific/Honolulu:20290529T180000
DTSTAMP:20260420T095340
CREATED:20240725T224621Z
LAST-MODIFIED:20240725T230221Z
UID:10005320-1874768400-1874772000@hmono.org
SUMMARY:Yoga (online)
DESCRIPTION:Join us online for therapeutic yoga to get a gentle stretch and increase flexibility! Those with no computer access may call in via phone line. Visit hmono.org/services to sign up today for this online class!
URL:https://hmono.org/calendar/yoga-online-2-2-2/2029-05-29/
CATEGORIES:Exercise,Yoga
END:VEVENT
BEGIN:VEVENT
DTSTART;TZID=Pacific/Honolulu:20290531T170000
DTEND;TZID=Pacific/Honolulu:20290531T180000
DTSTAMP:20260420T095340
CREATED:20240725T224621Z
LAST-MODIFIED:20240725T230221Z
UID:10005321-1874941200-1874944800@hmono.org
SUMMARY:Yoga (online)
DESCRIPTION:Join us online for therapeutic yoga to get a gentle stretch and increase flexibility! Those with no computer access may call in via phone line. Visit hmono.org/services to sign up today for this online class!
URL:https://hmono.org/calendar/yoga-online-2-2-2/2029-05-31/
CATEGORIES:Exercise,Yoga
END:VEVENT
BEGIN:VEVENT
DTSTART;TZID=Pacific/Honolulu:20290605T170000
DTEND;TZID=Pacific/Honolulu:20290605T180000
DTSTAMP:20260420T095340
CREATED:20240725T224621Z
LAST-MODIFIED:20240725T230221Z
UID:10005322-1875373200-1875376800@hmono.org
SUMMARY:Yoga (online)
DESCRIPTION:Join us online for therapeutic yoga to get a gentle stretch and increase flexibility! Those with no computer access may call in via phone line. Visit hmono.org/services to sign up today for this online class!
URL:https://hmono.org/calendar/yoga-online-2-2-2/2029-06-05/
CATEGORIES:Exercise,Yoga
END:VEVENT
BEGIN:VEVENT
DTSTART;TZID=Pacific/Honolulu:20290607T170000
DTEND;TZID=Pacific/Honolulu:20290607T180000
DTSTAMP:20260420T095340
CREATED:20240725T224621Z
LAST-MODIFIED:20240725T230221Z
UID:10005323-1875546000-1875549600@hmono.org
SUMMARY:Yoga (online)
DESCRIPTION:Join us online for therapeutic yoga to get a gentle stretch and increase flexibility! Those with no computer access may call in via phone line. Visit hmono.org/services to sign up today for this online class!
URL:https://hmono.org/calendar/yoga-online-2-2-2/2029-06-07/
CATEGORIES:Exercise,Yoga
END:VEVENT
BEGIN:VEVENT
DTSTART;TZID=Pacific/Honolulu:20290612T170000
DTEND;TZID=Pacific/Honolulu:20290612T180000
DTSTAMP:20260420T095340
CREATED:20240725T224621Z
LAST-MODIFIED:20240725T230221Z
UID:10005324-1875978000-1875981600@hmono.org
SUMMARY:Yoga (online)
DESCRIPTION:Join us online for therapeutic yoga to get a gentle stretch and increase flexibility! Those with no computer access may call in via phone line. Visit hmono.org/services to sign up today for this online class!
URL:https://hmono.org/calendar/yoga-online-2-2-2/2029-06-12/
CATEGORIES:Exercise,Yoga
END:VEVENT
BEGIN:VEVENT
DTSTART;TZID=Pacific/Honolulu:20290614T170000
DTEND;TZID=Pacific/Honolulu:20290614T180000
DTSTAMP:20260420T095340
CREATED:20240725T224621Z
LAST-MODIFIED:20240725T230221Z
UID:10005325-1876150800-1876154400@hmono.org
SUMMARY:Yoga (online)
DESCRIPTION:Join us online for therapeutic yoga to get a gentle stretch and increase flexibility! Those with no computer access may call in via phone line. Visit hmono.org/services to sign up today for this online class!
URL:https://hmono.org/calendar/yoga-online-2-2-2/2029-06-14/
CATEGORIES:Exercise,Yoga
END:VEVENT
BEGIN:VEVENT
DTSTART;TZID=Pacific/Honolulu:20290619T170000
DTEND;TZID=Pacific/Honolulu:20290619T180000
DTSTAMP:20260420T095340
CREATED:20240725T224621Z
LAST-MODIFIED:20240725T230221Z
UID:10005326-1876582800-1876586400@hmono.org
SUMMARY:Yoga (online)
DESCRIPTION:Join us online for therapeutic yoga to get a gentle stretch and increase flexibility! Those with no computer access may call in via phone line. Visit hmono.org/services to sign up today for this online class!
URL:https://hmono.org/calendar/yoga-online-2-2-2/2029-06-19/
CATEGORIES:Exercise,Yoga
END:VEVENT
BEGIN:VEVENT
DTSTART;TZID=Pacific/Honolulu:20290621T170000
DTEND;TZID=Pacific/Honolulu:20290621T180000
DTSTAMP:20260420T095340
CREATED:20240725T224621Z
LAST-MODIFIED:20240725T230221Z
UID:10005327-1876755600-1876759200@hmono.org
SUMMARY:Yoga (online)
DESCRIPTION:Join us online for therapeutic yoga to get a gentle stretch and increase flexibility! Those with no computer access may call in via phone line. Visit hmono.org/services to sign up today for this online class!
URL:https://hmono.org/calendar/yoga-online-2-2-2/2029-06-21/
CATEGORIES:Exercise,Yoga
END:VEVENT
BEGIN:VEVENT
DTSTART;TZID=Pacific/Honolulu:20290626T170000
DTEND;TZID=Pacific/Honolulu:20290626T180000
DTSTAMP:20260420T095340
CREATED:20240725T224621Z
LAST-MODIFIED:20240725T230221Z
UID:10005328-1877187600-1877191200@hmono.org
SUMMARY:Yoga (online)
DESCRIPTION:Join us online for therapeutic yoga to get a gentle stretch and increase flexibility! Those with no computer access may call in via phone line. Visit hmono.org/services to sign up today for this online class!
URL:https://hmono.org/calendar/yoga-online-2-2-2/2029-06-26/
CATEGORIES:Exercise,Yoga
END:VEVENT
BEGIN:VEVENT
DTSTART;TZID=Pacific/Honolulu:20290628T170000
DTEND;TZID=Pacific/Honolulu:20290628T180000
DTSTAMP:20260420T095340
CREATED:20240725T224621Z
LAST-MODIFIED:20240725T230221Z
UID:10005329-1877360400-1877364000@hmono.org
SUMMARY:Yoga (online)
DESCRIPTION:Join us online for therapeutic yoga to get a gentle stretch and increase flexibility! Those with no computer access may call in via phone line. Visit hmono.org/services to sign up today for this online class!
URL:https://hmono.org/calendar/yoga-online-2-2-2/2029-06-28/
CATEGORIES:Exercise,Yoga
END:VEVENT
END:VCALENDAR