BEGIN:VCALENDAR
VERSION:2.0
PRODID:-//Hui Mālama Ola Nā ʻŌiwi - ECPv6.15.20//NONSGML v1.0//EN
CALSCALE:GREGORIAN
METHOD:PUBLISH
X-ORIGINAL-URL:https://hmono.org
X-WR-CALDESC:Events for Hui Mālama Ola Nā ʻŌiwi
REFRESH-INTERVAL;VALUE=DURATION:PT1H
X-Robots-Tag:noindex
X-PUBLISHED-TTL:PT1H
BEGIN:VTIMEZONE
TZID:Pacific/Honolulu
BEGIN:STANDARD
TZOFFSETFROM:-1000
TZOFFSETTO:-1000
TZNAME:HST
DTSTART:20180101T000000
END:STANDARD
END:VTIMEZONE
BEGIN:VEVENT
DTSTART;TZID=Pacific/Honolulu:20190730T170000
DTEND;TZID=Pacific/Honolulu:20190730T180000
DTSTAMP:20260422T122751
CREATED:20190320T020002Z
LAST-MODIFIED:20190720T022947Z
UID:10001728-1564506000-1564509600@hmono.org
SUMMARY:Therapeutic Yoga Keaukaha 5:00pm
DESCRIPTION:Join us for yoga to get a gentle stretch and increase flexibility! Call (808) 969-9220 for more info.
URL:https://hmono.org/calendar/therapeutic-yoga-2019-07-25/2019-07-30/
LOCATION:Malia Puka O Kalani Church Gym\, 326 Desha Ave\, Hilo\, HI 96720\, Hilo\, United States
CATEGORIES:Exercise,Yoga
GEO:19.7296034;-155.0427974
X-APPLE-STRUCTURED-LOCATION;VALUE=URI;X-ADDRESS=Malia Puka O Kalani Church Gym 326 Desha Ave Hilo HI 96720 Hilo United States;X-APPLE-RADIUS=500;X-TITLE=326 Desha Ave\, Hilo\, HI 96720:geo:-155.0427974,19.7296034
END:VEVENT
BEGIN:VEVENT
DTSTART;TZID=Pacific/Honolulu:20190730T170000
DTEND;TZID=Pacific/Honolulu:20190730T180000
DTSTAMP:20260422T122751
CREATED:20190320T020002Z
LAST-MODIFIED:20190709T200259Z
UID:10001722-1564506000-1564509600@hmono.org
SUMMARY:Therapeutic Yoga Keaukaha CANCELLED
DESCRIPTION:This class in Keaukaha has been cancelled for this date. No other classes are affected. Mahalo for your patience. Call (808) 969-9220 for more info.
URL:https://hmono.org/calendar/therapeutic-yoga-2019-07-30/
LOCATION:Malia Puka O Kalani Church Gym\, 326 Desha Ave\, Hilo\, HI 96720\, Hilo\, United States
CATEGORIES:Exercise,Yoga
GEO:19.7296034;-155.0427974
X-APPLE-STRUCTURED-LOCATION;VALUE=URI;X-ADDRESS=Malia Puka O Kalani Church Gym 326 Desha Ave Hilo HI 96720 Hilo United States;X-APPLE-RADIUS=500;X-TITLE=326 Desha Ave\, Hilo\, HI 96720:geo:-155.0427974,19.7296034
END:VEVENT
BEGIN:VEVENT
DTSTART;TZID=Pacific/Honolulu:20190801T170000
DTEND;TZID=Pacific/Honolulu:20190801T180000
DTSTAMP:20260422T122751
CREATED:20190320T020002Z
LAST-MODIFIED:20190720T022947Z
UID:10001729-1564678800-1564682400@hmono.org
SUMMARY:Therapeutic Yoga Keaukaha 5:00pm
DESCRIPTION:Join us for yoga to get a gentle stretch and increase flexibility! Call (808) 969-9220 for more info.
URL:https://hmono.org/calendar/therapeutic-yoga-2019-07-25/2019-08-01/
LOCATION:Malia Puka O Kalani Church Gym\, 326 Desha Ave\, Hilo\, HI 96720\, Hilo\, United States
CATEGORIES:Exercise,Yoga
GEO:19.7296034;-155.0427974
X-APPLE-STRUCTURED-LOCATION;VALUE=URI;X-ADDRESS=Malia Puka O Kalani Church Gym 326 Desha Ave Hilo HI 96720 Hilo United States;X-APPLE-RADIUS=500;X-TITLE=326 Desha Ave\, Hilo\, HI 96720:geo:-155.0427974,19.7296034
END:VEVENT
END:VCALENDAR