BEGIN:VCALENDAR
VERSION:2.0
PRODID:-//Hui Mālama Ola Nā ʻŌiwi - ECPv6.15.20//NONSGML v1.0//EN
CALSCALE:GREGORIAN
METHOD:PUBLISH
X-ORIGINAL-URL:https://hmono.org
X-WR-CALDESC:Events for Hui Mālama Ola Nā ʻŌiwi
REFRESH-INTERVAL;VALUE=DURATION:PT1H
X-Robots-Tag:noindex
X-PUBLISHED-TTL:PT1H
BEGIN:VTIMEZONE
TZID:Pacific/Honolulu
BEGIN:STANDARD
TZOFFSETFROM:-1000
TZOFFSETTO:-1000
TZNAME:HST
DTSTART:20190101T000000
END:STANDARD
END:VTIMEZONE
BEGIN:VEVENT
DTSTART;TZID=Pacific/Honolulu:20200401T170000
DTEND;TZID=Pacific/Honolulu:20200401T183000
DTSTAMP:20260422T172522
CREATED:20200116T010602Z
LAST-MODIFIED:20200401T013549Z
UID:10000725-1585760400-1585765800@hmono.org
SUMMARY:Hula for Health Class Hilo POSTPONED
DESCRIPTION:All Hui Mālama Ola Nā ʻŌiwi classes\, workshops\, support groups\, and community events have been postponed until further notice. We are working diligently on providing creative virtual activities for you to connect with while you stay safe at home during this time. \nInterested in this service? Sign-up here and we will contact you.
URL:https://hmono.org/calendar/ola-hou-i-ka-hula-hypertension-class-hilo-500pm-3-2020-03-18/2020-04-01/
LOCATION:HMONO Hilo Office\, 1438 Kilauea Avenue\, Hilo\, HI\, 96720\, United States
CATEGORIES:Health Education
GEO:19.7076749;-155.0759854
X-APPLE-STRUCTURED-LOCATION;VALUE=URI;X-ADDRESS=HMONO Hilo Office 1438 Kilauea Avenue Hilo HI 96720 United States;X-APPLE-RADIUS=500;X-TITLE=1438 Kilauea Avenue:geo:-155.0759854,19.7076749
END:VEVENT
BEGIN:VEVENT
DTSTART;TZID=Pacific/Honolulu:20200402T170000
DTEND;TZID=Pacific/Honolulu:20200402T190000
DTSTAMP:20260422T172522
CREATED:20200311T005916Z
LAST-MODIFIED:20200401T014511Z
UID:10002954-1585846800-1585854000@hmono.org
SUMMARY:Diabetes Management Hilo POSTPONED
DESCRIPTION:All Hui Mālama Ola Nā ʻŌiwi classes\, workshops\, support groups\, and community events have been postponed until further notice. We are working diligently on providing creative virtual activities for you to connect with while you stay safe at home during this time. \nInterested in this service? Sign-up here and we will contact you.
URL:https://hmono.org/calendar/diabetes-management-hilo-500pm-2/2020-04-02/
LOCATION:HMONO Hilo Office\, 1438 Kilauea Avenue\, Hilo\, HI\, 96720\, United States
CATEGORIES:Health Education
GEO:19.7076749;-155.0759854
X-APPLE-STRUCTURED-LOCATION;VALUE=URI;X-ADDRESS=HMONO Hilo Office 1438 Kilauea Avenue Hilo HI 96720 United States;X-APPLE-RADIUS=500;X-TITLE=1438 Kilauea Avenue:geo:-155.0759854,19.7076749
END:VEVENT
BEGIN:VEVENT
DTSTART;TZID=Pacific/Honolulu:20200402T173000
DTEND;TZID=Pacific/Honolulu:20200402T193000
DTSTAMP:20260422T172522
CREATED:20200311T011201Z
LAST-MODIFIED:20200401T014826Z
UID:10002696-1585848600-1585855800@hmono.org
SUMMARY:Healthy At Any Size Honokaʻa POSTPONED
DESCRIPTION:All Hui Mālama Ola Nā ʻŌiwi classes\, workshops\, support groups\, and community events have been postponed until further notice. We are working diligently on providing creative virtual activities for you to connect with while you stay safe at home during this time. \nInterested in this service? Sign-up here and we will contact you.
URL:https://hmono.org/calendar/healthy-at-any-size-waimea-530pm/2020-04-02/
LOCATION:North Hawaii Education And research Center\, 45-539 Plumeria St\, Honokaa\, HI\, 96727\, United States
CATEGORIES:Health Education,Nutrition
GEO:20.076428;-155.4704433
X-APPLE-STRUCTURED-LOCATION;VALUE=URI;X-ADDRESS=North Hawaii Education And research Center 45-539 Plumeria St Honokaa HI 96727 United States;X-APPLE-RADIUS=500;X-TITLE=45-539 Plumeria St:geo:-155.4704433,20.076428
END:VEVENT
BEGIN:VEVENT
DTSTART;TZID=Pacific/Honolulu:20200408T170000
DTEND;TZID=Pacific/Honolulu:20200408T183000
DTSTAMP:20260422T172522
CREATED:20200116T010602Z
LAST-MODIFIED:20200401T013549Z
UID:10000726-1586365200-1586370600@hmono.org
SUMMARY:Hula for Health Class Hilo POSTPONED
DESCRIPTION:All Hui Mālama Ola Nā ʻŌiwi classes\, workshops\, support groups\, and community events have been postponed until further notice. We are working diligently on providing creative virtual activities for you to connect with while you stay safe at home during this time. \nInterested in this service? Sign-up here and we will contact you.
URL:https://hmono.org/calendar/ola-hou-i-ka-hula-hypertension-class-hilo-500pm-3-2020-03-18/2020-04-08/
LOCATION:HMONO Hilo Office\, 1438 Kilauea Avenue\, Hilo\, HI\, 96720\, United States
CATEGORIES:Health Education
GEO:19.7076749;-155.0759854
X-APPLE-STRUCTURED-LOCATION;VALUE=URI;X-ADDRESS=HMONO Hilo Office 1438 Kilauea Avenue Hilo HI 96720 United States;X-APPLE-RADIUS=500;X-TITLE=1438 Kilauea Avenue:geo:-155.0759854,19.7076749
END:VEVENT
BEGIN:VEVENT
DTSTART;TZID=Pacific/Honolulu:20200409T170000
DTEND;TZID=Pacific/Honolulu:20200409T190000
DTSTAMP:20260422T172522
CREATED:20200311T005916Z
LAST-MODIFIED:20200401T014511Z
UID:10002955-1586451600-1586458800@hmono.org
SUMMARY:Diabetes Management Hilo POSTPONED
DESCRIPTION:All Hui Mālama Ola Nā ʻŌiwi classes\, workshops\, support groups\, and community events have been postponed until further notice. We are working diligently on providing creative virtual activities for you to connect with while you stay safe at home during this time. \nInterested in this service? Sign-up here and we will contact you.
URL:https://hmono.org/calendar/diabetes-management-hilo-500pm-2/2020-04-09/
LOCATION:HMONO Hilo Office\, 1438 Kilauea Avenue\, Hilo\, HI\, 96720\, United States
CATEGORIES:Health Education
GEO:19.7076749;-155.0759854
X-APPLE-STRUCTURED-LOCATION;VALUE=URI;X-ADDRESS=HMONO Hilo Office 1438 Kilauea Avenue Hilo HI 96720 United States;X-APPLE-RADIUS=500;X-TITLE=1438 Kilauea Avenue:geo:-155.0759854,19.7076749
END:VEVENT
BEGIN:VEVENT
DTSTART;TZID=Pacific/Honolulu:20200409T173000
DTEND;TZID=Pacific/Honolulu:20200409T193000
DTSTAMP:20260422T172522
CREATED:20200311T011201Z
LAST-MODIFIED:20200401T014826Z
UID:10002697-1586453400-1586460600@hmono.org
SUMMARY:Healthy At Any Size Honokaʻa POSTPONED
DESCRIPTION:All Hui Mālama Ola Nā ʻŌiwi classes\, workshops\, support groups\, and community events have been postponed until further notice. We are working diligently on providing creative virtual activities for you to connect with while you stay safe at home during this time. \nInterested in this service? Sign-up here and we will contact you.
URL:https://hmono.org/calendar/healthy-at-any-size-waimea-530pm/2020-04-09/
LOCATION:North Hawaii Education And research Center\, 45-539 Plumeria St\, Honokaa\, HI\, 96727\, United States
CATEGORIES:Health Education,Nutrition
GEO:20.076428;-155.4704433
X-APPLE-STRUCTURED-LOCATION;VALUE=URI;X-ADDRESS=North Hawaii Education And research Center 45-539 Plumeria St Honokaa HI 96727 United States;X-APPLE-RADIUS=500;X-TITLE=45-539 Plumeria St:geo:-155.4704433,20.076428
END:VEVENT
BEGIN:VEVENT
DTSTART;TZID=Pacific/Honolulu:20200415T170000
DTEND;TZID=Pacific/Honolulu:20200415T183000
DTSTAMP:20260422T172522
CREATED:20200116T010602Z
LAST-MODIFIED:20200401T013549Z
UID:10000727-1586970000-1586975400@hmono.org
SUMMARY:Hula for Health Class Hilo POSTPONED
DESCRIPTION:All Hui Mālama Ola Nā ʻŌiwi classes\, workshops\, support groups\, and community events have been postponed until further notice. We are working diligently on providing creative virtual activities for you to connect with while you stay safe at home during this time. \nInterested in this service? Sign-up here and we will contact you.
URL:https://hmono.org/calendar/ola-hou-i-ka-hula-hypertension-class-hilo-500pm-3-2020-03-18/2020-04-15/
LOCATION:HMONO Hilo Office\, 1438 Kilauea Avenue\, Hilo\, HI\, 96720\, United States
CATEGORIES:Health Education
GEO:19.7076749;-155.0759854
X-APPLE-STRUCTURED-LOCATION;VALUE=URI;X-ADDRESS=HMONO Hilo Office 1438 Kilauea Avenue Hilo HI 96720 United States;X-APPLE-RADIUS=500;X-TITLE=1438 Kilauea Avenue:geo:-155.0759854,19.7076749
END:VEVENT
BEGIN:VEVENT
DTSTART;TZID=Pacific/Honolulu:20200416T173000
DTEND;TZID=Pacific/Honolulu:20200416T193000
DTSTAMP:20260422T172522
CREATED:20200311T011201Z
LAST-MODIFIED:20200401T014826Z
UID:10002698-1587058200-1587065400@hmono.org
SUMMARY:Healthy At Any Size Honokaʻa POSTPONED
DESCRIPTION:All Hui Mālama Ola Nā ʻŌiwi classes\, workshops\, support groups\, and community events have been postponed until further notice. We are working diligently on providing creative virtual activities for you to connect with while you stay safe at home during this time. \nInterested in this service? Sign-up here and we will contact you.
URL:https://hmono.org/calendar/healthy-at-any-size-waimea-530pm/2020-04-16/
LOCATION:North Hawaii Education And research Center\, 45-539 Plumeria St\, Honokaa\, HI\, 96727\, United States
CATEGORIES:Health Education,Nutrition
GEO:20.076428;-155.4704433
X-APPLE-STRUCTURED-LOCATION;VALUE=URI;X-ADDRESS=North Hawaii Education And research Center 45-539 Plumeria St Honokaa HI 96727 United States;X-APPLE-RADIUS=500;X-TITLE=45-539 Plumeria St:geo:-155.4704433,20.076428
END:VEVENT
BEGIN:VEVENT
DTSTART;TZID=Pacific/Honolulu:20200417T100000
DTEND;TZID=Pacific/Honolulu:20200417T110000
DTSTAMP:20260422T172522
CREATED:20200414T233404Z
LAST-MODIFIED:20200414T233404Z
UID:10002362-1587117600-1587121200@hmono.org
SUMMARY:Health and Wellness Support Group (Online)
DESCRIPTION:Join us for activities that will positively affect mental health and learn coping methods during this time of stress! if you are interested in this class sign up using http://hmono.org/services/ classes will be held via zoom!
URL:https://hmono.org/calendar/health-and-wellness-support-group-online/
CATEGORIES:Health Education,Support Group
END:VEVENT
BEGIN:VEVENT
DTSTART;TZID=Pacific/Honolulu:20200422T170000
DTEND;TZID=Pacific/Honolulu:20200422T183000
DTSTAMP:20260422T172522
CREATED:20200116T010602Z
LAST-MODIFIED:20200401T013549Z
UID:10000728-1587574800-1587580200@hmono.org
SUMMARY:Hula for Health Class Hilo POSTPONED
DESCRIPTION:All Hui Mālama Ola Nā ʻŌiwi classes\, workshops\, support groups\, and community events have been postponed until further notice. We are working diligently on providing creative virtual activities for you to connect with while you stay safe at home during this time. \nInterested in this service? Sign-up here and we will contact you.
URL:https://hmono.org/calendar/ola-hou-i-ka-hula-hypertension-class-hilo-500pm-3-2020-03-18/2020-04-22/
LOCATION:HMONO Hilo Office\, 1438 Kilauea Avenue\, Hilo\, HI\, 96720\, United States
CATEGORIES:Health Education
GEO:19.7076749;-155.0759854
X-APPLE-STRUCTURED-LOCATION;VALUE=URI;X-ADDRESS=HMONO Hilo Office 1438 Kilauea Avenue Hilo HI 96720 United States;X-APPLE-RADIUS=500;X-TITLE=1438 Kilauea Avenue:geo:-155.0759854,19.7076749
END:VEVENT
BEGIN:VEVENT
DTSTART;TZID=Pacific/Honolulu:20200423T170000
DTEND;TZID=Pacific/Honolulu:20200423T190000
DTSTAMP:20260422T172522
CREATED:20200311T005916Z
LAST-MODIFIED:20200401T014511Z
UID:10002956-1587661200-1587668400@hmono.org
SUMMARY:Diabetes Management Hilo POSTPONED
DESCRIPTION:All Hui Mālama Ola Nā ʻŌiwi classes\, workshops\, support groups\, and community events have been postponed until further notice. We are working diligently on providing creative virtual activities for you to connect with while you stay safe at home during this time. \nInterested in this service? Sign-up here and we will contact you.
URL:https://hmono.org/calendar/diabetes-management-hilo-500pm-2/2020-04-23/
LOCATION:HMONO Hilo Office\, 1438 Kilauea Avenue\, Hilo\, HI\, 96720\, United States
CATEGORIES:Health Education
GEO:19.7076749;-155.0759854
X-APPLE-STRUCTURED-LOCATION;VALUE=URI;X-ADDRESS=HMONO Hilo Office 1438 Kilauea Avenue Hilo HI 96720 United States;X-APPLE-RADIUS=500;X-TITLE=1438 Kilauea Avenue:geo:-155.0759854,19.7076749
END:VEVENT
BEGIN:VEVENT
DTSTART;TZID=Pacific/Honolulu:20200423T173000
DTEND;TZID=Pacific/Honolulu:20200423T193000
DTSTAMP:20260422T172522
CREATED:20200311T011201Z
LAST-MODIFIED:20200401T014826Z
UID:10002699-1587663000-1587670200@hmono.org
SUMMARY:Healthy At Any Size Honokaʻa POSTPONED
DESCRIPTION:All Hui Mālama Ola Nā ʻŌiwi classes\, workshops\, support groups\, and community events have been postponed until further notice. We are working diligently on providing creative virtual activities for you to connect with while you stay safe at home during this time. \nInterested in this service? Sign-up here and we will contact you.
URL:https://hmono.org/calendar/healthy-at-any-size-waimea-530pm/2020-04-23/
LOCATION:North Hawaii Education And research Center\, 45-539 Plumeria St\, Honokaa\, HI\, 96727\, United States
CATEGORIES:Health Education,Nutrition
GEO:20.076428;-155.4704433
X-APPLE-STRUCTURED-LOCATION;VALUE=URI;X-ADDRESS=North Hawaii Education And research Center 45-539 Plumeria St Honokaa HI 96727 United States;X-APPLE-RADIUS=500;X-TITLE=45-539 Plumeria St:geo:-155.4704433,20.076428
END:VEVENT
BEGIN:VEVENT
DTSTART;TZID=Pacific/Honolulu:20200429T170000
DTEND;TZID=Pacific/Honolulu:20200429T183000
DTSTAMP:20260422T172522
CREATED:20200116T010602Z
LAST-MODIFIED:20200401T013549Z
UID:10000729-1588179600-1588185000@hmono.org
SUMMARY:Hula for Health Class Hilo POSTPONED
DESCRIPTION:All Hui Mālama Ola Nā ʻŌiwi classes\, workshops\, support groups\, and community events have been postponed until further notice. We are working diligently on providing creative virtual activities for you to connect with while you stay safe at home during this time. \nInterested in this service? Sign-up here and we will contact you.
URL:https://hmono.org/calendar/ola-hou-i-ka-hula-hypertension-class-hilo-500pm-3-2020-03-18/2020-04-29/
LOCATION:HMONO Hilo Office\, 1438 Kilauea Avenue\, Hilo\, HI\, 96720\, United States
CATEGORIES:Health Education
GEO:19.7076749;-155.0759854
X-APPLE-STRUCTURED-LOCATION;VALUE=URI;X-ADDRESS=HMONO Hilo Office 1438 Kilauea Avenue Hilo HI 96720 United States;X-APPLE-RADIUS=500;X-TITLE=1438 Kilauea Avenue:geo:-155.0759854,19.7076749
END:VEVENT
END:VCALENDAR