BEGIN:VCALENDAR
VERSION:2.0
PRODID:-//Hui Mālama Ola Nā ʻŌiwi - ECPv6.15.20//NONSGML v1.0//EN
CALSCALE:GREGORIAN
METHOD:PUBLISH
X-ORIGINAL-URL:https://hmono.org
X-WR-CALDESC:Events for Hui Mālama Ola Nā ʻŌiwi
REFRESH-INTERVAL;VALUE=DURATION:PT1H
X-Robots-Tag:noindex
X-PUBLISHED-TTL:PT1H
BEGIN:VTIMEZONE
TZID:Pacific/Honolulu
BEGIN:STANDARD
TZOFFSETFROM:-1000
TZOFFSETTO:-1000
TZNAME:HST
DTSTART:20190101T000000
END:STANDARD
END:VTIMEZONE
BEGIN:VEVENT
DTSTART;TZID=Pacific/Honolulu:20200805T170000
DTEND;TZID=Pacific/Honolulu:20200805T183000
DTSTAMP:20260421T151048
CREATED:20200624T213727Z
LAST-MODIFIED:20220119T003559Z
UID:10002210-1596646800-1596652200@hmono.org
SUMMARY:Hula for Health (online)
DESCRIPTION:Join us as we stay healthy with hula! To sign-up for this class\, visit hmono.org/services and we will contact you about how to join!
URL:https://hmono.org/calendar/hula-for-health-online/2020-08-05/
CATEGORIES:Health Education
END:VEVENT
BEGIN:VEVENT
DTSTART;TZID=Pacific/Honolulu:20200806T170000
DTEND;TZID=Pacific/Honolulu:20200806T190000
DTSTAMP:20260421T151048
CREATED:20200728T193704Z
LAST-MODIFIED:20200728T193704Z
UID:10001936-1596733200-1596740400@hmono.org
SUMMARY:Mindful Eating Lab Level 1 (Online)
DESCRIPTION:In this interactive series\, learn how to slow down the eating process\, listen to physiological cues of hunger/fullness/satisfaction\, while making mindful food choices that enhance nutritional benefits and overall health. Those with no computer access may call in via phone line. Use hmono.org/services/ to sign up today for this online class!
URL:https://hmono.org/calendar/mindful-eating-lab-level-1-online/2020-08-06/
CATEGORIES:Health Education,Nutrition
END:VEVENT
BEGIN:VEVENT
DTSTART;TZID=Pacific/Honolulu:20200810T170000
DTEND;TZID=Pacific/Honolulu:20200810T180000
DTSTAMP:20260421T151048
CREATED:20200501T010911Z
LAST-MODIFIED:20220119T004115Z
UID:10000802-1597078800-1597082400@hmono.org
SUMMARY:Cultural Wellness Support Group (Online)
DESCRIPTION:Join us for our online wellness class that focuses on cultural practices\, crafts and conversations. Those with no computer access may call in via phone line. Visit hmono.org/services/ to sign-up!
URL:https://hmono.org/calendar/cultural-wellness-support-group-online/2020-08-10/
CATEGORIES:Health Education
END:VEVENT
BEGIN:VEVENT
DTSTART;TZID=Pacific/Honolulu:20200812T170000
DTEND;TZID=Pacific/Honolulu:20200812T183000
DTSTAMP:20260421T151048
CREATED:20200624T213727Z
LAST-MODIFIED:20220119T003559Z
UID:10002211-1597251600-1597257000@hmono.org
SUMMARY:Hula for Health (online)
DESCRIPTION:Join us as we stay healthy with hula! To sign-up for this class\, visit hmono.org/services and we will contact you about how to join!
URL:https://hmono.org/calendar/hula-for-health-online/2020-08-12/
CATEGORIES:Health Education
END:VEVENT
BEGIN:VEVENT
DTSTART;TZID=Pacific/Honolulu:20200812T170000
DTEND;TZID=Pacific/Honolulu:20200812T190000
DTSTAMP:20260421T151048
CREATED:20200728T192610Z
LAST-MODIFIED:20200728T192735Z
UID:10002186-1597251600-1597258800@hmono.org
SUMMARY:Diabetes Self Management Education and Support Class (Online)
DESCRIPTION:NOTICE: DEADLINE TO SIGN UP IS JULY 29\, 2020. \nInterested in learning more about your diabetes diagnosis and how to manage it? This class will be on Zoom app that can be accessed on a commuter or Smartphone. Those with no computer access may call in via phone line. Use hmono.org/services/ to sign up by July 29\,2020 for this online class!
URL:https://hmono.org/calendar/diabetes-self-management-education-and-support-class-online-3/2020-08-12/
CATEGORIES:Health Education
END:VEVENT
BEGIN:VEVENT
DTSTART;TZID=Pacific/Honolulu:20200813T170000
DTEND;TZID=Pacific/Honolulu:20200813T190000
DTSTAMP:20260421T151048
CREATED:20200728T193704Z
LAST-MODIFIED:20200728T193704Z
UID:10001937-1597338000-1597345200@hmono.org
SUMMARY:Mindful Eating Lab Level 1 (Online)
DESCRIPTION:In this interactive series\, learn how to slow down the eating process\, listen to physiological cues of hunger/fullness/satisfaction\, while making mindful food choices that enhance nutritional benefits and overall health. Those with no computer access may call in via phone line. Use hmono.org/services/ to sign up today for this online class!
URL:https://hmono.org/calendar/mindful-eating-lab-level-1-online/2020-08-13/
CATEGORIES:Health Education,Nutrition
END:VEVENT
BEGIN:VEVENT
DTSTART;TZID=Pacific/Honolulu:20200817T170000
DTEND;TZID=Pacific/Honolulu:20200817T180000
DTSTAMP:20260421T151048
CREATED:20200501T010911Z
LAST-MODIFIED:20220119T004115Z
UID:10000803-1597683600-1597687200@hmono.org
SUMMARY:Cultural Wellness Support Group (Online)
DESCRIPTION:Join us for our online wellness class that focuses on cultural practices\, crafts and conversations. Those with no computer access may call in via phone line. Visit hmono.org/services/ to sign-up!
URL:https://hmono.org/calendar/cultural-wellness-support-group-online/2020-08-17/
CATEGORIES:Health Education
END:VEVENT
BEGIN:VEVENT
DTSTART;TZID=Pacific/Honolulu:20200819T170000
DTEND;TZID=Pacific/Honolulu:20200819T183000
DTSTAMP:20260421T151048
CREATED:20200624T213727Z
LAST-MODIFIED:20220119T003559Z
UID:10002212-1597856400-1597861800@hmono.org
SUMMARY:Hula for Health (online)
DESCRIPTION:Join us as we stay healthy with hula! To sign-up for this class\, visit hmono.org/services and we will contact you about how to join!
URL:https://hmono.org/calendar/hula-for-health-online/2020-08-19/
CATEGORIES:Health Education
END:VEVENT
BEGIN:VEVENT
DTSTART;TZID=Pacific/Honolulu:20200819T170000
DTEND;TZID=Pacific/Honolulu:20200819T190000
DTSTAMP:20260421T151048
CREATED:20200728T192610Z
LAST-MODIFIED:20200728T192735Z
UID:10002187-1597856400-1597863600@hmono.org
SUMMARY:Diabetes Self Management Education and Support Class (Online)
DESCRIPTION:NOTICE: DEADLINE TO SIGN UP IS JULY 29\, 2020. \nInterested in learning more about your diabetes diagnosis and how to manage it? This class will be on Zoom app that can be accessed on a commuter or Smartphone. Those with no computer access may call in via phone line. Use hmono.org/services/ to sign up by July 29\,2020 for this online class!
URL:https://hmono.org/calendar/diabetes-self-management-education-and-support-class-online-3/2020-08-19/
CATEGORIES:Health Education
END:VEVENT
BEGIN:VEVENT
DTSTART;TZID=Pacific/Honolulu:20200820T170000
DTEND;TZID=Pacific/Honolulu:20200820T190000
DTSTAMP:20260421T151048
CREATED:20200728T193704Z
LAST-MODIFIED:20200728T193704Z
UID:10001938-1597942800-1597950000@hmono.org
SUMMARY:Mindful Eating Lab Level 1 (Online)
DESCRIPTION:In this interactive series\, learn how to slow down the eating process\, listen to physiological cues of hunger/fullness/satisfaction\, while making mindful food choices that enhance nutritional benefits and overall health. Those with no computer access may call in via phone line. Use hmono.org/services/ to sign up today for this online class!
URL:https://hmono.org/calendar/mindful-eating-lab-level-1-online/2020-08-20/
CATEGORIES:Health Education,Nutrition
END:VEVENT
BEGIN:VEVENT
DTSTART;TZID=Pacific/Honolulu:20200824T170000
DTEND;TZID=Pacific/Honolulu:20200824T180000
DTSTAMP:20260421T151048
CREATED:20200501T010911Z
LAST-MODIFIED:20220119T004115Z
UID:10000804-1598288400-1598292000@hmono.org
SUMMARY:Cultural Wellness Support Group (Online)
DESCRIPTION:Join us for our online wellness class that focuses on cultural practices\, crafts and conversations. Those with no computer access may call in via phone line. Visit hmono.org/services/ to sign-up!
URL:https://hmono.org/calendar/cultural-wellness-support-group-online/2020-08-24/
CATEGORIES:Health Education
END:VEVENT
BEGIN:VEVENT
DTSTART;TZID=Pacific/Honolulu:20200826T170000
DTEND;TZID=Pacific/Honolulu:20200826T183000
DTSTAMP:20260421T151048
CREATED:20200624T213727Z
LAST-MODIFIED:20220119T003559Z
UID:10002213-1598461200-1598466600@hmono.org
SUMMARY:Hula for Health (online)
DESCRIPTION:Join us as we stay healthy with hula! To sign-up for this class\, visit hmono.org/services and we will contact you about how to join!
URL:https://hmono.org/calendar/hula-for-health-online/2020-08-26/
CATEGORIES:Health Education
END:VEVENT
BEGIN:VEVENT
DTSTART;TZID=Pacific/Honolulu:20200826T170000
DTEND;TZID=Pacific/Honolulu:20200826T190000
DTSTAMP:20260421T151048
CREATED:20200728T192610Z
LAST-MODIFIED:20200728T192735Z
UID:10002188-1598461200-1598468400@hmono.org
SUMMARY:Diabetes Self Management Education and Support Class (Online)
DESCRIPTION:NOTICE: DEADLINE TO SIGN UP IS JULY 29\, 2020. \nInterested in learning more about your diabetes diagnosis and how to manage it? This class will be on Zoom app that can be accessed on a commuter or Smartphone. Those with no computer access may call in via phone line. Use hmono.org/services/ to sign up by July 29\,2020 for this online class!
URL:https://hmono.org/calendar/diabetes-self-management-education-and-support-class-online-3/2020-08-26/
CATEGORIES:Health Education
END:VEVENT
BEGIN:VEVENT
DTSTART;TZID=Pacific/Honolulu:20200827T170000
DTEND;TZID=Pacific/Honolulu:20200827T190000
DTSTAMP:20260421T151048
CREATED:20200728T193704Z
LAST-MODIFIED:20200728T193704Z
UID:10001939-1598547600-1598554800@hmono.org
SUMMARY:Mindful Eating Lab Level 1 (Online)
DESCRIPTION:In this interactive series\, learn how to slow down the eating process\, listen to physiological cues of hunger/fullness/satisfaction\, while making mindful food choices that enhance nutritional benefits and overall health. Those with no computer access may call in via phone line. Use hmono.org/services/ to sign up today for this online class!
URL:https://hmono.org/calendar/mindful-eating-lab-level-1-online/2020-08-27/
CATEGORIES:Health Education,Nutrition
END:VEVENT
BEGIN:VEVENT
DTSTART;TZID=Pacific/Honolulu:20200831T170000
DTEND;TZID=Pacific/Honolulu:20200831T180000
DTSTAMP:20260421T151048
CREATED:20200501T010911Z
LAST-MODIFIED:20220119T004115Z
UID:10000805-1598893200-1598896800@hmono.org
SUMMARY:Cultural Wellness Support Group (Online)
DESCRIPTION:Join us for our online wellness class that focuses on cultural practices\, crafts and conversations. Those with no computer access may call in via phone line. Visit hmono.org/services/ to sign-up!
URL:https://hmono.org/calendar/cultural-wellness-support-group-online/2020-08-31/
CATEGORIES:Health Education
END:VEVENT
END:VCALENDAR