BEGIN:VCALENDAR
VERSION:2.0
PRODID:-//Hui Mālama Ola Nā ʻŌiwi - ECPv6.15.20//NONSGML v1.0//EN
CALSCALE:GREGORIAN
METHOD:PUBLISH
X-WR-CALNAME:Hui Mālama Ola Nā ʻŌiwi
X-ORIGINAL-URL:https://hmono.org
X-WR-CALDESC:Events for Hui Mālama Ola Nā ʻŌiwi
REFRESH-INTERVAL;VALUE=DURATION:PT1H
X-Robots-Tag:noindex
X-PUBLISHED-TTL:PT1H
BEGIN:VTIMEZONE
TZID:Pacific/Honolulu
BEGIN:STANDARD
TZOFFSETFROM:-1000
TZOFFSETTO:-1000
TZNAME:HST
DTSTART:20190101T000000
END:STANDARD
END:VTIMEZONE
BEGIN:VEVENT
DTSTART;TZID=Pacific/Honolulu:20201104T170000
DTEND;TZID=Pacific/Honolulu:20201104T183000
DTSTAMP:20260419T152130
CREATED:20200624T213727Z
LAST-MODIFIED:20220119T003559Z
UID:10002223-1604509200-1604514600@hmono.org
SUMMARY:Hula for Health (online)
DESCRIPTION:Join us as we stay healthy with hula! To sign-up for this class\, visit hmono.org/services and we will contact you about how to join!
URL:https://hmono.org/calendar/hula-for-health-online/2020-11-04/
CATEGORIES:Health Education
END:VEVENT
BEGIN:VEVENT
DTSTART;TZID=Pacific/Honolulu:20201105T170000
DTEND;TZID=Pacific/Honolulu:20201105T190000
DTSTAMP:20260419T152130
CREATED:20201021T233056Z
LAST-MODIFIED:20201021T233056Z
UID:10001104-1604595600-1604602800@hmono.org
SUMMARY:Hypertension Class (online)
DESCRIPTION:Hui Mālama Ola Nā ʻŌiwi offers FREE education about hypertension! Join this online\, three-day class by signing up at hmono.org/services.
URL:https://hmono.org/calendar/hypertension-class-online-2/2020-11-05/
CATEGORIES:Health Education
END:VEVENT
BEGIN:VEVENT
DTSTART;TZID=Pacific/Honolulu:20201109T170000
DTEND;TZID=Pacific/Honolulu:20201109T180000
DTSTAMP:20260419T152130
CREATED:20200501T010911Z
LAST-MODIFIED:20220119T004115Z
UID:10000811-1604941200-1604944800@hmono.org
SUMMARY:Cultural Wellness Support Group (Online)
DESCRIPTION:Join us for our online wellness class that focuses on cultural practices\, crafts and conversations. Those with no computer access may call in via phone line. Visit hmono.org/services/ to sign-up!
URL:https://hmono.org/calendar/cultural-wellness-support-group-online/2020-11-09/
CATEGORIES:Health Education
END:VEVENT
BEGIN:VEVENT
DTSTART;TZID=Pacific/Honolulu:20201112T170000
DTEND;TZID=Pacific/Honolulu:20201112T190000
DTSTAMP:20260419T152130
CREATED:20201021T233056Z
LAST-MODIFIED:20201021T233056Z
UID:10001105-1605200400-1605207600@hmono.org
SUMMARY:Hypertension Class (online)
DESCRIPTION:Hui Mālama Ola Nā ʻŌiwi offers FREE education about hypertension! Join this online\, three-day class by signing up at hmono.org/services.
URL:https://hmono.org/calendar/hypertension-class-online-2/2020-11-12/
CATEGORIES:Health Education
END:VEVENT
BEGIN:VEVENT
DTSTART;TZID=Pacific/Honolulu:20201116T170000
DTEND;TZID=Pacific/Honolulu:20201116T180000
DTSTAMP:20260419T152130
CREATED:20200501T010911Z
LAST-MODIFIED:20220119T004115Z
UID:10000812-1605546000-1605549600@hmono.org
SUMMARY:Cultural Wellness Support Group (Online)
DESCRIPTION:Join us for our online wellness class that focuses on cultural practices\, crafts and conversations. Those with no computer access may call in via phone line. Visit hmono.org/services/ to sign-up!
URL:https://hmono.org/calendar/cultural-wellness-support-group-online/2020-11-16/
CATEGORIES:Health Education
END:VEVENT
BEGIN:VEVENT
DTSTART;TZID=Pacific/Honolulu:20201118T170000
DTEND;TZID=Pacific/Honolulu:20201118T183000
DTSTAMP:20260419T152130
CREATED:20200624T213727Z
LAST-MODIFIED:20220119T003559Z
UID:10002224-1605718800-1605724200@hmono.org
SUMMARY:Hula for Health (online)
DESCRIPTION:Join us as we stay healthy with hula! To sign-up for this class\, visit hmono.org/services and we will contact you about how to join!
URL:https://hmono.org/calendar/hula-for-health-online/2020-11-18/
CATEGORIES:Health Education
END:VEVENT
BEGIN:VEVENT
DTSTART;TZID=Pacific/Honolulu:20201119T170000
DTEND;TZID=Pacific/Honolulu:20201119T190000
DTSTAMP:20260419T152130
CREATED:20201021T233056Z
LAST-MODIFIED:20201021T233056Z
UID:10001106-1605805200-1605812400@hmono.org
SUMMARY:Hypertension Class (online)
DESCRIPTION:Hui Mālama Ola Nā ʻŌiwi offers FREE education about hypertension! Join this online\, three-day class by signing up at hmono.org/services.
URL:https://hmono.org/calendar/hypertension-class-online-2/2020-11-19/
CATEGORIES:Health Education
END:VEVENT
BEGIN:VEVENT
DTSTART;TZID=Pacific/Honolulu:20201123T170000
DTEND;TZID=Pacific/Honolulu:20201123T180000
DTSTAMP:20260419T152130
CREATED:20200501T010911Z
LAST-MODIFIED:20220119T004115Z
UID:10000813-1606150800-1606154400@hmono.org
SUMMARY:Cultural Wellness Support Group (Online)
DESCRIPTION:Join us for our online wellness class that focuses on cultural practices\, crafts and conversations. Those with no computer access may call in via phone line. Visit hmono.org/services/ to sign-up!
URL:https://hmono.org/calendar/cultural-wellness-support-group-online/2020-11-23/
CATEGORIES:Health Education
END:VEVENT
BEGIN:VEVENT
DTSTART;TZID=Pacific/Honolulu:20201123T170000
DTEND;TZID=Pacific/Honolulu:20201123T190000
DTSTAMP:20260419T152130
CREATED:20201021T234212Z
LAST-MODIFIED:20201124T012925Z
UID:10001111-1606150800-1606158000@hmono.org
SUMMARY:Chronic Kidney Disease Class (online)
DESCRIPTION:If you have been diagnosed with CHRONIC KIDNEY DISEASE (CKD) and would like to learn how to stop its progression to avoid dialysis\, join us for this 3-week online course! This course is facilitated by two Dietitians with experience in the dialysis setting: Sarah Josef\, MA\, RDN\, LD\, and Cara Vende Berg\, MA\, RDN\, LD. \nSign up at hmono.org/services.
URL:https://hmono.org/calendar/chronic-kidney-disease-class-online/2020-11-23/
CATEGORIES:Health Education
END:VEVENT
BEGIN:VEVENT
DTSTART;TZID=Pacific/Honolulu:20201125T170000
DTEND;TZID=Pacific/Honolulu:20201125T183000
DTSTAMP:20260419T152130
CREATED:20200624T213727Z
LAST-MODIFIED:20220119T003559Z
UID:10002225-1606323600-1606329000@hmono.org
SUMMARY:Hula for Health (online)
DESCRIPTION:Join us as we stay healthy with hula! To sign-up for this class\, visit hmono.org/services and we will contact you about how to join!
URL:https://hmono.org/calendar/hula-for-health-online/2020-11-25/
CATEGORIES:Health Education
END:VEVENT
BEGIN:VEVENT
DTSTART;TZID=Pacific/Honolulu:20201130T170000
DTEND;TZID=Pacific/Honolulu:20201130T180000
DTSTAMP:20260419T152130
CREATED:20200501T010911Z
LAST-MODIFIED:20220119T004115Z
UID:10000814-1606755600-1606759200@hmono.org
SUMMARY:Cultural Wellness Support Group (Online)
DESCRIPTION:Join us for our online wellness class that focuses on cultural practices\, crafts and conversations. Those with no computer access may call in via phone line. Visit hmono.org/services/ to sign-up!
URL:https://hmono.org/calendar/cultural-wellness-support-group-online/2020-11-30/
CATEGORIES:Health Education
END:VEVENT
BEGIN:VEVENT
DTSTART;TZID=Pacific/Honolulu:20201130T170000
DTEND;TZID=Pacific/Honolulu:20201130T190000
DTSTAMP:20260419T152130
CREATED:20201021T234212Z
LAST-MODIFIED:20201124T012925Z
UID:10001112-1606755600-1606762800@hmono.org
SUMMARY:Chronic Kidney Disease Class (online)
DESCRIPTION:If you have been diagnosed with CHRONIC KIDNEY DISEASE (CKD) and would like to learn how to stop its progression to avoid dialysis\, join us for this 3-week online course! This course is facilitated by two Dietitians with experience in the dialysis setting: Sarah Josef\, MA\, RDN\, LD\, and Cara Vende Berg\, MA\, RDN\, LD. \nSign up at hmono.org/services.
URL:https://hmono.org/calendar/chronic-kidney-disease-class-online/2020-11-30/
CATEGORIES:Health Education
END:VEVENT
END:VCALENDAR