BEGIN:VCALENDAR
VERSION:2.0
PRODID:-//Hui Mālama Ola Nā ʻŌiwi - ECPv6.15.20//NONSGML v1.0//EN
CALSCALE:GREGORIAN
METHOD:PUBLISH
X-WR-CALNAME:Hui Mālama Ola Nā ʻŌiwi
X-ORIGINAL-URL:https://hmono.org
X-WR-CALDESC:Events for Hui Mālama Ola Nā ʻŌiwi
REFRESH-INTERVAL;VALUE=DURATION:PT1H
X-Robots-Tag:noindex
X-PUBLISHED-TTL:PT1H
BEGIN:VTIMEZONE
TZID:Pacific/Honolulu
BEGIN:STANDARD
TZOFFSETFROM:-1000
TZOFFSETTO:-1000
TZNAME:HST
DTSTART:20190101T000000
END:STANDARD
END:VTIMEZONE
BEGIN:VEVENT
DTSTART;TZID=Pacific/Honolulu:20201029T170000
DTEND;TZID=Pacific/Honolulu:20201029T190000
DTSTAMP:20260420T054607
CREATED:20200923T001022Z
LAST-MODIFIED:20200923T001022Z
UID:10002810-1603990800-1603998000@hmono.org
SUMMARY:Mindful Eating Lab Level 2 (Online)
DESCRIPTION:Mindful eating promotes increased enjoyment of food while empowering one to better nourish their body\, mind\, and spirit. This 3-week class is recommended for those who have taken Mindful Eating Lab Level 1 or Healthy At Any Size class. Sign up at hmono.org/services.
URL:https://hmono.org/calendar/mindful-eating-lab-level-2-online/2020-10-29/
CATEGORIES:Health Education,Nutrition
END:VEVENT
END:VCALENDAR