BEGIN:VCALENDAR
VERSION:2.0
PRODID:-//Hui Mālama Ola Nā ʻŌiwi - ECPv6.15.20//NONSGML v1.0//EN
CALSCALE:GREGORIAN
METHOD:PUBLISH
X-WR-CALNAME:Hui Mālama Ola Nā ʻŌiwi
X-ORIGINAL-URL:https://hmono.org
X-WR-CALDESC:Events for Hui Mālama Ola Nā ʻŌiwi
REFRESH-INTERVAL;VALUE=DURATION:PT1H
X-Robots-Tag:noindex
X-PUBLISHED-TTL:PT1H
BEGIN:VTIMEZONE
TZID:Pacific/Honolulu
BEGIN:STANDARD
TZOFFSETFROM:-1000
TZOFFSETTO:-1000
TZNAME:HST
DTSTART:20160101T000000
END:STANDARD
END:VTIMEZONE
BEGIN:VEVENT
DTSTART;TZID=Pacific/Honolulu:20170606T163000
DTEND;TZID=Pacific/Honolulu:20170606T173000
DTSTAMP:20260420T164845
CREATED:20170530T235837Z
LAST-MODIFIED:20170530T235947Z
UID:10001386-1496766600-1496770200@hmono.org
SUMMARY:EFNEP 4:30pm Kealakehe High School
DESCRIPTION:Hawaii’s Expanded Food and Nutrition Education Program (EFNEP) provides resource management\, food safety\, and food skills to limited resource populations. The program contributes to personal development of the family\, diet and nutritional well-being.
URL:https://hmono.org/calendar/efnep/
LOCATION:Kealakehe High School (Malie Center Computer Lab)\, 74-5000 Puohulihuli St\, Kailua-Kona\, HI\, 96740\, United States
CATEGORIES:Health Education,Nutrition
ATTACH;FMTTYPE=image/jpeg:https://hmono.org/wp-content/uploads/2017/05/Nutrition.jpg
GEO:19.6684867;-155.9980238
X-APPLE-STRUCTURED-LOCATION;VALUE=URI;X-ADDRESS=Kealakehe High School (Malie Center Computer Lab) 74-5000 Puohulihuli St Kailua-Kona HI 96740 United States;X-APPLE-RADIUS=500;X-TITLE=74-5000 Puohulihuli St:geo:-155.9980238,19.6684867
END:VEVENT
BEGIN:VEVENT
DTSTART;TZID=Pacific/Honolulu:20170613T163000
DTEND;TZID=Pacific/Honolulu:20170613T173000
DTSTAMP:20260420T164845
CREATED:20170530T235837Z
LAST-MODIFIED:20170530T235837Z
UID:10001231-1497371400-1497375000@hmono.org
SUMMARY:EFNEP 4:30pm Kealakehe High School
DESCRIPTION:Hawaii’s Expanded Food and Nutrition Education Program (EFNEP) provides resource management\, food safety\, and food skills to limited resource populations. The program contributes to personal development of the family\, diet and nutritional well-being.
URL:https://hmono.org/calendar/efnep-430pm-kealakehe-high-school-2/
LOCATION:Kealakehe High School (Malie Center Computer Lab)\, 74-5000 Puohulihuli St\, Kailua-Kona\, HI\, 96740\, United States
CATEGORIES:Health Education,Nutrition
ATTACH;FMTTYPE=image/jpeg:https://hmono.org/wp-content/uploads/2017/05/Nutrition.jpg
GEO:19.6684867;-155.9980238
X-APPLE-STRUCTURED-LOCATION;VALUE=URI;X-ADDRESS=Kealakehe High School (Malie Center Computer Lab) 74-5000 Puohulihuli St Kailua-Kona HI 96740 United States;X-APPLE-RADIUS=500;X-TITLE=74-5000 Puohulihuli St:geo:-155.9980238,19.6684867
END:VEVENT
BEGIN:VEVENT
DTSTART;TZID=Pacific/Honolulu:20170620T163000
DTEND;TZID=Pacific/Honolulu:20170620T173000
DTSTAMP:20260420T164845
CREATED:20170530T235837Z
LAST-MODIFIED:20170531T000446Z
UID:10001309-1497976200-1497979800@hmono.org
SUMMARY:EFNEP 4:30pm Kealakehe High School
DESCRIPTION:Hawaii’s Expanded Food and Nutrition Education Program (EFNEP) provides resource management\, food safety\, and food skills to limited resource populations. The program contributes to personal development of the family\, diet and nutritional well-being.
URL:https://hmono.org/calendar/efnep-430pm-kealakehe-high-school/
LOCATION:Kealakehe High School (Malie Center Computer Lab)\, 74-5000 Puohulihuli St\, Kailua-Kona\, HI\, 96740\, United States
CATEGORIES:Health Education,Nutrition
ATTACH;FMTTYPE=image/jpeg:https://hmono.org/wp-content/uploads/2017/05/Nutrition.jpg
GEO:19.6684867;-155.9980238
X-APPLE-STRUCTURED-LOCATION;VALUE=URI;X-ADDRESS=Kealakehe High School (Malie Center Computer Lab) 74-5000 Puohulihuli St Kailua-Kona HI 96740 United States;X-APPLE-RADIUS=500;X-TITLE=74-5000 Puohulihuli St:geo:-155.9980238,19.6684867
END:VEVENT
BEGIN:VEVENT
DTSTART;TZID=Pacific/Honolulu:20170627T163000
DTEND;TZID=Pacific/Honolulu:20170627T173000
DTSTAMP:20260420T164845
CREATED:20170530T235837Z
LAST-MODIFIED:20170530T235837Z
UID:10001224-1498581000-1498584600@hmono.org
SUMMARY:EFNEP 4:30pm Kealakehe High School
DESCRIPTION:Hawaii’s Expanded Food and Nutrition Education Program (EFNEP) provides resource management\, food safety\, and food skills to limited resource populations. The program contributes to personal development of the family\, diet and nutritional well-being.
URL:https://hmono.org/calendar/efnep-430pm-kealakehe-high-school-3/
LOCATION:Kealakehe High School (Malie Center Computer Lab)\, 74-5000 Puohulihuli St\, Kailua-Kona\, HI\, 96740\, United States
CATEGORIES:Health Education,Nutrition
ATTACH;FMTTYPE=image/jpeg:https://hmono.org/wp-content/uploads/2017/05/Nutrition.jpg
GEO:19.6684867;-155.9980238
X-APPLE-STRUCTURED-LOCATION;VALUE=URI;X-ADDRESS=Kealakehe High School (Malie Center Computer Lab) 74-5000 Puohulihuli St Kailua-Kona HI 96740 United States;X-APPLE-RADIUS=500;X-TITLE=74-5000 Puohulihuli St:geo:-155.9980238,19.6684867
END:VEVENT
BEGIN:VEVENT
DTSTART;TZID=Pacific/Honolulu:20180604T160000
DTEND;TZID=Pacific/Honolulu:20180604T180000
DTSTAMP:20260420T164845
CREATED:20180523T230208Z
LAST-MODIFIED:20180703T004444Z
UID:10001193-1528128000-1528135200@hmono.org
SUMMARY:Healthy Hāpai Prenatal Class Waimea 4:00pm
DESCRIPTION:
URL:https://hmono.org/calendar/healthy-hapai-prenatal-class-400pm/2018-06-04/
LOCATION:Tutu’s House\, 64-1032 Mamalahoa Highway\, Kamuela\, HI\, 96743\, United States
CATEGORIES:Health Education
ATTACH;FMTTYPE=image/jpeg:https://hmono.org/wp-content/uploads/2018/01/HH-Logo-e1514942376860.jpg
GEO:20.0254141;-155.6589786
X-APPLE-STRUCTURED-LOCATION;VALUE=URI;X-ADDRESS=Tutu’s House 64-1032 Mamalahoa Highway Kamuela HI 96743 United States;X-APPLE-RADIUS=500;X-TITLE=64-1032 Mamalahoa Highway:geo:-155.6589786,20.0254141
END:VEVENT
BEGIN:VEVENT
DTSTART;TZID=Pacific/Honolulu:20180618T160000
DTEND;TZID=Pacific/Honolulu:20180618T180000
DTSTAMP:20260420T164845
CREATED:20180523T230208Z
LAST-MODIFIED:20180703T004444Z
UID:10001194-1529337600-1529344800@hmono.org
SUMMARY:Healthy Hāpai Prenatal Class Waimea 4:00pm
DESCRIPTION:
URL:https://hmono.org/calendar/healthy-hapai-prenatal-class-400pm/2018-06-18/
LOCATION:Tutu’s House\, 64-1032 Mamalahoa Highway\, Kamuela\, HI\, 96743\, United States
CATEGORIES:Health Education
ATTACH;FMTTYPE=image/jpeg:https://hmono.org/wp-content/uploads/2018/01/HH-Logo-e1514942376860.jpg
GEO:20.0254141;-155.6589786
X-APPLE-STRUCTURED-LOCATION;VALUE=URI;X-ADDRESS=Tutu’s House 64-1032 Mamalahoa Highway Kamuela HI 96743 United States;X-APPLE-RADIUS=500;X-TITLE=64-1032 Mamalahoa Highway:geo:-155.6589786,20.0254141
END:VEVENT
BEGIN:VEVENT
DTSTART;TZID=Pacific/Honolulu:20180625T160000
DTEND;TZID=Pacific/Honolulu:20180625T180000
DTSTAMP:20260420T164845
CREATED:20180523T230208Z
LAST-MODIFIED:20180703T004444Z
UID:10001195-1529942400-1529949600@hmono.org
SUMMARY:Healthy Hāpai Prenatal Class Waimea 4:00pm
DESCRIPTION:
URL:https://hmono.org/calendar/healthy-hapai-prenatal-class-400pm/2018-06-25/
LOCATION:Tutu’s House\, 64-1032 Mamalahoa Highway\, Kamuela\, HI\, 96743\, United States
CATEGORIES:Health Education
ATTACH;FMTTYPE=image/jpeg:https://hmono.org/wp-content/uploads/2018/01/HH-Logo-e1514942376860.jpg
GEO:20.0254141;-155.6589786
X-APPLE-STRUCTURED-LOCATION;VALUE=URI;X-ADDRESS=Tutu’s House 64-1032 Mamalahoa Highway Kamuela HI 96743 United States;X-APPLE-RADIUS=500;X-TITLE=64-1032 Mamalahoa Highway:geo:-155.6589786,20.0254141
END:VEVENT
BEGIN:VEVENT
DTSTART;TZID=Pacific/Honolulu:20180702T160000
DTEND;TZID=Pacific/Honolulu:20180702T180000
DTSTAMP:20260420T164845
CREATED:20180523T230208Z
LAST-MODIFIED:20180703T004444Z
UID:10001196-1530547200-1530554400@hmono.org
SUMMARY:Healthy Hāpai Prenatal Class Waimea 4:00pm
DESCRIPTION:
URL:https://hmono.org/calendar/healthy-hapai-prenatal-class-400pm/2018-07-02/
LOCATION:Tutu’s House\, 64-1032 Mamalahoa Highway\, Kamuela\, HI\, 96743\, United States
CATEGORIES:Health Education
ATTACH;FMTTYPE=image/jpeg:https://hmono.org/wp-content/uploads/2018/01/HH-Logo-e1514942376860.jpg
GEO:20.0254141;-155.6589786
X-APPLE-STRUCTURED-LOCATION;VALUE=URI;X-ADDRESS=Tutu’s House 64-1032 Mamalahoa Highway Kamuela HI 96743 United States;X-APPLE-RADIUS=500;X-TITLE=64-1032 Mamalahoa Highway:geo:-155.6589786,20.0254141
END:VEVENT
BEGIN:VEVENT
DTSTART;TZID=Pacific/Honolulu:20180709T160000
DTEND;TZID=Pacific/Honolulu:20180709T180000
DTSTAMP:20260420T164845
CREATED:20180523T230208Z
LAST-MODIFIED:20180703T004444Z
UID:10001197-1531152000-1531159200@hmono.org
SUMMARY:Healthy Hāpai Prenatal Class Waimea 4:00pm
DESCRIPTION:
URL:https://hmono.org/calendar/healthy-hapai-prenatal-class-400pm/2018-07-09/
LOCATION:Tutu’s House\, 64-1032 Mamalahoa Highway\, Kamuela\, HI\, 96743\, United States
CATEGORIES:Health Education
ATTACH;FMTTYPE=image/jpeg:https://hmono.org/wp-content/uploads/2018/01/HH-Logo-e1514942376860.jpg
GEO:20.0254141;-155.6589786
X-APPLE-STRUCTURED-LOCATION;VALUE=URI;X-ADDRESS=Tutu’s House 64-1032 Mamalahoa Highway Kamuela HI 96743 United States;X-APPLE-RADIUS=500;X-TITLE=64-1032 Mamalahoa Highway:geo:-155.6589786,20.0254141
END:VEVENT
BEGIN:VEVENT
DTSTART;TZID=Pacific/Honolulu:20190408T163000
DTEND;TZID=Pacific/Honolulu:20190408T173000
DTSTAMP:20260420T164845
CREATED:20190325T184139Z
LAST-MODIFIED:20190408T200349Z
UID:10000571-1554741000-1554744600@hmono.org
SUMMARY:Hypertension Class Waimea 4:30pm
DESCRIPTION:Looking for more information on how to manage your hypertension? Join us for this free hypertension class! Must have a hypertension diagnosis to be eligible. For more information and to sign-up\, call us at (808) 969-9220.
URL:https://hmono.org/calendar/hypertension-class-waimea-430pm/2019-04-08/
LOCATION:Mana Christian ‘Ohana\, 67-1182 Lindsey Rd\, Waimea\, HI\, 96743\, United States
CATEGORIES:Health Education
GEO:20.0184986;-155.6669037
X-APPLE-STRUCTURED-LOCATION;VALUE=URI;X-ADDRESS=Mana Christian ‘Ohana 67-1182 Lindsey Rd Waimea HI 96743 United States;X-APPLE-RADIUS=500;X-TITLE=67-1182 Lindsey Rd:geo:-155.6669037,20.0184986
END:VEVENT
BEGIN:VEVENT
DTSTART;TZID=Pacific/Honolulu:20190408T170000
DTEND;TZID=Pacific/Honolulu:20190408T180000
DTSTAMP:20260420T164845
CREATED:20190325T183934Z
LAST-MODIFIED:20190408T200456Z
UID:10000567-1554742800-1554746400@hmono.org
SUMMARY:Hypertension Class Kaʻū 5:00pm
DESCRIPTION:Looking for more information on how to manage your hypertension? Join us for this free hypertension class! This class is open to those with a hypertension diagnosis. For more information and to sign-up\, call us at (808) 969-9220.
URL:https://hmono.org/calendar/hypertension-class-ka%ca%bbu-500pm/2019-04-08/
LOCATION:Kaʻū Gym Community MPR\, 96-3150 Pikake Street\, Pāhala\, HI\, 96777\, United States
CATEGORIES:Health Education
GEO:19.2028916;-155.4791944
X-APPLE-STRUCTURED-LOCATION;VALUE=URI;X-ADDRESS=Kaʻū Gym Community MPR 96-3150 Pikake Street Pāhala HI 96777 United States;X-APPLE-RADIUS=500;X-TITLE=96-3150 Pikake Street:geo:-155.4791944,19.2028916
END:VEVENT
BEGIN:VEVENT
DTSTART;TZID=Pacific/Honolulu:20190409T163000
DTEND;TZID=Pacific/Honolulu:20190409T173000
DTSTAMP:20260420T164845
CREATED:20190325T184355Z
LAST-MODIFIED:20190408T200229Z
UID:10000575-1554827400-1554831000@hmono.org
SUMMARY:Hypertension Class Kona 4:30pm
DESCRIPTION:Looking for more information on how to manage your hypertension? Join us for this free hypertension class! This class is open to those with a hypertension diagnosis. For location and to sign-up\, call us at (808) 969-9220.
URL:https://hmono.org/calendar/hypertension-class-kona-430pm-2/2019-04-09/
LOCATION:HI\, United States
CATEGORIES:Health Education
GEO:19.8967662;-155.5827818
END:VEVENT
BEGIN:VEVENT
DTSTART;TZID=Pacific/Honolulu:20190411T140000
DTEND;TZID=Pacific/Honolulu:20190411T150000
DTSTAMP:20260420T164845
CREATED:20190323T022445Z
LAST-MODIFIED:20190323T022445Z
UID:10001984-1554991200-1554994800@hmono.org
SUMMARY:Tobacco Cessation Class Hilo 2:00PM
DESCRIPTION:It’s never too late to quit tobacco! Join us along with Bay Clinic to learn more about tobacco cessation. For more information or to sign up\, call us at 808-969-9220.
URL:https://hmono.org/calendar/tobacco-cessation-class-hilo-200pm/2019-04-11/
LOCATION:HMONO Hilo Office\, 1438 Kilauea Avenue\, Hilo\, HI\, 96720\, United States
CATEGORIES:Health Education
GEO:19.7076749;-155.0759854
X-APPLE-STRUCTURED-LOCATION;VALUE=URI;X-ADDRESS=HMONO Hilo Office 1438 Kilauea Avenue Hilo HI 96720 United States;X-APPLE-RADIUS=500;X-TITLE=1438 Kilauea Avenue:geo:-155.0759854,19.7076749
END:VEVENT
BEGIN:VEVENT
DTSTART;TZID=Pacific/Honolulu:20190415T163000
DTEND;TZID=Pacific/Honolulu:20190415T173000
DTSTAMP:20260420T164845
CREATED:20190325T184139Z
LAST-MODIFIED:20190408T200349Z
UID:10000572-1555345800-1555349400@hmono.org
SUMMARY:Hypertension Class Waimea 4:30pm
DESCRIPTION:Looking for more information on how to manage your hypertension? Join us for this free hypertension class! Must have a hypertension diagnosis to be eligible. For more information and to sign-up\, call us at (808) 969-9220.
URL:https://hmono.org/calendar/hypertension-class-waimea-430pm/2019-04-15/
LOCATION:Mana Christian ‘Ohana\, 67-1182 Lindsey Rd\, Waimea\, HI\, 96743\, United States
CATEGORIES:Health Education
GEO:20.0184986;-155.6669037
X-APPLE-STRUCTURED-LOCATION;VALUE=URI;X-ADDRESS=Mana Christian ‘Ohana 67-1182 Lindsey Rd Waimea HI 96743 United States;X-APPLE-RADIUS=500;X-TITLE=67-1182 Lindsey Rd:geo:-155.6669037,20.0184986
END:VEVENT
BEGIN:VEVENT
DTSTART;TZID=Pacific/Honolulu:20190415T170000
DTEND;TZID=Pacific/Honolulu:20190415T180000
DTSTAMP:20260420T164845
CREATED:20190325T183934Z
LAST-MODIFIED:20190408T200456Z
UID:10000568-1555347600-1555351200@hmono.org
SUMMARY:Hypertension Class Kaʻū 5:00pm
DESCRIPTION:Looking for more information on how to manage your hypertension? Join us for this free hypertension class! This class is open to those with a hypertension diagnosis. For more information and to sign-up\, call us at (808) 969-9220.
URL:https://hmono.org/calendar/hypertension-class-ka%ca%bbu-500pm/2019-04-15/
LOCATION:Kaʻū Gym Community MPR\, 96-3150 Pikake Street\, Pāhala\, HI\, 96777\, United States
CATEGORIES:Health Education
GEO:19.2028916;-155.4791944
X-APPLE-STRUCTURED-LOCATION;VALUE=URI;X-ADDRESS=Kaʻū Gym Community MPR 96-3150 Pikake Street Pāhala HI 96777 United States;X-APPLE-RADIUS=500;X-TITLE=96-3150 Pikake Street:geo:-155.4791944,19.2028916
END:VEVENT
BEGIN:VEVENT
DTSTART;TZID=Pacific/Honolulu:20190416T163000
DTEND;TZID=Pacific/Honolulu:20190416T173000
DTSTAMP:20260420T164845
CREATED:20190325T184355Z
LAST-MODIFIED:20190408T200229Z
UID:10000576-1555432200-1555435800@hmono.org
SUMMARY:Hypertension Class Kona 4:30pm
DESCRIPTION:Looking for more information on how to manage your hypertension? Join us for this free hypertension class! This class is open to those with a hypertension diagnosis. For location and to sign-up\, call us at (808) 969-9220.
URL:https://hmono.org/calendar/hypertension-class-kona-430pm-2/2019-04-16/
LOCATION:HI\, United States
CATEGORIES:Health Education
GEO:19.8967662;-155.5827818
END:VEVENT
BEGIN:VEVENT
DTSTART;TZID=Pacific/Honolulu:20190418T140000
DTEND;TZID=Pacific/Honolulu:20190418T150000
DTSTAMP:20260420T164845
CREATED:20190323T022445Z
LAST-MODIFIED:20190323T022445Z
UID:10001985-1555596000-1555599600@hmono.org
SUMMARY:Tobacco Cessation Class Hilo 2:00PM
DESCRIPTION:It’s never too late to quit tobacco! Join us along with Bay Clinic to learn more about tobacco cessation. For more information or to sign up\, call us at 808-969-9220.
URL:https://hmono.org/calendar/tobacco-cessation-class-hilo-200pm/2019-04-18/
LOCATION:HMONO Hilo Office\, 1438 Kilauea Avenue\, Hilo\, HI\, 96720\, United States
CATEGORIES:Health Education
GEO:19.7076749;-155.0759854
X-APPLE-STRUCTURED-LOCATION;VALUE=URI;X-ADDRESS=HMONO Hilo Office 1438 Kilauea Avenue Hilo HI 96720 United States;X-APPLE-RADIUS=500;X-TITLE=1438 Kilauea Avenue:geo:-155.0759854,19.7076749
END:VEVENT
BEGIN:VEVENT
DTSTART;TZID=Pacific/Honolulu:20190422T163000
DTEND;TZID=Pacific/Honolulu:20190422T173000
DTSTAMP:20260420T164845
CREATED:20190325T184139Z
LAST-MODIFIED:20190408T200349Z
UID:10000573-1555950600-1555954200@hmono.org
SUMMARY:Hypertension Class Waimea 4:30pm
DESCRIPTION:Looking for more information on how to manage your hypertension? Join us for this free hypertension class! Must have a hypertension diagnosis to be eligible. For more information and to sign-up\, call us at (808) 969-9220.
URL:https://hmono.org/calendar/hypertension-class-waimea-430pm/2019-04-22/
LOCATION:Mana Christian ‘Ohana\, 67-1182 Lindsey Rd\, Waimea\, HI\, 96743\, United States
CATEGORIES:Health Education
GEO:20.0184986;-155.6669037
X-APPLE-STRUCTURED-LOCATION;VALUE=URI;X-ADDRESS=Mana Christian ‘Ohana 67-1182 Lindsey Rd Waimea HI 96743 United States;X-APPLE-RADIUS=500;X-TITLE=67-1182 Lindsey Rd:geo:-155.6669037,20.0184986
END:VEVENT
BEGIN:VEVENT
DTSTART;TZID=Pacific/Honolulu:20190422T170000
DTEND;TZID=Pacific/Honolulu:20190422T180000
DTSTAMP:20260420T164845
CREATED:20190325T183934Z
LAST-MODIFIED:20190408T200456Z
UID:10000569-1555952400-1555956000@hmono.org
SUMMARY:Hypertension Class Kaʻū 5:00pm
DESCRIPTION:Looking for more information on how to manage your hypertension? Join us for this free hypertension class! This class is open to those with a hypertension diagnosis. For more information and to sign-up\, call us at (808) 969-9220.
URL:https://hmono.org/calendar/hypertension-class-ka%ca%bbu-500pm/2019-04-22/
LOCATION:Kaʻū Gym Community MPR\, 96-3150 Pikake Street\, Pāhala\, HI\, 96777\, United States
CATEGORIES:Health Education
GEO:19.2028916;-155.4791944
X-APPLE-STRUCTURED-LOCATION;VALUE=URI;X-ADDRESS=Kaʻū Gym Community MPR 96-3150 Pikake Street Pāhala HI 96777 United States;X-APPLE-RADIUS=500;X-TITLE=96-3150 Pikake Street:geo:-155.4791944,19.2028916
END:VEVENT
BEGIN:VEVENT
DTSTART;TZID=Pacific/Honolulu:20190423T163000
DTEND;TZID=Pacific/Honolulu:20190423T173000
DTSTAMP:20260420T164845
CREATED:20190325T184355Z
LAST-MODIFIED:20190408T200229Z
UID:10000577-1556037000-1556040600@hmono.org
SUMMARY:Hypertension Class Kona 4:30pm
DESCRIPTION:Looking for more information on how to manage your hypertension? Join us for this free hypertension class! This class is open to those with a hypertension diagnosis. For location and to sign-up\, call us at (808) 969-9220.
URL:https://hmono.org/calendar/hypertension-class-kona-430pm-2/2019-04-23/
LOCATION:HI\, United States
CATEGORIES:Health Education
GEO:19.8967662;-155.5827818
END:VEVENT
BEGIN:VEVENT
DTSTART;TZID=Pacific/Honolulu:20190425T140000
DTEND;TZID=Pacific/Honolulu:20190425T150000
DTSTAMP:20260420T164845
CREATED:20190323T022445Z
LAST-MODIFIED:20190323T022445Z
UID:10001986-1556200800-1556204400@hmono.org
SUMMARY:Tobacco Cessation Class Hilo 2:00PM
DESCRIPTION:It’s never too late to quit tobacco! Join us along with Bay Clinic to learn more about tobacco cessation. For more information or to sign up\, call us at 808-969-9220.
URL:https://hmono.org/calendar/tobacco-cessation-class-hilo-200pm/2019-04-25/
LOCATION:HMONO Hilo Office\, 1438 Kilauea Avenue\, Hilo\, HI\, 96720\, United States
CATEGORIES:Health Education
GEO:19.7076749;-155.0759854
X-APPLE-STRUCTURED-LOCATION;VALUE=URI;X-ADDRESS=HMONO Hilo Office 1438 Kilauea Avenue Hilo HI 96720 United States;X-APPLE-RADIUS=500;X-TITLE=1438 Kilauea Avenue:geo:-155.0759854,19.7076749
END:VEVENT
BEGIN:VEVENT
DTSTART;TZID=Pacific/Honolulu:20190502T100000
DTEND;TZID=Pacific/Honolulu:20190502T120000
DTSTAMP:20260420T164845
CREATED:20190325T191939Z
LAST-MODIFIED:20190325T191939Z
UID:10002132-1556791200-1556798400@hmono.org
SUMMARY:Healthy H​āpai Hilo 10:00am
DESCRIPTION:Join us for prenatal and postnatal education for parents-to-be! Call (808) 969-9220 to sign-up or to get more information.
URL:https://hmono.org/calendar/healthy-h%e2%80%8bapai-hilo-1000am-2/2019-05-02/
LOCATION:HMONO Hilo Office\, 1438 Kilauea Avenue\, Hilo\, HI\, 96720\, United States
CATEGORIES:Health Education
GEO:19.7076749;-155.0759854
X-APPLE-STRUCTURED-LOCATION;VALUE=URI;X-ADDRESS=HMONO Hilo Office 1438 Kilauea Avenue Hilo HI 96720 United States;X-APPLE-RADIUS=500;X-TITLE=1438 Kilauea Avenue:geo:-155.0759854,19.7076749
END:VEVENT
BEGIN:VEVENT
DTSTART;TZID=Pacific/Honolulu:20190502T140000
DTEND;TZID=Pacific/Honolulu:20190502T150000
DTSTAMP:20260420T164845
CREATED:20190323T022445Z
LAST-MODIFIED:20190323T022445Z
UID:10001987-1556805600-1556809200@hmono.org
SUMMARY:Tobacco Cessation Class Hilo 2:00PM
DESCRIPTION:It’s never too late to quit tobacco! Join us along with Bay Clinic to learn more about tobacco cessation. For more information or to sign up\, call us at 808-969-9220.
URL:https://hmono.org/calendar/tobacco-cessation-class-hilo-200pm/2019-05-02/
LOCATION:HMONO Hilo Office\, 1438 Kilauea Avenue\, Hilo\, HI\, 96720\, United States
CATEGORIES:Health Education
GEO:19.7076749;-155.0759854
X-APPLE-STRUCTURED-LOCATION;VALUE=URI;X-ADDRESS=HMONO Hilo Office 1438 Kilauea Avenue Hilo HI 96720 United States;X-APPLE-RADIUS=500;X-TITLE=1438 Kilauea Avenue:geo:-155.0759854,19.7076749
END:VEVENT
BEGIN:VEVENT
DTSTART;TZID=Pacific/Honolulu:20190502T170000
DTEND;TZID=Pacific/Honolulu:20190502T190000
DTSTAMP:20260420T164845
CREATED:20190325T192123Z
LAST-MODIFIED:20190325T192123Z
UID:10001997-1556816400-1556823600@hmono.org
SUMMARY:Diabetes Management Class Hilo 5:00pm
DESCRIPTION:Learn how to manage your diabetes during this FREE class! Call (808) 969-9220 to learn more and sign-up today! Class is open to those with a diabetes diagnosis.
URL:https://hmono.org/calendar/diabetes-management-class-hilo-500pm-2/2019-05-02/
LOCATION:HMONO Hilo Office\, 1438 Kilauea Avenue\, Hilo\, HI\, 96720\, United States
CATEGORIES:Health Education
GEO:19.7076749;-155.0759854
X-APPLE-STRUCTURED-LOCATION;VALUE=URI;X-ADDRESS=HMONO Hilo Office 1438 Kilauea Avenue Hilo HI 96720 United States;X-APPLE-RADIUS=500;X-TITLE=1438 Kilauea Avenue:geo:-155.0759854,19.7076749
END:VEVENT
BEGIN:VEVENT
DTSTART;TZID=Pacific/Honolulu:20190509T100000
DTEND;TZID=Pacific/Honolulu:20190509T120000
DTSTAMP:20260420T164845
CREATED:20190325T191939Z
LAST-MODIFIED:20190325T191939Z
UID:10002133-1557396000-1557403200@hmono.org
SUMMARY:Healthy H​āpai Hilo 10:00am
DESCRIPTION:Join us for prenatal and postnatal education for parents-to-be! Call (808) 969-9220 to sign-up or to get more information.
URL:https://hmono.org/calendar/healthy-h%e2%80%8bapai-hilo-1000am-2/2019-05-09/
LOCATION:HMONO Hilo Office\, 1438 Kilauea Avenue\, Hilo\, HI\, 96720\, United States
CATEGORIES:Health Education
GEO:19.7076749;-155.0759854
X-APPLE-STRUCTURED-LOCATION;VALUE=URI;X-ADDRESS=HMONO Hilo Office 1438 Kilauea Avenue Hilo HI 96720 United States;X-APPLE-RADIUS=500;X-TITLE=1438 Kilauea Avenue:geo:-155.0759854,19.7076749
END:VEVENT
BEGIN:VEVENT
DTSTART;TZID=Pacific/Honolulu:20190509T140000
DTEND;TZID=Pacific/Honolulu:20190509T150000
DTSTAMP:20260420T164845
CREATED:20190323T022445Z
LAST-MODIFIED:20190323T022445Z
UID:10001988-1557410400-1557414000@hmono.org
SUMMARY:Tobacco Cessation Class Hilo 2:00PM
DESCRIPTION:It’s never too late to quit tobacco! Join us along with Bay Clinic to learn more about tobacco cessation. For more information or to sign up\, call us at 808-969-9220.
URL:https://hmono.org/calendar/tobacco-cessation-class-hilo-200pm/2019-05-09/
LOCATION:HMONO Hilo Office\, 1438 Kilauea Avenue\, Hilo\, HI\, 96720\, United States
CATEGORIES:Health Education
GEO:19.7076749;-155.0759854
X-APPLE-STRUCTURED-LOCATION;VALUE=URI;X-ADDRESS=HMONO Hilo Office 1438 Kilauea Avenue Hilo HI 96720 United States;X-APPLE-RADIUS=500;X-TITLE=1438 Kilauea Avenue:geo:-155.0759854,19.7076749
END:VEVENT
BEGIN:VEVENT
DTSTART;TZID=Pacific/Honolulu:20190509T170000
DTEND;TZID=Pacific/Honolulu:20190509T190000
DTSTAMP:20260420T164845
CREATED:20190325T192123Z
LAST-MODIFIED:20190325T192123Z
UID:10001998-1557421200-1557428400@hmono.org
SUMMARY:Diabetes Management Class Hilo 5:00pm
DESCRIPTION:Learn how to manage your diabetes during this FREE class! Call (808) 969-9220 to learn more and sign-up today! Class is open to those with a diabetes diagnosis.
URL:https://hmono.org/calendar/diabetes-management-class-hilo-500pm-2/2019-05-09/
LOCATION:HMONO Hilo Office\, 1438 Kilauea Avenue\, Hilo\, HI\, 96720\, United States
CATEGORIES:Health Education
GEO:19.7076749;-155.0759854
X-APPLE-STRUCTURED-LOCATION;VALUE=URI;X-ADDRESS=HMONO Hilo Office 1438 Kilauea Avenue Hilo HI 96720 United States;X-APPLE-RADIUS=500;X-TITLE=1438 Kilauea Avenue:geo:-155.0759854,19.7076749
END:VEVENT
BEGIN:VEVENT
DTSTART;TZID=Pacific/Honolulu:20190516T100000
DTEND;TZID=Pacific/Honolulu:20190516T120000
DTSTAMP:20260420T164845
CREATED:20190325T191939Z
LAST-MODIFIED:20190325T191939Z
UID:10002134-1558000800-1558008000@hmono.org
SUMMARY:Healthy H​āpai Hilo 10:00am
DESCRIPTION:Join us for prenatal and postnatal education for parents-to-be! Call (808) 969-9220 to sign-up or to get more information.
URL:https://hmono.org/calendar/healthy-h%e2%80%8bapai-hilo-1000am-2/2019-05-16/
LOCATION:HMONO Hilo Office\, 1438 Kilauea Avenue\, Hilo\, HI\, 96720\, United States
CATEGORIES:Health Education
GEO:19.7076749;-155.0759854
X-APPLE-STRUCTURED-LOCATION;VALUE=URI;X-ADDRESS=HMONO Hilo Office 1438 Kilauea Avenue Hilo HI 96720 United States;X-APPLE-RADIUS=500;X-TITLE=1438 Kilauea Avenue:geo:-155.0759854,19.7076749
END:VEVENT
BEGIN:VEVENT
DTSTART;TZID=Pacific/Honolulu:20190516T140000
DTEND;TZID=Pacific/Honolulu:20190516T150000
DTSTAMP:20260420T164845
CREATED:20190323T022445Z
LAST-MODIFIED:20190323T022445Z
UID:10001989-1558015200-1558018800@hmono.org
SUMMARY:Tobacco Cessation Class Hilo 2:00PM
DESCRIPTION:It’s never too late to quit tobacco! Join us along with Bay Clinic to learn more about tobacco cessation. For more information or to sign up\, call us at 808-969-9220.
URL:https://hmono.org/calendar/tobacco-cessation-class-hilo-200pm/2019-05-16/
LOCATION:HMONO Hilo Office\, 1438 Kilauea Avenue\, Hilo\, HI\, 96720\, United States
CATEGORIES:Health Education
GEO:19.7076749;-155.0759854
X-APPLE-STRUCTURED-LOCATION;VALUE=URI;X-ADDRESS=HMONO Hilo Office 1438 Kilauea Avenue Hilo HI 96720 United States;X-APPLE-RADIUS=500;X-TITLE=1438 Kilauea Avenue:geo:-155.0759854,19.7076749
END:VEVENT
BEGIN:VEVENT
DTSTART;TZID=Pacific/Honolulu:20190516T170000
DTEND;TZID=Pacific/Honolulu:20190516T190000
DTSTAMP:20260420T164845
CREATED:20190325T192123Z
LAST-MODIFIED:20190325T192123Z
UID:10001999-1558026000-1558033200@hmono.org
SUMMARY:Diabetes Management Class Hilo 5:00pm
DESCRIPTION:Learn how to manage your diabetes during this FREE class! Call (808) 969-9220 to learn more and sign-up today! Class is open to those with a diabetes diagnosis.
URL:https://hmono.org/calendar/diabetes-management-class-hilo-500pm-2/2019-05-16/
LOCATION:HMONO Hilo Office\, 1438 Kilauea Avenue\, Hilo\, HI\, 96720\, United States
CATEGORIES:Health Education
GEO:19.7076749;-155.0759854
X-APPLE-STRUCTURED-LOCATION;VALUE=URI;X-ADDRESS=HMONO Hilo Office 1438 Kilauea Avenue Hilo HI 96720 United States;X-APPLE-RADIUS=500;X-TITLE=1438 Kilauea Avenue:geo:-155.0759854,19.7076749
END:VEVENT
END:VCALENDAR