BEGIN:VCALENDAR
VERSION:2.0
PRODID:-//Hui Mālama Ola Nā ʻŌiwi - ECPv6.15.20//NONSGML v1.0//EN
CALSCALE:GREGORIAN
METHOD:PUBLISH
X-WR-CALNAME:Hui Mālama Ola Nā ʻŌiwi
X-ORIGINAL-URL:https://hmono.org
X-WR-CALDESC:Events for Hui Mālama Ola Nā ʻŌiwi
REFRESH-INTERVAL;VALUE=DURATION:PT1H
X-Robots-Tag:noindex
X-PUBLISHED-TTL:PT1H
BEGIN:VTIMEZONE
TZID:Pacific/Honolulu
BEGIN:STANDARD
TZOFFSETFROM:-1000
TZOFFSETTO:-1000
TZNAME:HST
DTSTART:20190101T000000
END:STANDARD
END:VTIMEZONE
BEGIN:VEVENT
DTSTART;TZID=Pacific/Honolulu:20200429T170000
DTEND;TZID=Pacific/Honolulu:20200429T183000
DTSTAMP:20260424T022231
CREATED:20200116T010602Z
LAST-MODIFIED:20200401T013549Z
UID:10000729-1588179600-1588185000@hmono.org
SUMMARY:Hula for Health Class Hilo POSTPONED
DESCRIPTION:All Hui Mālama Ola Nā ʻŌiwi classes\, workshops\, support groups\, and community events have been postponed until further notice. We are working diligently on providing creative virtual activities for you to connect with while you stay safe at home during this time. \nInterested in this service? Sign-up here and we will contact you.
URL:https://hmono.org/calendar/ola-hou-i-ka-hula-hypertension-class-hilo-500pm-3-2020-03-18/2020-04-29/
LOCATION:HMONO Hilo Office\, 1438 Kilauea Avenue\, Hilo\, HI\, 96720\, United States
CATEGORIES:Health Education
GEO:19.7076749;-155.0759854
X-APPLE-STRUCTURED-LOCATION;VALUE=URI;X-ADDRESS=HMONO Hilo Office 1438 Kilauea Avenue Hilo HI 96720 United States;X-APPLE-RADIUS=500;X-TITLE=1438 Kilauea Avenue:geo:-155.0759854,19.7076749
END:VEVENT
BEGIN:VEVENT
DTSTART;TZID=Pacific/Honolulu:20200504T170000
DTEND;TZID=Pacific/Honolulu:20200504T180000
DTSTAMP:20260424T022231
CREATED:20200501T010911Z
LAST-MODIFIED:20220119T004115Z
UID:10000791-1588611600-1588615200@hmono.org
SUMMARY:Cultural Wellness Support Group (Online)
DESCRIPTION:Join us for our online wellness class that focuses on cultural practices\, crafts and conversations. Those with no computer access may call in via phone line. Visit hmono.org/services/ to sign-up!
URL:https://hmono.org/calendar/cultural-wellness-support-group-online/2020-05-04/
CATEGORIES:Health Education
END:VEVENT
BEGIN:VEVENT
DTSTART;TZID=Pacific/Honolulu:20200506T170000
DTEND;TZID=Pacific/Honolulu:20200506T190000
DTSTAMP:20260424T022231
CREATED:20200410T001110Z
LAST-MODIFIED:20200410T001110Z
UID:10002355-1588784400-1588791600@hmono.org
SUMMARY:Diabetes Self Management Education and Support Class (Online)
DESCRIPTION:Interested in learning more about your diabetes diagnosis and how to manage it? This class will be on Zoom app that can be accessed on a commuter or Smartphone. Those with no computer access may call in via phone line. Use https://hmono.org/services/ to sign up today for this online class!
URL:https://hmono.org/calendar/diabetes-self-management-education-and-support-class-online-2/2020-05-06/
CATEGORIES:Health Education
END:VEVENT
BEGIN:VEVENT
DTSTART;TZID=Pacific/Honolulu:20200507T150000
DTEND;TZID=Pacific/Honolulu:20200507T170000
DTSTAMP:20260424T022231
CREATED:20200421T004145Z
LAST-MODIFIED:20200421T004145Z
UID:10000770-1588863600-1588870800@hmono.org
SUMMARY:Mindful Eating Lab (Online)
DESCRIPTION:In this interactive series\, learn how to slow down the eating process\, listen to physiological cues of hunger/fullness/satisfaction\, while making mindful food choices that enhance nutritional benefits and overall health. Those with no computer access may call in via phone line. Use https://hmono.org/services/ to sign up today for this online class!
URL:https://hmono.org/calendar/mindful-eating-lab-online/2020-05-07/
CATEGORIES:Health Education
END:VEVENT
BEGIN:VEVENT
DTSTART;TZID=Pacific/Honolulu:20200511T170000
DTEND;TZID=Pacific/Honolulu:20200511T180000
DTSTAMP:20260424T022231
CREATED:20200501T010911Z
LAST-MODIFIED:20220119T004115Z
UID:10000792-1589216400-1589220000@hmono.org
SUMMARY:Cultural Wellness Support Group (Online)
DESCRIPTION:Join us for our online wellness class that focuses on cultural practices\, crafts and conversations. Those with no computer access may call in via phone line. Visit hmono.org/services/ to sign-up!
URL:https://hmono.org/calendar/cultural-wellness-support-group-online/2020-05-11/
CATEGORIES:Health Education
END:VEVENT
BEGIN:VEVENT
DTSTART;TZID=Pacific/Honolulu:20200513T170000
DTEND;TZID=Pacific/Honolulu:20200513T190000
DTSTAMP:20260424T022231
CREATED:20200410T001110Z
LAST-MODIFIED:20200410T001110Z
UID:10002356-1589389200-1589396400@hmono.org
SUMMARY:Diabetes Self Management Education and Support Class (Online)
DESCRIPTION:Interested in learning more about your diabetes diagnosis and how to manage it? This class will be on Zoom app that can be accessed on a commuter or Smartphone. Those with no computer access may call in via phone line. Use https://hmono.org/services/ to sign up today for this online class!
URL:https://hmono.org/calendar/diabetes-self-management-education-and-support-class-online-2/2020-05-13/
CATEGORIES:Health Education
END:VEVENT
BEGIN:VEVENT
DTSTART;TZID=Pacific/Honolulu:20200514T150000
DTEND;TZID=Pacific/Honolulu:20200514T170000
DTSTAMP:20260424T022231
CREATED:20200421T004145Z
LAST-MODIFIED:20200421T004145Z
UID:10000771-1589468400-1589475600@hmono.org
SUMMARY:Mindful Eating Lab (Online)
DESCRIPTION:In this interactive series\, learn how to slow down the eating process\, listen to physiological cues of hunger/fullness/satisfaction\, while making mindful food choices that enhance nutritional benefits and overall health. Those with no computer access may call in via phone line. Use https://hmono.org/services/ to sign up today for this online class!
URL:https://hmono.org/calendar/mindful-eating-lab-online/2020-05-14/
CATEGORIES:Health Education
END:VEVENT
BEGIN:VEVENT
DTSTART;TZID=Pacific/Honolulu:20200518T170000
DTEND;TZID=Pacific/Honolulu:20200518T180000
DTSTAMP:20260424T022231
CREATED:20200501T010911Z
LAST-MODIFIED:20220119T004115Z
UID:10000793-1589821200-1589824800@hmono.org
SUMMARY:Cultural Wellness Support Group (Online)
DESCRIPTION:Join us for our online wellness class that focuses on cultural practices\, crafts and conversations. Those with no computer access may call in via phone line. Visit hmono.org/services/ to sign-up!
URL:https://hmono.org/calendar/cultural-wellness-support-group-online/2020-05-18/
CATEGORIES:Health Education
END:VEVENT
BEGIN:VEVENT
DTSTART;TZID=Pacific/Honolulu:20200520T170000
DTEND;TZID=Pacific/Honolulu:20200520T190000
DTSTAMP:20260424T022231
CREATED:20200410T001110Z
LAST-MODIFIED:20200410T001110Z
UID:10002357-1589994000-1590001200@hmono.org
SUMMARY:Diabetes Self Management Education and Support Class (Online)
DESCRIPTION:Interested in learning more about your diabetes diagnosis and how to manage it? This class will be on Zoom app that can be accessed on a commuter or Smartphone. Those with no computer access may call in via phone line. Use https://hmono.org/services/ to sign up today for this online class!
URL:https://hmono.org/calendar/diabetes-self-management-education-and-support-class-online-2/2020-05-20/
CATEGORIES:Health Education
END:VEVENT
BEGIN:VEVENT
DTSTART;TZID=Pacific/Honolulu:20200521T150000
DTEND;TZID=Pacific/Honolulu:20200521T170000
DTSTAMP:20260424T022231
CREATED:20200421T004145Z
LAST-MODIFIED:20200421T004145Z
UID:10000772-1590073200-1590080400@hmono.org
SUMMARY:Mindful Eating Lab (Online)
DESCRIPTION:In this interactive series\, learn how to slow down the eating process\, listen to physiological cues of hunger/fullness/satisfaction\, while making mindful food choices that enhance nutritional benefits and overall health. Those with no computer access may call in via phone line. Use https://hmono.org/services/ to sign up today for this online class!
URL:https://hmono.org/calendar/mindful-eating-lab-online/2020-05-21/
CATEGORIES:Health Education
END:VEVENT
BEGIN:VEVENT
DTSTART;TZID=Pacific/Honolulu:20200525T170000
DTEND;TZID=Pacific/Honolulu:20200525T180000
DTSTAMP:20260424T022231
CREATED:20200501T010911Z
LAST-MODIFIED:20220119T004115Z
UID:10000794-1590426000-1590429600@hmono.org
SUMMARY:Cultural Wellness Support Group (Online)
DESCRIPTION:Join us for our online wellness class that focuses on cultural practices\, crafts and conversations. Those with no computer access may call in via phone line. Visit hmono.org/services/ to sign-up!
URL:https://hmono.org/calendar/cultural-wellness-support-group-online/2020-05-25/
CATEGORIES:Health Education
END:VEVENT
BEGIN:VEVENT
DTSTART;TZID=Pacific/Honolulu:20200528T150000
DTEND;TZID=Pacific/Honolulu:20200528T170000
DTSTAMP:20260424T022231
CREATED:20200421T004145Z
LAST-MODIFIED:20200421T004145Z
UID:10000773-1590678000-1590685200@hmono.org
SUMMARY:Mindful Eating Lab (Online)
DESCRIPTION:In this interactive series\, learn how to slow down the eating process\, listen to physiological cues of hunger/fullness/satisfaction\, while making mindful food choices that enhance nutritional benefits and overall health. Those with no computer access may call in via phone line. Use https://hmono.org/services/ to sign up today for this online class!
URL:https://hmono.org/calendar/mindful-eating-lab-online/2020-05-28/
CATEGORIES:Health Education
END:VEVENT
BEGIN:VEVENT
DTSTART;TZID=Pacific/Honolulu:20200603T170000
DTEND;TZID=Pacific/Honolulu:20200603T190000
DTSTAMP:20260424T022231
CREATED:20200522T205531Z
LAST-MODIFIED:20200522T205531Z
UID:10001949-1591203600-1591210800@hmono.org
SUMMARY:Hypertension Class (Online)
DESCRIPTION:Hui Mālama Ola Nā ʻŌiwi offers FREE education about hypertension! Please call to sign-up for this class at (808) 969-9220. Those with no computer access may call in via phone line. Use https://hmono.org/services/ to sign up today for this online class!
URL:https://hmono.org/calendar/hypertension-class-online/2020-06-03/
CATEGORIES:Health Education
END:VEVENT
BEGIN:VEVENT
DTSTART;TZID=Pacific/Honolulu:20200608T170000
DTEND;TZID=Pacific/Honolulu:20200608T180000
DTSTAMP:20260424T022231
CREATED:20200501T010911Z
LAST-MODIFIED:20220119T004115Z
UID:10000795-1591635600-1591639200@hmono.org
SUMMARY:Cultural Wellness Support Group (Online)
DESCRIPTION:Join us for our online wellness class that focuses on cultural practices\, crafts and conversations. Those with no computer access may call in via phone line. Visit hmono.org/services/ to sign-up!
URL:https://hmono.org/calendar/cultural-wellness-support-group-online/2020-06-08/
CATEGORIES:Health Education
END:VEVENT
BEGIN:VEVENT
DTSTART;TZID=Pacific/Honolulu:20200610T170000
DTEND;TZID=Pacific/Honolulu:20200610T190000
DTSTAMP:20260424T022231
CREATED:20200522T205531Z
LAST-MODIFIED:20200522T205531Z
UID:10001950-1591808400-1591815600@hmono.org
SUMMARY:Hypertension Class (Online)
DESCRIPTION:Hui Mālama Ola Nā ʻŌiwi offers FREE education about hypertension! Please call to sign-up for this class at (808) 969-9220. Those with no computer access may call in via phone line. Use https://hmono.org/services/ to sign up today for this online class!
URL:https://hmono.org/calendar/hypertension-class-online/2020-06-10/
CATEGORIES:Health Education
END:VEVENT
BEGIN:VEVENT
DTSTART;TZID=Pacific/Honolulu:20200615T170000
DTEND;TZID=Pacific/Honolulu:20200615T180000
DTSTAMP:20260424T022231
CREATED:20200501T010911Z
LAST-MODIFIED:20220119T004115Z
UID:10000796-1592240400-1592244000@hmono.org
SUMMARY:Cultural Wellness Support Group (Online)
DESCRIPTION:Join us for our online wellness class that focuses on cultural practices\, crafts and conversations. Those with no computer access may call in via phone line. Visit hmono.org/services/ to sign-up!
URL:https://hmono.org/calendar/cultural-wellness-support-group-online/2020-06-15/
CATEGORIES:Health Education
END:VEVENT
BEGIN:VEVENT
DTSTART;TZID=Pacific/Honolulu:20200617T170000
DTEND;TZID=Pacific/Honolulu:20200617T190000
DTSTAMP:20260424T022231
CREATED:20200522T205531Z
LAST-MODIFIED:20200522T205531Z
UID:10001951-1592413200-1592420400@hmono.org
SUMMARY:Hypertension Class (Online)
DESCRIPTION:Hui Mālama Ola Nā ʻŌiwi offers FREE education about hypertension! Please call to sign-up for this class at (808) 969-9220. Those with no computer access may call in via phone line. Use https://hmono.org/services/ to sign up today for this online class!
URL:https://hmono.org/calendar/hypertension-class-online/2020-06-17/
CATEGORIES:Health Education
END:VEVENT
BEGIN:VEVENT
DTSTART;TZID=Pacific/Honolulu:20200618T160000
DTEND;TZID=Pacific/Honolulu:20200618T180000
DTSTAMP:20260424T022231
CREATED:20200520T215529Z
LAST-MODIFIED:20200520T215529Z
UID:10003127-1592496000-1592503200@hmono.org
SUMMARY:Mindful Eating Lab (Online)
DESCRIPTION:In this interactive series\, learn how to slow down the eating process\, listen to physiological cues of hunger/fullness/satisfaction\, while making mindful food choices that enhance nutritional benefits and overall health. Those with no computer access may call in via phone line. Use https://hmono.org/services/ to sign up today for this online class!
URL:https://hmono.org/calendar/mindful-eating-lab-online-2/2020-06-18/
CATEGORIES:Health Education,Nutrition
END:VEVENT
BEGIN:VEVENT
DTSTART;TZID=Pacific/Honolulu:20200622T170000
DTEND;TZID=Pacific/Honolulu:20200622T180000
DTSTAMP:20260424T022231
CREATED:20200501T010911Z
LAST-MODIFIED:20220119T004115Z
UID:10000797-1592845200-1592848800@hmono.org
SUMMARY:Cultural Wellness Support Group (Online)
DESCRIPTION:Join us for our online wellness class that focuses on cultural practices\, crafts and conversations. Those with no computer access may call in via phone line. Visit hmono.org/services/ to sign-up!
URL:https://hmono.org/calendar/cultural-wellness-support-group-online/2020-06-22/
CATEGORIES:Health Education
END:VEVENT
BEGIN:VEVENT
DTSTART;TZID=Pacific/Honolulu:20200625T160000
DTEND;TZID=Pacific/Honolulu:20200625T180000
DTSTAMP:20260424T022231
CREATED:20200520T215529Z
LAST-MODIFIED:20200520T215529Z
UID:10003128-1593100800-1593108000@hmono.org
SUMMARY:Mindful Eating Lab (Online)
DESCRIPTION:In this interactive series\, learn how to slow down the eating process\, listen to physiological cues of hunger/fullness/satisfaction\, while making mindful food choices that enhance nutritional benefits and overall health. Those with no computer access may call in via phone line. Use https://hmono.org/services/ to sign up today for this online class!
URL:https://hmono.org/calendar/mindful-eating-lab-online-2/2020-06-25/
CATEGORIES:Health Education,Nutrition
END:VEVENT
BEGIN:VEVENT
DTSTART;TZID=Pacific/Honolulu:20200629T170000
DTEND;TZID=Pacific/Honolulu:20200629T180000
DTSTAMP:20260424T022231
CREATED:20200501T010911Z
LAST-MODIFIED:20220119T004115Z
UID:10000798-1593450000-1593453600@hmono.org
SUMMARY:Cultural Wellness Support Group (Online)
DESCRIPTION:Join us for our online wellness class that focuses on cultural practices\, crafts and conversations. Those with no computer access may call in via phone line. Visit hmono.org/services/ to sign-up!
URL:https://hmono.org/calendar/cultural-wellness-support-group-online/2020-06-29/
CATEGORIES:Health Education
END:VEVENT
BEGIN:VEVENT
DTSTART;TZID=Pacific/Honolulu:20200701T170000
DTEND;TZID=Pacific/Honolulu:20200701T183000
DTSTAMP:20260424T022231
CREATED:20200624T213727Z
LAST-MODIFIED:20220119T003559Z
UID:10002205-1593622800-1593628200@hmono.org
SUMMARY:Hula for Health (online)
DESCRIPTION:Join us as we stay healthy with hula! To sign-up for this class\, visit hmono.org/services and we will contact you about how to join!
URL:https://hmono.org/calendar/hula-for-health-online/2020-07-01/
CATEGORIES:Health Education
END:VEVENT
BEGIN:VEVENT
DTSTART;TZID=Pacific/Honolulu:20200702T160000
DTEND;TZID=Pacific/Honolulu:20200702T180000
DTSTAMP:20260424T022231
CREATED:20200520T215529Z
LAST-MODIFIED:20200520T215529Z
UID:10003129-1593705600-1593712800@hmono.org
SUMMARY:Mindful Eating Lab (Online)
DESCRIPTION:In this interactive series\, learn how to slow down the eating process\, listen to physiological cues of hunger/fullness/satisfaction\, while making mindful food choices that enhance nutritional benefits and overall health. Those with no computer access may call in via phone line. Use https://hmono.org/services/ to sign up today for this online class!
URL:https://hmono.org/calendar/mindful-eating-lab-online-2/2020-07-02/
CATEGORIES:Health Education,Nutrition
END:VEVENT
BEGIN:VEVENT
DTSTART;TZID=Pacific/Honolulu:20200708T170000
DTEND;TZID=Pacific/Honolulu:20200708T183000
DTSTAMP:20260424T022231
CREATED:20200624T213727Z
LAST-MODIFIED:20220119T003559Z
UID:10002206-1594227600-1594233000@hmono.org
SUMMARY:Hula for Health (online)
DESCRIPTION:Join us as we stay healthy with hula! To sign-up for this class\, visit hmono.org/services and we will contact you about how to join!
URL:https://hmono.org/calendar/hula-for-health-online/2020-07-08/
CATEGORIES:Health Education
END:VEVENT
BEGIN:VEVENT
DTSTART;TZID=Pacific/Honolulu:20200709T160000
DTEND;TZID=Pacific/Honolulu:20200709T180000
DTSTAMP:20260424T022231
CREATED:20200520T215529Z
LAST-MODIFIED:20200522T205345Z
UID:10001953-1594310400-1594317600@hmono.org
SUMMARY:Mindful Eating Lab (Online)
DESCRIPTION:In this interactive series\, learn how to slow down the eating process\, listen to physiological cues of hunger/fullness/satisfaction\, while making mindful food choices that enhance nutritional benefits and overall health. Those with no computer access may call in via phone line. Use https://hmono.org/services/ to sign up today for this online class!
URL:https://hmono.org/calendar/mindful-eating-lab-online-2-2020-07-09/
CATEGORIES:Health Education,Nutrition
END:VEVENT
BEGIN:VEVENT
DTSTART;TZID=Pacific/Honolulu:20200713T170000
DTEND;TZID=Pacific/Honolulu:20200713T180000
DTSTAMP:20260424T022231
CREATED:20200501T010911Z
LAST-MODIFIED:20220119T004115Z
UID:10000799-1594659600-1594663200@hmono.org
SUMMARY:Cultural Wellness Support Group (Online)
DESCRIPTION:Join us for our online wellness class that focuses on cultural practices\, crafts and conversations. Those with no computer access may call in via phone line. Visit hmono.org/services/ to sign-up!
URL:https://hmono.org/calendar/cultural-wellness-support-group-online/2020-07-13/
CATEGORIES:Health Education
END:VEVENT
BEGIN:VEVENT
DTSTART;TZID=Pacific/Honolulu:20200715T170000
DTEND;TZID=Pacific/Honolulu:20200715T183000
DTSTAMP:20260424T022231
CREATED:20200624T213727Z
LAST-MODIFIED:20220119T003559Z
UID:10002207-1594832400-1594837800@hmono.org
SUMMARY:Hula for Health (online)
DESCRIPTION:Join us as we stay healthy with hula! To sign-up for this class\, visit hmono.org/services and we will contact you about how to join!
URL:https://hmono.org/calendar/hula-for-health-online/2020-07-15/
CATEGORIES:Health Education
END:VEVENT
BEGIN:VEVENT
DTSTART;TZID=Pacific/Honolulu:20200720T170000
DTEND;TZID=Pacific/Honolulu:20200720T180000
DTSTAMP:20260424T022231
CREATED:20200501T010911Z
LAST-MODIFIED:20220119T004115Z
UID:10000800-1595264400-1595268000@hmono.org
SUMMARY:Cultural Wellness Support Group (Online)
DESCRIPTION:Join us for our online wellness class that focuses on cultural practices\, crafts and conversations. Those with no computer access may call in via phone line. Visit hmono.org/services/ to sign-up!
URL:https://hmono.org/calendar/cultural-wellness-support-group-online/2020-07-20/
CATEGORIES:Health Education
END:VEVENT
BEGIN:VEVENT
DTSTART;TZID=Pacific/Honolulu:20200722T170000
DTEND;TZID=Pacific/Honolulu:20200722T183000
DTSTAMP:20260424T022231
CREATED:20200624T213727Z
LAST-MODIFIED:20220119T003559Z
UID:10002208-1595437200-1595442600@hmono.org
SUMMARY:Hula for Health (online)
DESCRIPTION:Join us as we stay healthy with hula! To sign-up for this class\, visit hmono.org/services and we will contact you about how to join!
URL:https://hmono.org/calendar/hula-for-health-online/2020-07-22/
CATEGORIES:Health Education
END:VEVENT
BEGIN:VEVENT
DTSTART;TZID=Pacific/Honolulu:20200727T170000
DTEND;TZID=Pacific/Honolulu:20200727T180000
DTSTAMP:20260424T022231
CREATED:20200501T010911Z
LAST-MODIFIED:20220119T004115Z
UID:10000801-1595869200-1595872800@hmono.org
SUMMARY:Cultural Wellness Support Group (Online)
DESCRIPTION:Join us for our online wellness class that focuses on cultural practices\, crafts and conversations. Those with no computer access may call in via phone line. Visit hmono.org/services/ to sign-up!
URL:https://hmono.org/calendar/cultural-wellness-support-group-online/2020-07-27/
CATEGORIES:Health Education
END:VEVENT
END:VCALENDAR