BEGIN:VCALENDAR
VERSION:2.0
PRODID:-//Hui Mālama Ola Nā ʻŌiwi - ECPv6.15.20//NONSGML v1.0//EN
CALSCALE:GREGORIAN
METHOD:PUBLISH
X-ORIGINAL-URL:https://hmono.org
X-WR-CALDESC:Events for Hui Mālama Ola Nā ʻŌiwi
REFRESH-INTERVAL;VALUE=DURATION:PT1H
X-Robots-Tag:noindex
X-PUBLISHED-TTL:PT1H
BEGIN:VTIMEZONE
TZID:Pacific/Honolulu
BEGIN:STANDARD
TZOFFSETFROM:-1000
TZOFFSETTO:-1000
TZNAME:HST
DTSTART:20200101T000000
END:STANDARD
END:VTIMEZONE
BEGIN:VEVENT
DTSTART;TZID=Pacific/Honolulu:20211201T173000
DTEND;TZID=Pacific/Honolulu:20211201T193000
DTSTAMP:20260424T180316
CREATED:20211026T195915Z
LAST-MODIFIED:20211026T195915Z
UID:10001223-1638379800-1638387000@hmono.org
SUMMARY:Healthy Hapai (Online)
DESCRIPTION:If you’re a parent-to-be\, join this free\, online five-week class series on prenatal health\, postpartum health\, positive parenting and more. This class is presented by Leila Ryusaki\, Certified Lactation Counselor & Childbirth Educator (CLCCE)\, Indigenous Breastfeeding Counselor (IBC)\, and Licensed Massage Therapist (LMT). \nSign up for this class at hmono.org/services.
URL:https://hmono.org/calendar/healthy-hapai-online-6/2021-12-01/
CATEGORIES:Health Education,Prenatal Education,Traditional Health
END:VEVENT
BEGIN:VEVENT
DTSTART;TZID=Pacific/Honolulu:20211229T110000
DTEND;TZID=Pacific/Honolulu:20211229T120000
DTSTAMP:20260424T180316
CREATED:20211026T200247Z
LAST-MODIFIED:20220119T003401Z
UID:10001226-1640775600-1640779200@hmono.org
SUMMARY:Breastfeeding Support Group (Online)
DESCRIPTION:Mama to Mama Breastfeeding Support Group aims to provide an encouraging\, comfortable space for pregnant and breastfeeding women to share information\, advice\, and support. For more information or to sign up\, visit hmono.org/services. \nThis Support Group is presented and facilitated by: \nLeila Ryusaki – Healthy Hāpai Coordinator at Hui Mālama. Leila is also a Certified Lactation Counselor\, Childbirth Educator\, Licensed Massage Therapist\, and Indigenous Breastfeeding Counselor.
URL:https://hmono.org/calendar/breastfeeding-support-group-online-2/2021-12-29/
CATEGORIES:Health Education,Prenatal Education,Traditional Health
END:VEVENT
BEGIN:VEVENT
DTSTART;TZID=Pacific/Honolulu:20220105T173000
DTEND;TZID=Pacific/Honolulu:20220105T193000
DTSTAMP:20260424T180316
CREATED:20211026T201444Z
LAST-MODIFIED:20211026T201444Z
UID:10001238-1641403800-1641411000@hmono.org
SUMMARY:Healthy Hapai (Online)
DESCRIPTION:If you’re a parent-to-be\, join this free\, online five-week class series on prenatal health\, postpartum health\, positive parenting and more. This class is presented by Leila Ryusaki\, Certified Lactation Counselor & Childbirth Educator (CLCCE)\, Indigenous Breastfeeding Counselor (IBC)\, and Licensed Massage Therapist (LMT). \nSign up for this class at hmono.org/services. Enrollment closes on January 12\, 2022.
URL:https://hmono.org/calendar/healthy-hapai-online-5/2022-01-05/
CATEGORIES:Health Education,Prenatal Education,Traditional Health
END:VEVENT
BEGIN:VEVENT
DTSTART;TZID=Pacific/Honolulu:20220112T173000
DTEND;TZID=Pacific/Honolulu:20220112T193000
DTSTAMP:20260424T180316
CREATED:20211026T201444Z
LAST-MODIFIED:20211026T201444Z
UID:10001239-1642008600-1642015800@hmono.org
SUMMARY:Healthy Hapai (Online)
DESCRIPTION:If you’re a parent-to-be\, join this free\, online five-week class series on prenatal health\, postpartum health\, positive parenting and more. This class is presented by Leila Ryusaki\, Certified Lactation Counselor & Childbirth Educator (CLCCE)\, Indigenous Breastfeeding Counselor (IBC)\, and Licensed Massage Therapist (LMT). \nSign up for this class at hmono.org/services. Enrollment closes on January 12\, 2022.
URL:https://hmono.org/calendar/healthy-hapai-online-5/2022-01-12/
CATEGORIES:Health Education,Prenatal Education,Traditional Health
END:VEVENT
BEGIN:VEVENT
DTSTART;TZID=Pacific/Honolulu:20220119T173000
DTEND;TZID=Pacific/Honolulu:20220119T193000
DTSTAMP:20260424T180316
CREATED:20211026T201444Z
LAST-MODIFIED:20211026T201444Z
UID:10001240-1642613400-1642620600@hmono.org
SUMMARY:Healthy Hapai (Online)
DESCRIPTION:If you’re a parent-to-be\, join this free\, online five-week class series on prenatal health\, postpartum health\, positive parenting and more. This class is presented by Leila Ryusaki\, Certified Lactation Counselor & Childbirth Educator (CLCCE)\, Indigenous Breastfeeding Counselor (IBC)\, and Licensed Massage Therapist (LMT). \nSign up for this class at hmono.org/services. Enrollment closes on January 12\, 2022.
URL:https://hmono.org/calendar/healthy-hapai-online-5/2022-01-19/
CATEGORIES:Health Education,Prenatal Education,Traditional Health
END:VEVENT
BEGIN:VEVENT
DTSTART;TZID=Pacific/Honolulu:20220126T110000
DTEND;TZID=Pacific/Honolulu:20220126T120000
DTSTAMP:20260424T180316
CREATED:20211026T200247Z
LAST-MODIFIED:20220119T003401Z
UID:10001227-1643194800-1643198400@hmono.org
SUMMARY:Breastfeeding Support Group (Online)
DESCRIPTION:Mama to Mama Breastfeeding Support Group aims to provide an encouraging\, comfortable space for pregnant and breastfeeding women to share information\, advice\, and support. For more information or to sign up\, visit hmono.org/services. \nThis Support Group is presented and facilitated by: \nLeila Ryusaki – Healthy Hāpai Coordinator at Hui Mālama. Leila is also a Certified Lactation Counselor\, Childbirth Educator\, Licensed Massage Therapist\, and Indigenous Breastfeeding Counselor.
URL:https://hmono.org/calendar/breastfeeding-support-group-online-2/2022-01-26/
CATEGORIES:Health Education,Prenatal Education,Traditional Health
END:VEVENT
BEGIN:VEVENT
DTSTART;TZID=Pacific/Honolulu:20220126T173000
DTEND;TZID=Pacific/Honolulu:20220126T193000
DTSTAMP:20260424T180316
CREATED:20211026T201444Z
LAST-MODIFIED:20211026T201444Z
UID:10001241-1643218200-1643225400@hmono.org
SUMMARY:Healthy Hapai (Online)
DESCRIPTION:If you’re a parent-to-be\, join this free\, online five-week class series on prenatal health\, postpartum health\, positive parenting and more. This class is presented by Leila Ryusaki\, Certified Lactation Counselor & Childbirth Educator (CLCCE)\, Indigenous Breastfeeding Counselor (IBC)\, and Licensed Massage Therapist (LMT). \nSign up for this class at hmono.org/services. Enrollment closes on January 12\, 2022.
URL:https://hmono.org/calendar/healthy-hapai-online-5/2022-01-26/
CATEGORIES:Health Education,Prenatal Education,Traditional Health
END:VEVENT
BEGIN:VEVENT
DTSTART;TZID=Pacific/Honolulu:20220223T110000
DTEND;TZID=Pacific/Honolulu:20220223T120000
DTSTAMP:20260424T180316
CREATED:20211026T200247Z
LAST-MODIFIED:20220119T003401Z
UID:10001228-1645614000-1645617600@hmono.org
SUMMARY:Breastfeeding Support Group (Online)
DESCRIPTION:Mama to Mama Breastfeeding Support Group aims to provide an encouraging\, comfortable space for pregnant and breastfeeding women to share information\, advice\, and support. For more information or to sign up\, visit hmono.org/services. \nThis Support Group is presented and facilitated by: \nLeila Ryusaki – Healthy Hāpai Coordinator at Hui Mālama. Leila is also a Certified Lactation Counselor\, Childbirth Educator\, Licensed Massage Therapist\, and Indigenous Breastfeeding Counselor.
URL:https://hmono.org/calendar/breastfeeding-support-group-online-2/2022-02-23/
CATEGORIES:Health Education,Prenatal Education,Traditional Health
END:VEVENT
BEGIN:VEVENT
DTSTART;TZID=Pacific/Honolulu:20220330T110000
DTEND;TZID=Pacific/Honolulu:20220330T120000
DTSTAMP:20260424T180316
CREATED:20211026T200247Z
LAST-MODIFIED:20220119T003401Z
UID:10001229-1648638000-1648641600@hmono.org
SUMMARY:Breastfeeding Support Group (Online)
DESCRIPTION:Mama to Mama Breastfeeding Support Group aims to provide an encouraging\, comfortable space for pregnant and breastfeeding women to share information\, advice\, and support. For more information or to sign up\, visit hmono.org/services. \nThis Support Group is presented and facilitated by: \nLeila Ryusaki – Healthy Hāpai Coordinator at Hui Mālama. Leila is also a Certified Lactation Counselor\, Childbirth Educator\, Licensed Massage Therapist\, and Indigenous Breastfeeding Counselor.
URL:https://hmono.org/calendar/breastfeeding-support-group-online-2/2022-03-30/
CATEGORIES:Health Education,Prenatal Education,Traditional Health
END:VEVENT
BEGIN:VEVENT
DTSTART;TZID=Pacific/Honolulu:20220427T110000
DTEND;TZID=Pacific/Honolulu:20220427T120000
DTSTAMP:20260424T180316
CREATED:20211026T200247Z
LAST-MODIFIED:20220119T003401Z
UID:10001230-1651057200-1651060800@hmono.org
SUMMARY:Breastfeeding Support Group (Online)
DESCRIPTION:Mama to Mama Breastfeeding Support Group aims to provide an encouraging\, comfortable space for pregnant and breastfeeding women to share information\, advice\, and support. For more information or to sign up\, visit hmono.org/services. \nThis Support Group is presented and facilitated by: \nLeila Ryusaki – Healthy Hāpai Coordinator at Hui Mālama. Leila is also a Certified Lactation Counselor\, Childbirth Educator\, Licensed Massage Therapist\, and Indigenous Breastfeeding Counselor.
URL:https://hmono.org/calendar/breastfeeding-support-group-online-2/2022-04-27/
CATEGORIES:Health Education,Prenatal Education,Traditional Health
END:VEVENT
BEGIN:VEVENT
DTSTART;TZID=Pacific/Honolulu:20220504T173000
DTEND;TZID=Pacific/Honolulu:20220504T193000
DTSTAMP:20260424T180316
CREATED:20220426T005518Z
LAST-MODIFIED:20220426T005518Z
UID:10002980-1651685400-1651692600@hmono.org
SUMMARY:Healthy Hāpai (online)
DESCRIPTION:If you’re a parent-to-be\, join this free\, online five-week class series on prenatal health\, postpartum health\, positive parenting and more. This class is presented by Leila Ryusaki\, Certified Lactation Counselor & Childbirth Educator (CLCCE)\, Indigenous Breastfeeding Counselor (IBC)\, and Licensed Massage Therapist (LMT). \nSign up for this class at hmono.org/services.
URL:https://hmono.org/calendar/healthy-hapai-online-7/2022-05-04/
CATEGORIES:Health Education,Prenatal Education
END:VEVENT
BEGIN:VEVENT
DTSTART;TZID=Pacific/Honolulu:20220511T173000
DTEND;TZID=Pacific/Honolulu:20220511T193000
DTSTAMP:20260424T180316
CREATED:20220426T005518Z
LAST-MODIFIED:20220426T005518Z
UID:10002981-1652290200-1652297400@hmono.org
SUMMARY:Healthy Hāpai (online)
DESCRIPTION:If you’re a parent-to-be\, join this free\, online five-week class series on prenatal health\, postpartum health\, positive parenting and more. This class is presented by Leila Ryusaki\, Certified Lactation Counselor & Childbirth Educator (CLCCE)\, Indigenous Breastfeeding Counselor (IBC)\, and Licensed Massage Therapist (LMT). \nSign up for this class at hmono.org/services.
URL:https://hmono.org/calendar/healthy-hapai-online-7/2022-05-11/
CATEGORIES:Health Education,Prenatal Education
END:VEVENT
BEGIN:VEVENT
DTSTART;TZID=Pacific/Honolulu:20220518T173000
DTEND;TZID=Pacific/Honolulu:20220518T193000
DTSTAMP:20260424T180316
CREATED:20220426T005518Z
LAST-MODIFIED:20220426T005518Z
UID:10002982-1652895000-1652902200@hmono.org
SUMMARY:Healthy Hāpai (online)
DESCRIPTION:If you’re a parent-to-be\, join this free\, online five-week class series on prenatal health\, postpartum health\, positive parenting and more. This class is presented by Leila Ryusaki\, Certified Lactation Counselor & Childbirth Educator (CLCCE)\, Indigenous Breastfeeding Counselor (IBC)\, and Licensed Massage Therapist (LMT). \nSign up for this class at hmono.org/services.
URL:https://hmono.org/calendar/healthy-hapai-online-7/2022-05-18/
CATEGORIES:Health Education,Prenatal Education
END:VEVENT
BEGIN:VEVENT
DTSTART;TZID=Pacific/Honolulu:20220525T110000
DTEND;TZID=Pacific/Honolulu:20220525T120000
DTSTAMP:20260424T180316
CREATED:20220426T010843Z
LAST-MODIFIED:20220426T010843Z
UID:10003008-1653476400-1653480000@hmono.org
SUMMARY:Breast Feeding Support Group (online)
DESCRIPTION:Mama to Mama Breastfeeding Support Group aims to provide an encouraging\, comfortable space for pregnant and breastfeeding women to share information\, advice\, and support. For more information or to sign up\, visit hmono.org/services. \nThis Support Group is presented and facilitated by: \nLeila Ryusaki – Healthy Hāpai Coordinator at Hui Mālama. Leila is also a Certified Lactation Counselor\, Childbirth Educator\, Licensed Massage Therapist\, and Indigenous Breastfeeding Counselor.
URL:https://hmono.org/calendar/breast-feeding-support-group-online/
CATEGORIES:Health Education,Prenatal Education
END:VEVENT
BEGIN:VEVENT
DTSTART;TZID=Pacific/Honolulu:20220525T173000
DTEND;TZID=Pacific/Honolulu:20220525T193000
DTSTAMP:20260424T180316
CREATED:20220426T005518Z
LAST-MODIFIED:20220426T005518Z
UID:10002983-1653499800-1653507000@hmono.org
SUMMARY:Healthy Hāpai (online)
DESCRIPTION:If you’re a parent-to-be\, join this free\, online five-week class series on prenatal health\, postpartum health\, positive parenting and more. This class is presented by Leila Ryusaki\, Certified Lactation Counselor & Childbirth Educator (CLCCE)\, Indigenous Breastfeeding Counselor (IBC)\, and Licensed Massage Therapist (LMT). \nSign up for this class at hmono.org/services.
URL:https://hmono.org/calendar/healthy-hapai-online-7/2022-05-25/
CATEGORIES:Health Education,Prenatal Education
END:VEVENT
BEGIN:VEVENT
DTSTART;TZID=Pacific/Honolulu:20220601T173000
DTEND;TZID=Pacific/Honolulu:20220601T193000
DTSTAMP:20260424T180316
CREATED:20220426T005518Z
LAST-MODIFIED:20220426T005518Z
UID:10002984-1654104600-1654111800@hmono.org
SUMMARY:Healthy Hāpai (online)
DESCRIPTION:If you’re a parent-to-be\, join this free\, online five-week class series on prenatal health\, postpartum health\, positive parenting and more. This class is presented by Leila Ryusaki\, Certified Lactation Counselor & Childbirth Educator (CLCCE)\, Indigenous Breastfeeding Counselor (IBC)\, and Licensed Massage Therapist (LMT). \nSign up for this class at hmono.org/services.
URL:https://hmono.org/calendar/healthy-hapai-online-7/2022-06-01/
CATEGORIES:Health Education,Prenatal Education
END:VEVENT
BEGIN:VEVENT
DTSTART;TZID=Pacific/Honolulu:20220629T110000
DTEND;TZID=Pacific/Honolulu:20220629T120000
DTSTAMP:20260424T180316
CREATED:20220426T013951Z
LAST-MODIFIED:20220426T013951Z
UID:10003044-1656500400-1656504000@hmono.org
SUMMARY:Breast Feeding Support Group (online)
DESCRIPTION:Mama to Mama Breastfeeding Support Group aims to provide an encouraging\, comfortable space for pregnant and breastfeeding women to share information\, advice\, and support. For more information or to sign up\, visit hmono.org/services. \nThis Support Group is presented and facilitated by: \nLeila Ryusaki – Healthy Hāpai Coordinator at Hui Mālama. Leila is also a Certified Lactation Counselor\, Childbirth Educator\, Licensed Massage Therapist\, and Indigenous Breastfeeding Counselor.
URL:https://hmono.org/calendar/breast-feeding-support-group-online-2/
CATEGORIES:Health Education,Prenatal Education
END:VEVENT
BEGIN:VEVENT
DTSTART;TZID=Pacific/Honolulu:20220629T180000
DTEND;TZID=Pacific/Honolulu:20220629T200000
DTSTAMP:20260424T180316
CREATED:20220426T020536Z
LAST-MODIFIED:20220526T020853Z
UID:10003056-1656525600-1656532800@hmono.org
SUMMARY:Healthy Hāpai (online)
DESCRIPTION:If you’re a parent-to-be\, join this free\, online five-week class series on prenatal health\, postpartum health\, positive parenting and more. This class is presented by Leila Ryusaki\, Certified Lactation Counselor & Childbirth Educator (CLCCE)\, Indigenous Breastfeeding Counselor (IBC)\, and Licensed Massage Therapist (LMT). Sign up for this class at hmono.org/services.
URL:https://hmono.org/calendar/healthy-hapai-online-8/2022-06-29/
CATEGORIES:Health Education,Prenatal Education
END:VEVENT
BEGIN:VEVENT
DTSTART;TZID=Pacific/Honolulu:20220706T180000
DTEND;TZID=Pacific/Honolulu:20220706T200000
DTSTAMP:20260424T180316
CREATED:20220426T020536Z
LAST-MODIFIED:20220526T020853Z
UID:10003057-1657130400-1657137600@hmono.org
SUMMARY:Healthy Hāpai (online)
DESCRIPTION:If you’re a parent-to-be\, join this free\, online five-week class series on prenatal health\, postpartum health\, positive parenting and more. This class is presented by Leila Ryusaki\, Certified Lactation Counselor & Childbirth Educator (CLCCE)\, Indigenous Breastfeeding Counselor (IBC)\, and Licensed Massage Therapist (LMT). Sign up for this class at hmono.org/services.
URL:https://hmono.org/calendar/healthy-hapai-online-8/2022-07-06/
CATEGORIES:Health Education,Prenatal Education
END:VEVENT
BEGIN:VEVENT
DTSTART;TZID=Pacific/Honolulu:20220713T180000
DTEND;TZID=Pacific/Honolulu:20220713T200000
DTSTAMP:20260424T180316
CREATED:20220426T020536Z
LAST-MODIFIED:20220526T020853Z
UID:10003058-1657735200-1657742400@hmono.org
SUMMARY:Healthy Hāpai (online)
DESCRIPTION:If you’re a parent-to-be\, join this free\, online five-week class series on prenatal health\, postpartum health\, positive parenting and more. This class is presented by Leila Ryusaki\, Certified Lactation Counselor & Childbirth Educator (CLCCE)\, Indigenous Breastfeeding Counselor (IBC)\, and Licensed Massage Therapist (LMT). Sign up for this class at hmono.org/services.
URL:https://hmono.org/calendar/healthy-hapai-online-8/2022-07-13/
CATEGORIES:Health Education,Prenatal Education
END:VEVENT
BEGIN:VEVENT
DTSTART;TZID=Pacific/Honolulu:20220720T180000
DTEND;TZID=Pacific/Honolulu:20220720T200000
DTSTAMP:20260424T180316
CREATED:20220426T020536Z
LAST-MODIFIED:20220526T020853Z
UID:10003059-1658340000-1658347200@hmono.org
SUMMARY:Healthy Hāpai (online)
DESCRIPTION:If you’re a parent-to-be\, join this free\, online five-week class series on prenatal health\, postpartum health\, positive parenting and more. This class is presented by Leila Ryusaki\, Certified Lactation Counselor & Childbirth Educator (CLCCE)\, Indigenous Breastfeeding Counselor (IBC)\, and Licensed Massage Therapist (LMT). Sign up for this class at hmono.org/services.
URL:https://hmono.org/calendar/healthy-hapai-online-8/2022-07-20/
CATEGORIES:Health Education,Prenatal Education
END:VEVENT
BEGIN:VEVENT
DTSTART;TZID=Pacific/Honolulu:20220727T110000
DTEND;TZID=Pacific/Honolulu:20220727T120000
DTSTAMP:20260424T180316
CREATED:20220426T023039Z
LAST-MODIFIED:20220426T023039Z
UID:10003066-1658919600-1658923200@hmono.org
SUMMARY:Breast Feeding Support Group (online)
DESCRIPTION:Mama to Mama Breastfeeding Support Group aims to provide an encouraging\, comfortable space for pregnant and breastfeeding women to share information\, advice\, and support. For more information or to sign up\, visit hmono.org/services. \nThis Support Group is presented and facilitated by: \nLeila Ryusaki – Healthy Hāpai Coordinator at Hui Mālama. Leila is also a Certified Lactation Counselor\, Childbirth Educator\, Licensed Massage Therapist\, and Indigenous Breastfeeding Counselor.
URL:https://hmono.org/calendar/breast-feeding-support-group-online-3/
CATEGORIES:Health Education,Prenatal Education
END:VEVENT
BEGIN:VEVENT
DTSTART;TZID=Pacific/Honolulu:20220727T180000
DTEND;TZID=Pacific/Honolulu:20220727T200000
DTSTAMP:20260424T180316
CREATED:20220426T020536Z
LAST-MODIFIED:20220526T020853Z
UID:10003060-1658944800-1658952000@hmono.org
SUMMARY:Healthy Hāpai (online)
DESCRIPTION:If you’re a parent-to-be\, join this free\, online five-week class series on prenatal health\, postpartum health\, positive parenting and more. This class is presented by Leila Ryusaki\, Certified Lactation Counselor & Childbirth Educator (CLCCE)\, Indigenous Breastfeeding Counselor (IBC)\, and Licensed Massage Therapist (LMT). Sign up for this class at hmono.org/services.
URL:https://hmono.org/calendar/healthy-hapai-online-8/2022-07-27/
CATEGORIES:Health Education,Prenatal Education
END:VEVENT
BEGIN:VEVENT
DTSTART;TZID=Pacific/Honolulu:20220802T180000
DTEND;TZID=Pacific/Honolulu:20220802T200000
DTSTAMP:20260424T180316
CREATED:20220720T211443Z
LAST-MODIFIED:20220720T212216Z
UID:10001392-1659463200-1659470400@hmono.org
SUMMARY:Healthy Hāpai (online)
DESCRIPTION:If you’re a parent-to-be\, join this free\, online five-week class series on prenatal health\, postpartum health\, positive parenting and more. This class is presented by Leila Ryusaki\, Certified Lactation Counselor & Childbirth Educator (CLCCE)\, Indigenous Breastfeeding Counselor (IBC)\, and Licensed Massage Therapist (LMT). Sign up for this class at hmono.org/services.
URL:https://hmono.org/calendar/healthy-hapai-online-9/2022-08-02/
CATEGORIES:Health Education,Prenatal Education
END:VEVENT
BEGIN:VEVENT
DTSTART;TZID=Pacific/Honolulu:20220809T180000
DTEND;TZID=Pacific/Honolulu:20220809T200000
DTSTAMP:20260424T180316
CREATED:20220720T211443Z
LAST-MODIFIED:20220720T212216Z
UID:10001393-1660068000-1660075200@hmono.org
SUMMARY:Healthy Hāpai (online)
DESCRIPTION:If you’re a parent-to-be\, join this free\, online five-week class series on prenatal health\, postpartum health\, positive parenting and more. This class is presented by Leila Ryusaki\, Certified Lactation Counselor & Childbirth Educator (CLCCE)\, Indigenous Breastfeeding Counselor (IBC)\, and Licensed Massage Therapist (LMT). Sign up for this class at hmono.org/services.
URL:https://hmono.org/calendar/healthy-hapai-online-9/2022-08-09/
CATEGORIES:Health Education,Prenatal Education
END:VEVENT
BEGIN:VEVENT
DTSTART;TZID=Pacific/Honolulu:20220816T180000
DTEND;TZID=Pacific/Honolulu:20220816T200000
DTSTAMP:20260424T180316
CREATED:20220720T211443Z
LAST-MODIFIED:20220720T212216Z
UID:10001394-1660672800-1660680000@hmono.org
SUMMARY:Healthy Hāpai (online)
DESCRIPTION:If you’re a parent-to-be\, join this free\, online five-week class series on prenatal health\, postpartum health\, positive parenting and more. This class is presented by Leila Ryusaki\, Certified Lactation Counselor & Childbirth Educator (CLCCE)\, Indigenous Breastfeeding Counselor (IBC)\, and Licensed Massage Therapist (LMT). Sign up for this class at hmono.org/services.
URL:https://hmono.org/calendar/healthy-hapai-online-9/2022-08-16/
CATEGORIES:Health Education,Prenatal Education
END:VEVENT
BEGIN:VEVENT
DTSTART;TZID=Pacific/Honolulu:20220823T180000
DTEND;TZID=Pacific/Honolulu:20220823T200000
DTSTAMP:20260424T180316
CREATED:20220720T211443Z
LAST-MODIFIED:20220720T212216Z
UID:10001395-1661277600-1661284800@hmono.org
SUMMARY:Healthy Hāpai (online)
DESCRIPTION:If you’re a parent-to-be\, join this free\, online five-week class series on prenatal health\, postpartum health\, positive parenting and more. This class is presented by Leila Ryusaki\, Certified Lactation Counselor & Childbirth Educator (CLCCE)\, Indigenous Breastfeeding Counselor (IBC)\, and Licensed Massage Therapist (LMT). Sign up for this class at hmono.org/services.
URL:https://hmono.org/calendar/healthy-hapai-online-9/2022-08-23/
CATEGORIES:Health Education,Prenatal Education
END:VEVENT
BEGIN:VEVENT
DTSTART;TZID=Pacific/Honolulu:20220830T180000
DTEND;TZID=Pacific/Honolulu:20220830T200000
DTSTAMP:20260424T180316
CREATED:20220720T211443Z
LAST-MODIFIED:20220720T212216Z
UID:10001396-1661882400-1661889600@hmono.org
SUMMARY:Healthy Hāpai (online)
DESCRIPTION:If you’re a parent-to-be\, join this free\, online five-week class series on prenatal health\, postpartum health\, positive parenting and more. This class is presented by Leila Ryusaki\, Certified Lactation Counselor & Childbirth Educator (CLCCE)\, Indigenous Breastfeeding Counselor (IBC)\, and Licensed Massage Therapist (LMT). Sign up for this class at hmono.org/services.
URL:https://hmono.org/calendar/healthy-hapai-online-9/2022-08-30/
CATEGORIES:Health Education,Prenatal Education
END:VEVENT
BEGIN:VEVENT
DTSTART;TZID=Pacific/Honolulu:20220831T110000
DTEND;TZID=Pacific/Honolulu:20220831T120000
DTSTAMP:20260424T180316
CREATED:20220802T022423Z
LAST-MODIFIED:20220802T203923Z
UID:10002857-1661943600-1661947200@hmono.org
SUMMARY:Breastfeeding Support Group (online)
DESCRIPTION:Mama to Mama Breastfeeding Support Group aims to provide an encouraging\, comfortable space for pregnant and breastfeeding women to share information\, advice\, and support. For more information or to sign up\, visit hmono.org/services. \nThis Support Group is presented and facilitated by: Leila Ryusaki – Healthy Hāpai Coordinator at Hui Mālama. Leila is also a Certified Lactation Counselor\, Childbirth Educator\, Licensed Massage Therapist\, and Indigenous Breastfeeding Counselor.
URL:https://hmono.org/calendar/breast-feeding-support-group-online-4/
CATEGORIES:Health Education,Prenatal Education
END:VEVENT
BEGIN:VEVENT
DTSTART;TZID=Pacific/Honolulu:20220906T180000
DTEND;TZID=Pacific/Honolulu:20220906T200000
DTSTAMP:20260424T180316
CREATED:20220720T212659Z
LAST-MODIFIED:20220720T212659Z
UID:10001402-1662487200-1662494400@hmono.org
SUMMARY:Healthy Hāpai: Infant Massage (online)
DESCRIPTION:Healthy Hāpai is hosting an infant massage class with Kaʻanohi Peʻa via Zoom. This FREE class teaches the basics of how infant massage empowers and promotes bonding + attachment with your baby\, how massage brings health awareness and knowledge of your baby’s body functions\, and more!
URL:https://hmono.org/calendar/healthy-hapai-infant-massage-online/
CATEGORIES:Health Education,Prenatal Education
END:VEVENT
END:VCALENDAR