BEGIN:VCALENDAR
VERSION:2.0
PRODID:-//Hui Mālama Ola Nā ʻŌiwi - ECPv6.15.20//NONSGML v1.0//EN
CALSCALE:GREGORIAN
METHOD:PUBLISH
X-ORIGINAL-URL:https://hmono.org
X-WR-CALDESC:Events for Hui Mālama Ola Nā ʻŌiwi
REFRESH-INTERVAL;VALUE=DURATION:PT1H
X-Robots-Tag:noindex
X-PUBLISHED-TTL:PT1H
BEGIN:VTIMEZONE
TZID:Pacific/Honolulu
BEGIN:STANDARD
TZOFFSETFROM:-1000
TZOFFSETTO:-1000
TZNAME:HST
DTSTART:20220101T000000
END:STANDARD
END:VTIMEZONE
BEGIN:VEVENT
DTSTART;TZID=Pacific/Honolulu:20230103T180000
DTEND;TZID=Pacific/Honolulu:20230103T200000
DTSTAMP:20260423T232619
CREATED:20221029T020311Z
LAST-MODIFIED:20221029T020311Z
UID:10001815-1672768800-1672776000@hmono.org
SUMMARY:Healthy Hāpai (online)
DESCRIPTION:If you’re a parent-to-be\, join this free\, online five-week class series on prenatal health\, postpartum health\, positive parenting and more. This class is presented by Leila Ryusaki\, Certified Lactation Counselor & Childbirth Educator (CLCCE)\, Indigenous Breastfeeding Counselor (IBC)\, and Licensed Massage Therapist (LMT). Sign up for this class at hmono.org/services.
URL:https://hmono.org/calendar/healthy-hapai-online-11/2023-01-03/
CATEGORIES:Health Education,Prenatal Education
END:VEVENT
BEGIN:VEVENT
DTSTART;TZID=Pacific/Honolulu:20230110T180000
DTEND;TZID=Pacific/Honolulu:20230110T200000
DTSTAMP:20260423T232619
CREATED:20221029T020311Z
LAST-MODIFIED:20221029T020311Z
UID:10001816-1673373600-1673380800@hmono.org
SUMMARY:Healthy Hāpai (online)
DESCRIPTION:If you’re a parent-to-be\, join this free\, online five-week class series on prenatal health\, postpartum health\, positive parenting and more. This class is presented by Leila Ryusaki\, Certified Lactation Counselor & Childbirth Educator (CLCCE)\, Indigenous Breastfeeding Counselor (IBC)\, and Licensed Massage Therapist (LMT). Sign up for this class at hmono.org/services.
URL:https://hmono.org/calendar/healthy-hapai-online-11/2023-01-10/
CATEGORIES:Health Education,Prenatal Education
END:VEVENT
BEGIN:VEVENT
DTSTART;TZID=Pacific/Honolulu:20230117T180000
DTEND;TZID=Pacific/Honolulu:20230117T200000
DTSTAMP:20260423T232619
CREATED:20221029T020311Z
LAST-MODIFIED:20221029T020311Z
UID:10001817-1673978400-1673985600@hmono.org
SUMMARY:Healthy Hāpai (online)
DESCRIPTION:If you’re a parent-to-be\, join this free\, online five-week class series on prenatal health\, postpartum health\, positive parenting and more. This class is presented by Leila Ryusaki\, Certified Lactation Counselor & Childbirth Educator (CLCCE)\, Indigenous Breastfeeding Counselor (IBC)\, and Licensed Massage Therapist (LMT). Sign up for this class at hmono.org/services.
URL:https://hmono.org/calendar/healthy-hapai-online-11/2023-01-17/
CATEGORIES:Health Education,Prenatal Education
END:VEVENT
BEGIN:VEVENT
DTSTART;TZID=Pacific/Honolulu:20230124T180000
DTEND;TZID=Pacific/Honolulu:20230124T200000
DTSTAMP:20260423T232619
CREATED:20221029T020311Z
LAST-MODIFIED:20221029T020311Z
UID:10001818-1674583200-1674590400@hmono.org
SUMMARY:Healthy Hāpai (online)
DESCRIPTION:If you’re a parent-to-be\, join this free\, online five-week class series on prenatal health\, postpartum health\, positive parenting and more. This class is presented by Leila Ryusaki\, Certified Lactation Counselor & Childbirth Educator (CLCCE)\, Indigenous Breastfeeding Counselor (IBC)\, and Licensed Massage Therapist (LMT). Sign up for this class at hmono.org/services.
URL:https://hmono.org/calendar/healthy-hapai-online-11/2023-01-24/
CATEGORIES:Health Education,Prenatal Education
END:VEVENT
BEGIN:VEVENT
DTSTART;TZID=Pacific/Honolulu:20230131T180000
DTEND;TZID=Pacific/Honolulu:20230131T200000
DTSTAMP:20260423T232619
CREATED:20221029T020311Z
LAST-MODIFIED:20221029T020311Z
UID:10001819-1675188000-1675195200@hmono.org
SUMMARY:Healthy Hāpai (online)
DESCRIPTION:If you’re a parent-to-be\, join this free\, online five-week class series on prenatal health\, postpartum health\, positive parenting and more. This class is presented by Leila Ryusaki\, Certified Lactation Counselor & Childbirth Educator (CLCCE)\, Indigenous Breastfeeding Counselor (IBC)\, and Licensed Massage Therapist (LMT). Sign up for this class at hmono.org/services.
URL:https://hmono.org/calendar/healthy-hapai-online-11/2023-01-31/
CATEGORIES:Health Education,Prenatal Education
END:VEVENT
BEGIN:VEVENT
DTSTART;TZID=Pacific/Honolulu:20230530T180000
DTEND;TZID=Pacific/Honolulu:20230530T200000
DTSTAMP:20260423T232619
CREATED:20230428T012532Z
LAST-MODIFIED:20230428T012532Z
UID:10002740-1685469600-1685476800@hmono.org
SUMMARY:Healthy Hāpai (online)
DESCRIPTION:If you’re pregnant\, join this free\, online five-week class series on prenatal health\, postpartum health\, breastfeeding\, positive parenting\, and more.
URL:https://hmono.org/calendar/healthy-hapai-online-12/2023-05-30/
CATEGORIES:Health Education,Prenatal Education
END:VEVENT
BEGIN:VEVENT
DTSTART;TZID=Pacific/Honolulu:20230606T180000
DTEND;TZID=Pacific/Honolulu:20230606T200000
DTSTAMP:20260423T232619
CREATED:20230428T012532Z
LAST-MODIFIED:20230428T012532Z
UID:10002741-1686074400-1686081600@hmono.org
SUMMARY:Healthy Hāpai (online)
DESCRIPTION:If you’re pregnant\, join this free\, online five-week class series on prenatal health\, postpartum health\, breastfeeding\, positive parenting\, and more.
URL:https://hmono.org/calendar/healthy-hapai-online-12/2023-06-06/
CATEGORIES:Health Education,Prenatal Education
END:VEVENT
BEGIN:VEVENT
DTSTART;TZID=Pacific/Honolulu:20230606T180000
DTEND;TZID=Pacific/Honolulu:20230606T200000
DTSTAMP:20260423T232619
CREATED:20230428T013533Z
LAST-MODIFIED:20230428T013533Z
UID:10001659-1686074400-1686081600@hmono.org
SUMMARY:Healthy Hāpai (online)
DESCRIPTION:The last four sessions of this free\, online five-week class series on prenatal health\, postpartum health\, breastfeeding\, positive parenting\, and more.
URL:https://hmono.org/calendar/healthy-hapai-online-13/2023-06-06/
CATEGORIES:Health Education,Prenatal Education
END:VEVENT
BEGIN:VEVENT
DTSTART;TZID=Pacific/Honolulu:20230613T180000
DTEND;TZID=Pacific/Honolulu:20230613T200000
DTSTAMP:20260423T232619
CREATED:20230428T012532Z
LAST-MODIFIED:20230428T012532Z
UID:10002742-1686679200-1686686400@hmono.org
SUMMARY:Healthy Hāpai (online)
DESCRIPTION:If you’re pregnant\, join this free\, online five-week class series on prenatal health\, postpartum health\, breastfeeding\, positive parenting\, and more.
URL:https://hmono.org/calendar/healthy-hapai-online-12/2023-06-13/
CATEGORIES:Health Education,Prenatal Education
END:VEVENT
BEGIN:VEVENT
DTSTART;TZID=Pacific/Honolulu:20230613T180000
DTEND;TZID=Pacific/Honolulu:20230613T200000
DTSTAMP:20260423T232619
CREATED:20230428T013533Z
LAST-MODIFIED:20230428T013533Z
UID:10001660-1686679200-1686686400@hmono.org
SUMMARY:Healthy Hāpai (online)
DESCRIPTION:The last four sessions of this free\, online five-week class series on prenatal health\, postpartum health\, breastfeeding\, positive parenting\, and more.
URL:https://hmono.org/calendar/healthy-hapai-online-13/2023-06-13/
CATEGORIES:Health Education,Prenatal Education
END:VEVENT
BEGIN:VEVENT
DTSTART;TZID=Pacific/Honolulu:20230620T180000
DTEND;TZID=Pacific/Honolulu:20230620T200000
DTSTAMP:20260423T232619
CREATED:20230428T012532Z
LAST-MODIFIED:20230428T012532Z
UID:10002743-1687284000-1687291200@hmono.org
SUMMARY:Healthy Hāpai (online)
DESCRIPTION:If you’re pregnant\, join this free\, online five-week class series on prenatal health\, postpartum health\, breastfeeding\, positive parenting\, and more.
URL:https://hmono.org/calendar/healthy-hapai-online-12/2023-06-20/
CATEGORIES:Health Education,Prenatal Education
END:VEVENT
BEGIN:VEVENT
DTSTART;TZID=Pacific/Honolulu:20230620T180000
DTEND;TZID=Pacific/Honolulu:20230620T200000
DTSTAMP:20260423T232619
CREATED:20230428T013533Z
LAST-MODIFIED:20230428T013533Z
UID:10001661-1687284000-1687291200@hmono.org
SUMMARY:Healthy Hāpai (online)
DESCRIPTION:The last four sessions of this free\, online five-week class series on prenatal health\, postpartum health\, breastfeeding\, positive parenting\, and more.
URL:https://hmono.org/calendar/healthy-hapai-online-13/2023-06-20/
CATEGORIES:Health Education,Prenatal Education
END:VEVENT
BEGIN:VEVENT
DTSTART;TZID=Pacific/Honolulu:20230627T180000
DTEND;TZID=Pacific/Honolulu:20230627T200000
DTSTAMP:20260423T232619
CREATED:20230428T012532Z
LAST-MODIFIED:20230428T012532Z
UID:10002744-1687888800-1687896000@hmono.org
SUMMARY:Healthy Hāpai (online)
DESCRIPTION:If you’re pregnant\, join this free\, online five-week class series on prenatal health\, postpartum health\, breastfeeding\, positive parenting\, and more.
URL:https://hmono.org/calendar/healthy-hapai-online-12/2023-06-27/
CATEGORIES:Health Education,Prenatal Education
END:VEVENT
BEGIN:VEVENT
DTSTART;TZID=Pacific/Honolulu:20230627T180000
DTEND;TZID=Pacific/Honolulu:20230627T200000
DTSTAMP:20260423T232619
CREATED:20230428T013533Z
LAST-MODIFIED:20230428T013533Z
UID:10001662-1687888800-1687896000@hmono.org
SUMMARY:Healthy Hāpai (online)
DESCRIPTION:The last four sessions of this free\, online five-week class series on prenatal health\, postpartum health\, breastfeeding\, positive parenting\, and more.
URL:https://hmono.org/calendar/healthy-hapai-online-13/2023-06-27/
CATEGORIES:Health Education,Prenatal Education
END:VEVENT
BEGIN:VEVENT
DTSTART;TZID=Pacific/Honolulu:20240109T173000
DTEND;TZID=Pacific/Honolulu:20240109T193000
DTSTAMP:20260423T232620
CREATED:20231031T204311Z
LAST-MODIFIED:20231031T204311Z
UID:10004770-1704821400-1704828600@hmono.org
SUMMARY:Healthy Hāpai (online)
DESCRIPTION:If you’re pregnant\, join this free\, online five-week class series on prenatal health\, postpartum health\, breastfeeding\, positive parenting\, and more.
URL:https://hmono.org/calendar/healthy-hapai-online-14/2024-01-09/
CATEGORIES:Health Education,Prenatal Education
END:VEVENT
BEGIN:VEVENT
DTSTART;TZID=Pacific/Honolulu:20240116T173000
DTEND;TZID=Pacific/Honolulu:20240116T193000
DTSTAMP:20260423T232620
CREATED:20231031T204311Z
LAST-MODIFIED:20231031T204311Z
UID:10004771-1705426200-1705433400@hmono.org
SUMMARY:Healthy Hāpai (online)
DESCRIPTION:If you’re pregnant\, join this free\, online five-week class series on prenatal health\, postpartum health\, breastfeeding\, positive parenting\, and more.
URL:https://hmono.org/calendar/healthy-hapai-online-14/2024-01-16/
CATEGORIES:Health Education,Prenatal Education
END:VEVENT
BEGIN:VEVENT
DTSTART;TZID=Pacific/Honolulu:20240123T173000
DTEND;TZID=Pacific/Honolulu:20240123T193000
DTSTAMP:20260423T232620
CREATED:20231031T204311Z
LAST-MODIFIED:20231031T204311Z
UID:10004772-1706031000-1706038200@hmono.org
SUMMARY:Healthy Hāpai (online)
DESCRIPTION:If you’re pregnant\, join this free\, online five-week class series on prenatal health\, postpartum health\, breastfeeding\, positive parenting\, and more.
URL:https://hmono.org/calendar/healthy-hapai-online-14/2024-01-23/
CATEGORIES:Health Education,Prenatal Education
END:VEVENT
BEGIN:VEVENT
DTSTART;TZID=Pacific/Honolulu:20240130T173000
DTEND;TZID=Pacific/Honolulu:20240130T193000
DTSTAMP:20260423T232620
CREATED:20231031T204311Z
LAST-MODIFIED:20231031T204311Z
UID:10004773-1706635800-1706643000@hmono.org
SUMMARY:Healthy Hāpai (online)
DESCRIPTION:If you’re pregnant\, join this free\, online five-week class series on prenatal health\, postpartum health\, breastfeeding\, positive parenting\, and more.
URL:https://hmono.org/calendar/healthy-hapai-online-14/2024-01-30/
CATEGORIES:Health Education,Prenatal Education
END:VEVENT
BEGIN:VEVENT
DTSTART;TZID=Pacific/Honolulu:20240206T173000
DTEND;TZID=Pacific/Honolulu:20240206T193000
DTSTAMP:20260423T232620
CREATED:20231031T204311Z
LAST-MODIFIED:20231031T204311Z
UID:10004774-1707240600-1707247800@hmono.org
SUMMARY:Healthy Hāpai (online)
DESCRIPTION:If you’re pregnant\, join this free\, online five-week class series on prenatal health\, postpartum health\, breastfeeding\, positive parenting\, and more.
URL:https://hmono.org/calendar/healthy-hapai-online-14/2024-02-06/
CATEGORIES:Health Education,Prenatal Education
END:VEVENT
BEGIN:VEVENT
DTSTART;TZID=Pacific/Honolulu:20240213T173000
DTEND;TZID=Pacific/Honolulu:20240213T193000
DTSTAMP:20260423T232620
CREATED:20231031T204311Z
LAST-MODIFIED:20231031T204311Z
UID:10004775-1707845400-1707852600@hmono.org
SUMMARY:Healthy Hāpai (online)
DESCRIPTION:If you’re pregnant\, join this free\, online five-week class series on prenatal health\, postpartum health\, breastfeeding\, positive parenting\, and more.
URL:https://hmono.org/calendar/healthy-hapai-online-14/2024-02-13/
CATEGORIES:Health Education,Prenatal Education
END:VEVENT
BEGIN:VEVENT
DTSTART;TZID=Pacific/Honolulu:20240220T173000
DTEND;TZID=Pacific/Honolulu:20240220T193000
DTSTAMP:20260423T232620
CREATED:20231031T204311Z
LAST-MODIFIED:20231031T204311Z
UID:10004776-1708450200-1708457400@hmono.org
SUMMARY:Healthy Hāpai (online)
DESCRIPTION:If you’re pregnant\, join this free\, online five-week class series on prenatal health\, postpartum health\, breastfeeding\, positive parenting\, and more.
URL:https://hmono.org/calendar/healthy-hapai-online-14/2024-02-20/
CATEGORIES:Health Education,Prenatal Education
END:VEVENT
BEGIN:VEVENT
DTSTART;TZID=Pacific/Honolulu:20240227T173000
DTEND;TZID=Pacific/Honolulu:20240227T193000
DTSTAMP:20260423T232620
CREATED:20231031T204311Z
LAST-MODIFIED:20231031T204311Z
UID:10004777-1709055000-1709062200@hmono.org
SUMMARY:Healthy Hāpai (online)
DESCRIPTION:If you’re pregnant\, join this free\, online five-week class series on prenatal health\, postpartum health\, breastfeeding\, positive parenting\, and more.
URL:https://hmono.org/calendar/healthy-hapai-online-14/2024-02-27/
CATEGORIES:Health Education,Prenatal Education
END:VEVENT
BEGIN:VEVENT
DTSTART;TZID=Pacific/Honolulu:20240305T173000
DTEND;TZID=Pacific/Honolulu:20240305T193000
DTSTAMP:20260423T232620
CREATED:20231031T204311Z
LAST-MODIFIED:20231031T204311Z
UID:10004778-1709659800-1709667000@hmono.org
SUMMARY:Healthy Hāpai (online)
DESCRIPTION:If you’re pregnant\, join this free\, online five-week class series on prenatal health\, postpartum health\, breastfeeding\, positive parenting\, and more.
URL:https://hmono.org/calendar/healthy-hapai-online-14/2024-03-05/
CATEGORIES:Health Education,Prenatal Education
END:VEVENT
BEGIN:VEVENT
DTSTART;TZID=Pacific/Honolulu:20240312T173000
DTEND;TZID=Pacific/Honolulu:20240312T193000
DTSTAMP:20260423T232620
CREATED:20231031T204311Z
LAST-MODIFIED:20231031T204311Z
UID:10004779-1710264600-1710271800@hmono.org
SUMMARY:Healthy Hāpai (online)
DESCRIPTION:If you’re pregnant\, join this free\, online five-week class series on prenatal health\, postpartum health\, breastfeeding\, positive parenting\, and more.
URL:https://hmono.org/calendar/healthy-hapai-online-14/2024-03-12/
CATEGORIES:Health Education,Prenatal Education
END:VEVENT
BEGIN:VEVENT
DTSTART;TZID=Pacific/Honolulu:20240319T173000
DTEND;TZID=Pacific/Honolulu:20240319T193000
DTSTAMP:20260423T232620
CREATED:20231031T204311Z
LAST-MODIFIED:20231031T204311Z
UID:10004780-1710869400-1710876600@hmono.org
SUMMARY:Healthy Hāpai (online)
DESCRIPTION:If you’re pregnant\, join this free\, online five-week class series on prenatal health\, postpartum health\, breastfeeding\, positive parenting\, and more.
URL:https://hmono.org/calendar/healthy-hapai-online-14/2024-03-19/
CATEGORIES:Health Education,Prenatal Education
END:VEVENT
BEGIN:VEVENT
DTSTART;TZID=Pacific/Honolulu:20240326T173000
DTEND;TZID=Pacific/Honolulu:20240326T193000
DTSTAMP:20260423T232620
CREATED:20231031T204311Z
LAST-MODIFIED:20231031T204311Z
UID:10004781-1711474200-1711481400@hmono.org
SUMMARY:Healthy Hāpai (online)
DESCRIPTION:If you’re pregnant\, join this free\, online five-week class series on prenatal health\, postpartum health\, breastfeeding\, positive parenting\, and more.
URL:https://hmono.org/calendar/healthy-hapai-online-14/2024-03-26/
CATEGORIES:Health Education,Prenatal Education
END:VEVENT
BEGIN:VEVENT
DTSTART;TZID=Pacific/Honolulu:20240402T173000
DTEND;TZID=Pacific/Honolulu:20240402T193000
DTSTAMP:20260423T232620
CREATED:20231031T204311Z
LAST-MODIFIED:20231031T204311Z
UID:10004782-1712079000-1712086200@hmono.org
SUMMARY:Healthy Hāpai (online)
DESCRIPTION:If you’re pregnant\, join this free\, online five-week class series on prenatal health\, postpartum health\, breastfeeding\, positive parenting\, and more.
URL:https://hmono.org/calendar/healthy-hapai-online-14/2024-04-02/
CATEGORIES:Health Education,Prenatal Education
END:VEVENT
BEGIN:VEVENT
DTSTART;TZID=Pacific/Honolulu:20240409T173000
DTEND;TZID=Pacific/Honolulu:20240409T193000
DTSTAMP:20260423T232620
CREATED:20231031T204311Z
LAST-MODIFIED:20231031T204311Z
UID:10004783-1712683800-1712691000@hmono.org
SUMMARY:Healthy Hāpai (online)
DESCRIPTION:If you’re pregnant\, join this free\, online five-week class series on prenatal health\, postpartum health\, breastfeeding\, positive parenting\, and more.
URL:https://hmono.org/calendar/healthy-hapai-online-14/2024-04-09/
CATEGORIES:Health Education,Prenatal Education
END:VEVENT
BEGIN:VEVENT
DTSTART;TZID=Pacific/Honolulu:20240416T173000
DTEND;TZID=Pacific/Honolulu:20240416T193000
DTSTAMP:20260423T232620
CREATED:20231031T204311Z
LAST-MODIFIED:20231031T204311Z
UID:10004784-1713288600-1713295800@hmono.org
SUMMARY:Healthy Hāpai (online)
DESCRIPTION:If you’re pregnant\, join this free\, online five-week class series on prenatal health\, postpartum health\, breastfeeding\, positive parenting\, and more.
URL:https://hmono.org/calendar/healthy-hapai-online-14/2024-04-16/
CATEGORIES:Health Education,Prenatal Education
END:VEVENT
BEGIN:VEVENT
DTSTART;TZID=Pacific/Honolulu:20240423T173000
DTEND;TZID=Pacific/Honolulu:20240423T193000
DTSTAMP:20260423T232620
CREATED:20231031T204311Z
LAST-MODIFIED:20231031T204311Z
UID:10004785-1713893400-1713900600@hmono.org
SUMMARY:Healthy Hāpai (online)
DESCRIPTION:If you’re pregnant\, join this free\, online five-week class series on prenatal health\, postpartum health\, breastfeeding\, positive parenting\, and more.
URL:https://hmono.org/calendar/healthy-hapai-online-14/2024-04-23/
CATEGORIES:Health Education,Prenatal Education
END:VEVENT
END:VCALENDAR