BEGIN:VCALENDAR
VERSION:2.0
PRODID:-//Hui Mālama Ola Nā ʻŌiwi - ECPv6.15.20//NONSGML v1.0//EN
CALSCALE:GREGORIAN
METHOD:PUBLISH
X-WR-CALNAME:Hui Mālama Ola Nā ʻŌiwi
X-ORIGINAL-URL:https://hmono.org
X-WR-CALDESC:Events for Hui Mālama Ola Nā ʻŌiwi
REFRESH-INTERVAL;VALUE=DURATION:PT1H
X-Robots-Tag:noindex
X-PUBLISHED-TTL:PT1H
BEGIN:VTIMEZONE
TZID:Pacific/Honolulu
BEGIN:STANDARD
TZOFFSETFROM:-1000
TZOFFSETTO:-1000
TZNAME:HST
DTSTART:20190101T000000
END:STANDARD
END:VTIMEZONE
BEGIN:VEVENT
DTSTART;TZID=Pacific/Honolulu:20200511T170000
DTEND;TZID=Pacific/Honolulu:20200511T180000
DTSTAMP:20260422T153953
CREATED:20200501T010911Z
LAST-MODIFIED:20220119T004115Z
UID:10000792-1589216400-1589220000@hmono.org
SUMMARY:Cultural Wellness Support Group (Online)
DESCRIPTION:Join us for our online wellness class that focuses on cultural practices\, crafts and conversations. Those with no computer access may call in via phone line. Visit hmono.org/services/ to sign-up!
URL:https://hmono.org/calendar/cultural-wellness-support-group-online/2020-05-11/
CATEGORIES:Health Education
END:VEVENT
BEGIN:VEVENT
DTSTART;TZID=Pacific/Honolulu:20200513T170000
DTEND;TZID=Pacific/Honolulu:20200513T190000
DTSTAMP:20260422T153953
CREATED:20200410T001110Z
LAST-MODIFIED:20200410T001110Z
UID:10002356-1589389200-1589396400@hmono.org
SUMMARY:Diabetes Self Management Education and Support Class (Online)
DESCRIPTION:Interested in learning more about your diabetes diagnosis and how to manage it? This class will be on Zoom app that can be accessed on a commuter or Smartphone. Those with no computer access may call in via phone line. Use https://hmono.org/services/ to sign up today for this online class!
URL:https://hmono.org/calendar/diabetes-self-management-education-and-support-class-online-2/2020-05-13/
CATEGORIES:Health Education
END:VEVENT
BEGIN:VEVENT
DTSTART;TZID=Pacific/Honolulu:20200514T150000
DTEND;TZID=Pacific/Honolulu:20200514T170000
DTSTAMP:20260422T153953
CREATED:20200421T004145Z
LAST-MODIFIED:20200421T004145Z
UID:10000771-1589468400-1589475600@hmono.org
SUMMARY:Mindful Eating Lab (Online)
DESCRIPTION:In this interactive series\, learn how to slow down the eating process\, listen to physiological cues of hunger/fullness/satisfaction\, while making mindful food choices that enhance nutritional benefits and overall health. Those with no computer access may call in via phone line. Use https://hmono.org/services/ to sign up today for this online class!
URL:https://hmono.org/calendar/mindful-eating-lab-online/2020-05-14/
CATEGORIES:Health Education
END:VEVENT
END:VCALENDAR