BEGIN:VCALENDAR
VERSION:2.0
PRODID:-//Hui Mālama Ola Nā ʻŌiwi - ECPv6.15.20//NONSGML v1.0//EN
CALSCALE:GREGORIAN
METHOD:PUBLISH
X-ORIGINAL-URL:https://hmono.org
X-WR-CALDESC:Events for Hui Mālama Ola Nā ʻŌiwi
REFRESH-INTERVAL;VALUE=DURATION:PT1H
X-Robots-Tag:noindex
X-PUBLISHED-TTL:PT1H
BEGIN:VTIMEZONE
TZID:Pacific/Honolulu
BEGIN:STANDARD
TZOFFSETFROM:-1000
TZOFFSETTO:-1000
TZNAME:HST
DTSTART:20220101T000000
END:STANDARD
END:VTIMEZONE
BEGIN:VEVENT
DTSTART;TZID=Pacific/Honolulu:20230927T170000
DTEND;TZID=Pacific/Honolulu:20230927T190000
DTSTAMP:20260425T024459
CREATED:20230815T011814Z
LAST-MODIFIED:20230815T011938Z
UID:10004486-1695834000-1695841200@hmono.org
SUMMARY:Wellness Wednesdays (online)
DESCRIPTION:A 6-week course on diabetes\, hypertension\, chronic kidney disease\, nutrition\, fitness\, and stress management.
URL:https://hmono.org/calendar/wellness-wednesdays-online-3/2023-09-27/
CATEGORIES:Health Education,Wellness Wednesdays
END:VEVENT
BEGIN:VEVENT
DTSTART;TZID=Pacific/Honolulu:20231004T170000
DTEND;TZID=Pacific/Honolulu:20231004T190000
DTSTAMP:20260425T024459
CREATED:20230815T011814Z
LAST-MODIFIED:20230815T011938Z
UID:10004487-1696438800-1696446000@hmono.org
SUMMARY:Wellness Wednesdays (online)
DESCRIPTION:A 6-week course on diabetes\, hypertension\, chronic kidney disease\, nutrition\, fitness\, and stress management.
URL:https://hmono.org/calendar/wellness-wednesdays-online-3/2023-10-04/
CATEGORIES:Health Education,Wellness Wednesdays
END:VEVENT
BEGIN:VEVENT
DTSTART;TZID=Pacific/Honolulu:20231011T170000
DTEND;TZID=Pacific/Honolulu:20231011T190000
DTSTAMP:20260425T024459
CREATED:20230815T011814Z
LAST-MODIFIED:20230815T011938Z
UID:10004488-1697043600-1697050800@hmono.org
SUMMARY:Wellness Wednesdays (online)
DESCRIPTION:A 6-week course on diabetes\, hypertension\, chronic kidney disease\, nutrition\, fitness\, and stress management.
URL:https://hmono.org/calendar/wellness-wednesdays-online-3/2023-10-11/
CATEGORIES:Health Education,Wellness Wednesdays
END:VEVENT
BEGIN:VEVENT
DTSTART;TZID=Pacific/Honolulu:20231018T170000
DTEND;TZID=Pacific/Honolulu:20231018T190000
DTSTAMP:20260425T024459
CREATED:20230815T011814Z
LAST-MODIFIED:20230815T011938Z
UID:10004489-1697648400-1697655600@hmono.org
SUMMARY:Wellness Wednesdays (online)
DESCRIPTION:A 6-week course on diabetes\, hypertension\, chronic kidney disease\, nutrition\, fitness\, and stress management.
URL:https://hmono.org/calendar/wellness-wednesdays-online-3/2023-10-18/
CATEGORIES:Health Education,Wellness Wednesdays
END:VEVENT
BEGIN:VEVENT
DTSTART;TZID=Pacific/Honolulu:20231025T170000
DTEND;TZID=Pacific/Honolulu:20231025T190000
DTSTAMP:20260425T024459
CREATED:20230815T011814Z
LAST-MODIFIED:20230815T011938Z
UID:10004490-1698253200-1698260400@hmono.org
SUMMARY:Wellness Wednesdays (online)
DESCRIPTION:A 6-week course on diabetes\, hypertension\, chronic kidney disease\, nutrition\, fitness\, and stress management.
URL:https://hmono.org/calendar/wellness-wednesdays-online-3/2023-10-25/
CATEGORIES:Health Education,Wellness Wednesdays
END:VEVENT
BEGIN:VEVENT
DTSTART;TZID=Pacific/Honolulu:20231101T170000
DTEND;TZID=Pacific/Honolulu:20231101T190000
DTSTAMP:20260425T024459
CREATED:20230815T011814Z
LAST-MODIFIED:20230815T011938Z
UID:10004849-1698858000-1698865200@hmono.org
SUMMARY:Wellness Wednesdays (online)
DESCRIPTION:A 6-week course on diabetes\, hypertension\, chronic kidney disease\, nutrition\, fitness\, and stress management.
URL:https://hmono.org/calendar/wellness-wednesdays-online-3/2023-11-01/
CATEGORIES:Health Education,Wellness Wednesdays
END:VEVENT
BEGIN:VEVENT
DTSTART;TZID=Pacific/Honolulu:20231108T170000
DTEND;TZID=Pacific/Honolulu:20231108T190000
DTSTAMP:20260425T024459
CREATED:20230815T011814Z
LAST-MODIFIED:20230815T011938Z
UID:10004850-1699462800-1699470000@hmono.org
SUMMARY:Wellness Wednesdays (online)
DESCRIPTION:A 6-week course on diabetes\, hypertension\, chronic kidney disease\, nutrition\, fitness\, and stress management.
URL:https://hmono.org/calendar/wellness-wednesdays-online-3/2023-11-08/
CATEGORIES:Health Education,Wellness Wednesdays
END:VEVENT
BEGIN:VEVENT
DTSTART;TZID=Pacific/Honolulu:20231115T170000
DTEND;TZID=Pacific/Honolulu:20231115T190000
DTSTAMP:20260425T024459
CREATED:20230815T011814Z
LAST-MODIFIED:20230815T011938Z
UID:10004493-1700067600-1700074800@hmono.org
SUMMARY:Wellness Wednesdays (online)
DESCRIPTION:A 6-week course on diabetes\, hypertension\, chronic kidney disease\, nutrition\, fitness\, and stress management.
URL:https://hmono.org/calendar/wellness-wednesdays-online-3/2023-11-15/
CATEGORIES:Health Education,Wellness Wednesdays
END:VEVENT
BEGIN:VEVENT
DTSTART;TZID=Pacific/Honolulu:20231122T170000
DTEND;TZID=Pacific/Honolulu:20231122T190000
DTSTAMP:20260425T024459
CREATED:20230815T011814Z
LAST-MODIFIED:20230815T011938Z
UID:10004494-1700672400-1700679600@hmono.org
SUMMARY:Wellness Wednesdays (online)
DESCRIPTION:A 6-week course on diabetes\, hypertension\, chronic kidney disease\, nutrition\, fitness\, and stress management.
URL:https://hmono.org/calendar/wellness-wednesdays-online-3/2023-11-22/
CATEGORIES:Health Education,Wellness Wednesdays
END:VEVENT
BEGIN:VEVENT
DTSTART;TZID=Pacific/Honolulu:20231129T170000
DTEND;TZID=Pacific/Honolulu:20231129T190000
DTSTAMP:20260425T024459
CREATED:20230815T011814Z
LAST-MODIFIED:20230815T011938Z
UID:10004495-1701277200-1701284400@hmono.org
SUMMARY:Wellness Wednesdays (online)
DESCRIPTION:A 6-week course on diabetes\, hypertension\, chronic kidney disease\, nutrition\, fitness\, and stress management.
URL:https://hmono.org/calendar/wellness-wednesdays-online-3/2023-11-29/
CATEGORIES:Health Education,Wellness Wednesdays
END:VEVENT
BEGIN:VEVENT
DTSTART;TZID=Pacific/Honolulu:20231206T170000
DTEND;TZID=Pacific/Honolulu:20231206T190000
DTSTAMP:20260425T024459
CREATED:20230815T011814Z
LAST-MODIFIED:20230815T011938Z
UID:10004496-1701882000-1701889200@hmono.org
SUMMARY:Wellness Wednesdays (online)
DESCRIPTION:A 6-week course on diabetes\, hypertension\, chronic kidney disease\, nutrition\, fitness\, and stress management.
URL:https://hmono.org/calendar/wellness-wednesdays-online-3/2023-12-06/
CATEGORIES:Health Education,Wellness Wednesdays
END:VEVENT
BEGIN:VEVENT
DTSTART;TZID=Pacific/Honolulu:20231213T170000
DTEND;TZID=Pacific/Honolulu:20231213T190000
DTSTAMP:20260425T024459
CREATED:20230815T011814Z
LAST-MODIFIED:20230815T011938Z
UID:10004497-1702486800-1702494000@hmono.org
SUMMARY:Wellness Wednesdays (online)
DESCRIPTION:A 6-week course on diabetes\, hypertension\, chronic kidney disease\, nutrition\, fitness\, and stress management.
URL:https://hmono.org/calendar/wellness-wednesdays-online-3/2023-12-13/
CATEGORIES:Health Education,Wellness Wednesdays
END:VEVENT
BEGIN:VEVENT
DTSTART;TZID=Pacific/Honolulu:20231220T170000
DTEND;TZID=Pacific/Honolulu:20231220T190000
DTSTAMP:20260425T024459
CREATED:20230815T011814Z
LAST-MODIFIED:20230815T011938Z
UID:10004498-1703091600-1703098800@hmono.org
SUMMARY:Wellness Wednesdays (online)
DESCRIPTION:A 6-week course on diabetes\, hypertension\, chronic kidney disease\, nutrition\, fitness\, and stress management.
URL:https://hmono.org/calendar/wellness-wednesdays-online-3/2023-12-20/
CATEGORIES:Health Education,Wellness Wednesdays
END:VEVENT
BEGIN:VEVENT
DTSTART;TZID=Pacific/Honolulu:20231227T170000
DTEND;TZID=Pacific/Honolulu:20231227T190000
DTSTAMP:20260425T024459
CREATED:20230815T011814Z
LAST-MODIFIED:20230815T011938Z
UID:10004851-1703696400-1703703600@hmono.org
SUMMARY:Wellness Wednesdays (online)
DESCRIPTION:A 6-week course on diabetes\, hypertension\, chronic kidney disease\, nutrition\, fitness\, and stress management.
URL:https://hmono.org/calendar/wellness-wednesdays-online-3/2023-12-27/
CATEGORIES:Health Education,Wellness Wednesdays
END:VEVENT
BEGIN:VEVENT
DTSTART;TZID=Pacific/Honolulu:20240103T170000
DTEND;TZID=Pacific/Honolulu:20240103T190000
DTSTAMP:20260425T024459
CREATED:20230815T011814Z
LAST-MODIFIED:20230815T011938Z
UID:10004500-1704301200-1704308400@hmono.org
SUMMARY:Wellness Wednesdays (online)
DESCRIPTION:A 6-week course on diabetes\, hypertension\, chronic kidney disease\, nutrition\, fitness\, and stress management.
URL:https://hmono.org/calendar/wellness-wednesdays-online-3/2024-01-03/
CATEGORIES:Health Education,Wellness Wednesdays
END:VEVENT
END:VCALENDAR