BEGIN:VCALENDAR
VERSION:2.0
PRODID:-//Hui Mālama Ola Nā ʻŌiwi - ECPv6.15.20//NONSGML v1.0//EN
CALSCALE:GREGORIAN
METHOD:PUBLISH
X-WR-CALNAME:Hui Mālama Ola Nā ʻŌiwi
X-ORIGINAL-URL:https://hmono.org
X-WR-CALDESC:Events for Hui Mālama Ola Nā ʻŌiwi
REFRESH-INTERVAL;VALUE=DURATION:PT1H
X-Robots-Tag:noindex
X-PUBLISHED-TTL:PT1H
BEGIN:VTIMEZONE
TZID:Pacific/Honolulu
BEGIN:STANDARD
TZOFFSETFROM:-1000
TZOFFSETTO:-1000
TZNAME:HST
DTSTART:20220101T000000
END:STANDARD
END:VTIMEZONE
BEGIN:VEVENT
DTSTART;TZID=Pacific/Honolulu:20230905T170000
DTEND;TZID=Pacific/Honolulu:20230905T183000
DTSTAMP:20260421T201536
CREATED:20230815T013350Z
LAST-MODIFIED:20230815T013350Z
UID:10004601-1693933200-1693938600@hmono.org
SUMMARY:Diabetes Support Group (online)
DESCRIPTION:Get your questions answered and learn about diabetes management including nutrition\, exercise\, and medication.
URL:https://hmono.org/calendar/diabetes-support-group-online-10/
CATEGORIES:Diabetes,Support Group
END:VEVENT
BEGIN:VEVENT
DTSTART;TZID=Pacific/Honolulu:20230912T170000
DTEND;TZID=Pacific/Honolulu:20230912T183000
DTSTAMP:20260421T201536
CREATED:20230815T012525Z
LAST-MODIFIED:20230815T012525Z
UID:10004598-1694538000-1694543400@hmono.org
SUMMARY:Cancer Support Group (online)
DESCRIPTION:The journey through cancer is difficult\, but you don’t have to do it alone. Join our cancer support group for a safe space to connect.
URL:https://hmono.org/calendar/cancer-support-group-online-11/
CATEGORIES:Cancer,Support Group
END:VEVENT
BEGIN:VEVENT
DTSTART;TZID=Pacific/Honolulu:20230926T170000
DTEND;TZID=Pacific/Honolulu:20230926T183000
DTSTAMP:20260421T201536
CREATED:20230815T012555Z
LAST-MODIFIED:20230815T012555Z
UID:10004599-1695747600-1695753000@hmono.org
SUMMARY:Cancer Support Group (In-Person)
DESCRIPTION:The journey through cancer is difficult\, but you don’t have to do it alone. Join our cancer support group for a safe space to connect.
URL:https://hmono.org/calendar/cancer-support-group-in-person-5/
CATEGORIES:Cancer,Support Group
END:VEVENT
END:VCALENDAR