BEGIN:VCALENDAR
VERSION:2.0
PRODID:-//Hui Mālama Ola Nā ʻŌiwi - ECPv6.15.20//NONSGML v1.0//EN
CALSCALE:GREGORIAN
METHOD:PUBLISH
X-ORIGINAL-URL:https://hmono.org
X-WR-CALDESC:Events for Hui Mālama Ola Nā ʻŌiwi
REFRESH-INTERVAL;VALUE=DURATION:PT1H
X-Robots-Tag:noindex
X-PUBLISHED-TTL:PT1H
BEGIN:VTIMEZONE
TZID:Pacific/Honolulu
BEGIN:STANDARD
TZOFFSETFROM:-1000
TZOFFSETTO:-1000
TZNAME:HST
DTSTART:20220101T000000
END:STANDARD
END:VTIMEZONE
BEGIN:VEVENT
DTSTART;TZID=Pacific/Honolulu:20231003T170000
DTEND;TZID=Pacific/Honolulu:20231003T183000
DTSTAMP:20260421T124739
CREATED:20230815T013547Z
LAST-MODIFIED:20230815T013547Z
UID:10004603-1696352400-1696357800@hmono.org
SUMMARY:Diabetes Support Group (online)
DESCRIPTION:Get your questions answered and learn about diabetes management including nutrition\, exercise\, and medication.
URL:https://hmono.org/calendar/diabetes-support-group-online-11/
CATEGORIES:Diabetes,Support Group
END:VEVENT
BEGIN:VEVENT
DTSTART;TZID=Pacific/Honolulu:20231010T170000
DTEND;TZID=Pacific/Honolulu:20231010T183000
DTSTAMP:20260421T124739
CREATED:20230815T013905Z
LAST-MODIFIED:20230815T014003Z
UID:10004664-1696957200-1696962600@hmono.org
SUMMARY:Cancer Support Group (online)
DESCRIPTION:The journey through cancer is difficult\, but you don’t have to do it alone. Join this group for a safe space to connect.
URL:https://hmono.org/calendar/cancer-support-group-online-12/
CATEGORIES:Cancer,Support Group
END:VEVENT
BEGIN:VEVENT
DTSTART;TZID=Pacific/Honolulu:20231024T170000
DTEND;TZID=Pacific/Honolulu:20231024T183000
DTSTAMP:20260421T124739
CREATED:20230815T013944Z
LAST-MODIFIED:20230815T013944Z
UID:10004665-1698166800-1698172200@hmono.org
SUMMARY:Cancer Support Group (In-Person)
DESCRIPTION:The journey through cancer is difficult\, but you don’t have to do it alone. Join this group for a safe space to connect.
URL:https://hmono.org/calendar/cancer-support-group-in-person-6/
CATEGORIES:Cancer,Support Group
END:VEVENT
END:VCALENDAR