BEGIN:VCALENDAR
VERSION:2.0
PRODID:-//Hui Mālama Ola Nā ʻŌiwi - ECPv6.15.20//NONSGML v1.0//EN
CALSCALE:GREGORIAN
METHOD:PUBLISH
X-WR-CALNAME:Hui Mālama Ola Nā ʻŌiwi
X-ORIGINAL-URL:https://hmono.org
X-WR-CALDESC:Events for Hui Mālama Ola Nā ʻŌiwi
REFRESH-INTERVAL;VALUE=DURATION:PT1H
X-Robots-Tag:noindex
X-PUBLISHED-TTL:PT1H
BEGIN:VTIMEZONE
TZID:Pacific/Honolulu
BEGIN:STANDARD
TZOFFSETFROM:-1000
TZOFFSETTO:-1000
TZNAME:HST
DTSTART:20210101T000000
END:STANDARD
END:VTIMEZONE
BEGIN:VEVENT
DTSTART;TZID=Pacific/Honolulu:20220312T090000
DTEND;TZID=Pacific/Honolulu:20220312T150000
DTSTAMP:20260422T090341
CREATED:20220119T013553Z
LAST-MODIFIED:20220119T014456Z
UID:10002964-1647075600-1647097200@hmono.org
SUMMARY:La'au Lapa'au Workshop (Location TBD)
DESCRIPTION:Learn more about the traditional Hawaiian healing art of Laʻau Lapaʻau in this online workshop facilitated by Poʻokela Ikaika Dombrigues. Sign up at hmono.org/services.
URL:https://hmono.org/calendar/laau-lapaau-workshop-online-2/
CATEGORIES:Traditional Health,Workshop
END:VEVENT
BEGIN:VEVENT
DTSTART;TZID=Pacific/Honolulu:20220319T090000
DTEND;TZID=Pacific/Honolulu:20220319T140000
DTSTAMP:20260422T090341
CREATED:20220119T014026Z
LAST-MODIFIED:20220119T014026Z
UID:10002971-1647680400-1647698400@hmono.org
SUMMARY:Community Garden Workshop (Location TBD)
DESCRIPTION:Learn about traditional Hawaiian healing plants known as Laʻau Lapaʻau while helping us install a community garden at this FREE workshop. Other components that will be part of the workshop are propagation\, cultivation\, harvesting\, and proper protocol. \nTo maximize your experience please bring your gardening gloves and be prepared to do a lot of lifting and bending. Location is in-person and TBD. \nFor more information or to sign-up\, please call us at (808) 969-9220 or visit hmono.org/services.
URL:https://hmono.org/calendar/community-garden-workshop-location-tbd-2/
CATEGORIES:Traditional Health,Workshop
END:VEVENT
BEGIN:VEVENT
DTSTART;TZID=Pacific/Honolulu:20220321T163000
DTEND;TZID=Pacific/Honolulu:20220321T193000
DTSTAMP:20260422T090341
CREATED:20220119T013806Z
LAST-MODIFIED:20220119T013806Z
UID:10002965-1647880200-1647891000@hmono.org
SUMMARY:Laʻau Lapaʻau Level 1 (Online)
DESCRIPTION:Learn the basics about the spiritual healing wisdom and knowledge of La’au Lapa’au in the level 1 class led by Po’okela Ikaika Dombrigues. To sign up for this free online class\, sign up at hmono.org/services.
URL:https://hmono.org/calendar/la%ca%bbau-lapa%ca%bbau-level-1-online-2/2022-03-21/
CATEGORIES:Traditional Health
END:VEVENT
BEGIN:VEVENT
DTSTART;TZID=Pacific/Honolulu:20220328T163000
DTEND;TZID=Pacific/Honolulu:20220328T193000
DTSTAMP:20260422T090341
CREATED:20220119T013806Z
LAST-MODIFIED:20220119T013806Z
UID:10002966-1648485000-1648495800@hmono.org
SUMMARY:Laʻau Lapaʻau Level 1 (Online)
DESCRIPTION:Learn the basics about the spiritual healing wisdom and knowledge of La’au Lapa’au in the level 1 class led by Po’okela Ikaika Dombrigues. To sign up for this free online class\, sign up at hmono.org/services.
URL:https://hmono.org/calendar/la%ca%bbau-lapa%ca%bbau-level-1-online-2/2022-03-28/
CATEGORIES:Traditional Health
END:VEVENT
BEGIN:VEVENT
DTSTART;TZID=Pacific/Honolulu:20220330T110000
DTEND;TZID=Pacific/Honolulu:20220330T120000
DTSTAMP:20260422T090341
CREATED:20211026T200247Z
LAST-MODIFIED:20220119T003401Z
UID:10001229-1648638000-1648641600@hmono.org
SUMMARY:Breastfeeding Support Group (Online)
DESCRIPTION:Mama to Mama Breastfeeding Support Group aims to provide an encouraging\, comfortable space for pregnant and breastfeeding women to share information\, advice\, and support. For more information or to sign up\, visit hmono.org/services. \nThis Support Group is presented and facilitated by: \nLeila Ryusaki – Healthy Hāpai Coordinator at Hui Mālama. Leila is also a Certified Lactation Counselor\, Childbirth Educator\, Licensed Massage Therapist\, and Indigenous Breastfeeding Counselor.
URL:https://hmono.org/calendar/breastfeeding-support-group-online-2/2022-03-30/
CATEGORIES:Health Education,Prenatal Education,Traditional Health
END:VEVENT
END:VCALENDAR