BEGIN:VCALENDAR
VERSION:2.0
PRODID:-//Hui Mālama Ola Nā ʻŌiwi - ECPv6.15.20//NONSGML v1.0//EN
CALSCALE:GREGORIAN
METHOD:PUBLISH
X-ORIGINAL-URL:https://hmono.org
X-WR-CALDESC:Events for Hui Mālama Ola Nā ʻŌiwi
REFRESH-INTERVAL;VALUE=DURATION:PT1H
X-Robots-Tag:noindex
X-PUBLISHED-TTL:PT1H
BEGIN:VTIMEZONE
TZID:Pacific/Honolulu
BEGIN:STANDARD
TZOFFSETFROM:-1000
TZOFFSETTO:-1000
TZNAME:HST
DTSTART:20200101T000000
END:STANDARD
END:VTIMEZONE
BEGIN:VEVENT
DTSTART;TZID=Pacific/Honolulu:20210726T163000
DTEND;TZID=Pacific/Honolulu:20210726T193000
DTSTAMP:20260419T145328
CREATED:20210629T193800Z
LAST-MODIFIED:20210629T194407Z
UID:10002894-1627317000-1627327800@hmono.org
SUMMARY:Laʻau Lapaʻau Level 1 Class (online)
DESCRIPTION:Learn the basics about the spiritual healing wisdom and knowledge of La’au Lapa’au in the level 1 class led by Po’okela Ikaika Dombrigues. To sign up for this free online class\, sign up at hmono.org/services.
URL:https://hmono.org/calendar/la%ca%bbau-lapa%ca%bbau-level-1-class-online-4/2021-07-26/
LOCATION:Virtual
CATEGORIES:Traditional Health
END:VEVENT
BEGIN:VEVENT
DTSTART;TZID=Pacific/Honolulu:20210728T110000
DTEND;TZID=Pacific/Honolulu:20210728T120000
DTSTAMP:20260419T145328
CREATED:20210527T214508Z
LAST-MODIFIED:20210804T011539Z
UID:10002866-1627470000-1627473600@hmono.org
SUMMARY:Mama to Mama Breastfeeding Happy Hour (Online)
DESCRIPTION:Let’s be Breast Friends! Connect online with other Mama and Mama-to-be. We’ll discuss all sorts of Breastfeeding and Parenting topics\, so get your questions answered\, share your experiences\, and create community! \nHosted and led by Leila Ryusaki Certified Lactation Counselor\, Indigenous Breastfeeding Counselor\, Childbirth Educator & Licensed Massage Therapist. \nThis drop-in support group is FREE and open to pregnant and breastfeeding moms with babies from birth to 1 year old. To sign up\, visit hmono.org/services. \n 
URL:https://hmono.org/calendar/breastfeeding-support-group-online/2021-07-28/
LOCATION:Virtual
CATEGORIES:Prenatal Education,Traditional Health
END:VEVENT
BEGIN:VEVENT
DTSTART;TZID=Pacific/Honolulu:20210730T170000
DTEND;TZID=Pacific/Honolulu:20210730T193000
DTSTAMP:20260419T145328
CREATED:20210629T194308Z
LAST-MODIFIED:20210629T194308Z
UID:10001862-1627664400-1627673400@hmono.org
SUMMARY:Lomilomi Class (online)
DESCRIPTION:Interested in learning about the healing art of Lomilomi massage? Learn the spiritual practice of lomilomi\, pule\, and protocol with instructor and Licensed Massage Therapist Lehua Hobbs. Sign up for this free online class  at hmono.org/services. \nThis is a 4-class series: Fridays\, July 23 and 30 at 5pm AND Saturdays\, July 24 and 31 at 9am
URL:https://hmono.org/calendar/lomilomi-class-online-6/2021-07-30/
LOCATION:Virtual
CATEGORIES:Traditional Health
END:VEVENT
BEGIN:VEVENT
DTSTART;TZID=Pacific/Honolulu:20210731T090000
DTEND;TZID=Pacific/Honolulu:20210731T113000
DTSTAMP:20260419T145328
CREATED:20230601T193913Z
LAST-MODIFIED:20230601T193913Z
UID:10001887-1627722000-1627731000@hmono.org
SUMMARY:Lomilomi Class (online)
DESCRIPTION:Interested in learning about the healing art of Lomilomi massage? Learn the spiritual practice of lomilomi\, pule\, and protocol with instructor and Licensed Massage Therapist Lehua Hobbs. Sign up for this free online class  at hmono.org/services. \nThis is a 4-class series: Fridays\, July 23 and 30 at 5pm AND Saturdays\, July 24 and 31 at 9am
URL:https://hmono.org/calendar/lomilomi-class-online-6/2021-07-31/
LOCATION:Virtual
CATEGORIES:Traditional Health
END:VEVENT
END:VCALENDAR