BEGIN:VCALENDAR
VERSION:2.0
PRODID:-//Hui Mālama Ola Nā ʻŌiwi - ECPv6.15.20//NONSGML v1.0//EN
CALSCALE:GREGORIAN
METHOD:PUBLISH
X-WR-CALNAME:Hui Mālama Ola Nā ʻŌiwi
X-ORIGINAL-URL:https://hmono.org
X-WR-CALDESC:Events for Hui Mālama Ola Nā ʻŌiwi
REFRESH-INTERVAL;VALUE=DURATION:PT1H
X-Robots-Tag:noindex
X-PUBLISHED-TTL:PT1H
BEGIN:VTIMEZONE
TZID:Pacific/Honolulu
BEGIN:STANDARD
TZOFFSETFROM:-1000
TZOFFSETTO:-1000
TZNAME:HST
DTSTART:20200101T000000
END:STANDARD
END:VTIMEZONE
BEGIN:VEVENT
DTSTART;TZID=Pacific/Honolulu:20210825T110000
DTEND;TZID=Pacific/Honolulu:20210825T120000
DTSTAMP:20260420T190022
CREATED:20210527T214508Z
LAST-MODIFIED:20210804T011539Z
UID:10002870-1629889200-1629892800@hmono.org
SUMMARY:Mama to Mama Breastfeeding Happy Hour (Online)
DESCRIPTION:Let’s be Breast Friends! Connect online with other Mama and Mama-to-be. We’ll discuss all sorts of Breastfeeding and Parenting topics\, so get your questions answered\, share your experiences\, and create community! \nHosted and led by Leila Ryusaki Certified Lactation Counselor\, Indigenous Breastfeeding Counselor\, Childbirth Educator & Licensed Massage Therapist. \nThis drop-in support group is FREE and open to pregnant and breastfeeding moms with babies from birth to 1 year old. To sign up\, visit hmono.org/services. \n 
URL:https://hmono.org/calendar/breastfeeding-support-group-online/2021-08-25/
LOCATION:Virtual
CATEGORIES:Prenatal Education,Traditional Health
END:VEVENT
BEGIN:VEVENT
DTSTART;TZID=Pacific/Honolulu:20210825T173000
DTEND;TZID=Pacific/Honolulu:20210825T193000
DTSTAMP:20260420T190022
CREATED:20210804T000841Z
LAST-MODIFIED:20210804T000841Z
UID:10002584-1629912600-1629919800@hmono.org
SUMMARY:Healthy Hapai (online)
DESCRIPTION:If you’re a parent-to-be\, join this free\, online five-week class series on prenatal health\, postpartum health\, positive parenting and more. This class is presented by Leila Ryusaki\, Certified Lactation Counselor & Childbirth Educator (CLCCE)\, Indigenous Breastfeeding Counselor (IBC)\, and Licensed Massage Therapist (LMT). \nSign up for this class at hmono.org/services. Enrollment for this series ends on August 11\, 2021.
URL:https://hmono.org/calendar/healthy-hapai-online-4/2021-08-25/
LOCATION:Virtual
CATEGORIES:Prenatal Education,Traditional Health
END:VEVENT
BEGIN:VEVENT
DTSTART;TZID=Pacific/Honolulu:20210826T170000
DTEND;TZID=Pacific/Honolulu:20210826T190000
DTSTAMP:20260420T190022
CREATED:20210804T001450Z
LAST-MODIFIED:20210804T001450Z
UID:10001173-1629997200-1630004400@hmono.org
SUMMARY:Mala 101: Beginners Gardening Class (online)
DESCRIPTION:Learn to garden at home! Whether you have a large backyard\, or a few pots to grow in\, anyone can learn to grow some of their own laʻau at home. In this introductory online series\, learn the basics of selecting plants to grow\, building healthy soil\, and growing on a budget. Participants will receive a raised garden bed\, several plants\, a Grow Your Own Laʻau Guidebook\, plus other gardening supplies. \nThis is a 3-session ONLINE series: Thursdays\,  August 12\, 19\, and 26. \nPlease plan to attend all 3 classes in the series.
URL:https://hmono.org/calendar/mala-101-beginners-gardening-class-online-2/2021-08-26/
LOCATION:Virtual
CATEGORIES:Traditional Health
END:VEVENT
BEGIN:VEVENT
DTSTART;TZID=Pacific/Honolulu:20210828T090000
DTEND;TZID=Pacific/Honolulu:20210828T130000
DTSTAMP:20260420T190022
CREATED:20210805T020011Z
LAST-MODIFIED:20210805T021128Z
UID:10002895-1630141200-1630155600@hmono.org
SUMMARY:Community Garden (Location TBD)
DESCRIPTION:Learn about Hawaiian medicinal plants known as Laʻau Lapaʻau while helping us install a community garden at this FREE workshop. Other components that will be part of the workshop are propagation\, cultivation\, harvesting\, and proper protocol. \nTo maximize your experience please bring your gardening gloves and be prepared to do a lot of lifting and bending. Location is in-person and TBD. \nFor more information or to sign-up\, please call us at (808) 969-9220 or visit hmono.org/services.
URL:https://hmono.org/calendar/community-garden/
LOCATION:To be determined\, HI\, United States
CATEGORIES:Traditional Health,Workshop
END:VEVENT
END:VCALENDAR