BEGIN:VCALENDAR
VERSION:2.0
PRODID:-//Hui Mālama Ola Nā ʻŌiwi - ECPv6.15.20//NONSGML v1.0//EN
CALSCALE:GREGORIAN
METHOD:PUBLISH
X-ORIGINAL-URL:https://hmono.org
X-WR-CALDESC:Events for Hui Mālama Ola Nā ʻŌiwi
REFRESH-INTERVAL;VALUE=DURATION:PT1H
X-Robots-Tag:noindex
X-PUBLISHED-TTL:PT1H
BEGIN:VTIMEZONE
TZID:Pacific/Honolulu
BEGIN:STANDARD
TZOFFSETFROM:-1000
TZOFFSETTO:-1000
TZNAME:HST
DTSTART:20200101T000000
END:STANDARD
END:VTIMEZONE
BEGIN:VEVENT
DTSTART;TZID=Pacific/Honolulu:20210920T163000
DTEND;TZID=Pacific/Honolulu:20210920T193000
DTSTAMP:20260423T133514
CREATED:20210805T020843Z
LAST-MODIFIED:20210805T020843Z
UID:10002903-1632155400-1632166200@hmono.org
SUMMARY:Laʻau Lapaʻau Level 1 Class (online)
DESCRIPTION:Learn the basics about the spiritual healing wisdom and knowledge of La’au Lapa’au in the level 1 class led by Po’okela Ikaika Dombrigues. To sign up for this free online class\, sign up at hmono.org/services.
URL:https://hmono.org/calendar/la%ca%bbau-lapa%ca%bbau-level-1-class-online-5/2021-09-20/
LOCATION:Virtual
CATEGORIES:Traditional Health
END:VEVENT
BEGIN:VEVENT
DTSTART;TZID=Pacific/Honolulu:20210922T110000
DTEND;TZID=Pacific/Honolulu:20210922T120000
DTSTAMP:20260423T133514
CREATED:20210527T214508Z
LAST-MODIFIED:20210804T011539Z
UID:10002874-1632308400-1632312000@hmono.org
SUMMARY:Mama to Mama Breastfeeding Happy Hour (Online)
DESCRIPTION:Let’s be Breast Friends! Connect online with other Mama and Mama-to-be. We’ll discuss all sorts of Breastfeeding and Parenting topics\, so get your questions answered\, share your experiences\, and create community! \nHosted and led by Leila Ryusaki Certified Lactation Counselor\, Indigenous Breastfeeding Counselor\, Childbirth Educator & Licensed Massage Therapist. \nThis drop-in support group is FREE and open to pregnant and breastfeeding moms with babies from birth to 1 year old. To sign up\, visit hmono.org/services. \n 
URL:https://hmono.org/calendar/breastfeeding-support-group-online/2021-09-22/
LOCATION:Virtual
CATEGORIES:Prenatal Education,Traditional Health
END:VEVENT
BEGIN:VEVENT
DTSTART;TZID=Pacific/Honolulu:20210923T170000
DTEND;TZID=Pacific/Honolulu:20210923T190000
DTSTAMP:20260423T133514
CREATED:20210804T001654Z
LAST-MODIFIED:20210804T001654Z
UID:10001176-1632416400-1632423600@hmono.org
SUMMARY:Mala 101: Beginners Gardening Class (online)
DESCRIPTION:Learn to garden at home! Whether you have a large backyard\, or a few pots to grow in\, anyone can learn to grow some of their own laʻau at home. In this introductory online series\, learn the basics of selecting plants to grow\, building healthy soil\, and growing on a budget. Participants will receive a raised garden bed\, several plants\, a Grow Your Own Laʻau Guidebook\, plus other gardening supplies. \nThis is a 3-session ONLINE series: Thursdays\,  September 9\, 16\, and 23. \nPlease plan to attend all 3 classes in the series.
URL:https://hmono.org/calendar/mala-101-beginners-gardening-class-online-3/2021-09-23/
LOCATION:Virtual
CATEGORIES:Traditional Health
END:VEVENT
BEGIN:VEVENT
DTSTART;TZID=Pacific/Honolulu:20210925T100000
DTEND;TZID=Pacific/Honolulu:20210925T120000
DTSTAMP:20260423T133514
CREATED:20210805T020332Z
LAST-MODIFIED:20210805T020332Z
UID:10002897-1632564000-1632571200@hmono.org
SUMMARY:Community Garden (Location TBD)
DESCRIPTION:Learn about Hawaiian medicinal plants known as Laʻau Lapaʻau while helping us install a community garden at this FREE workshop. Other components that will be part of the workshop are propagation\, cultivation\, harvesting\, and proper protocol. \nTo maximize your experience please bring your gardening gloves and be prepared to do a lot of lifting and bending. Location is in-person and TBD. \nFor more information or to sign-up\, please call us at (808) 969-9220 or visit hmono.org/services.
URL:https://hmono.org/calendar/community-garden-location-tbd/
LOCATION:To be determined\, HI\, United States
CATEGORIES:Traditional Health,Workshop
END:VEVENT
END:VCALENDAR