BEGIN:VCALENDAR
VERSION:2.0
PRODID:-//Hui Mālama Ola Nā ʻŌiwi - ECPv6.15.20//NONSGML v1.0//EN
CALSCALE:GREGORIAN
METHOD:PUBLISH
X-ORIGINAL-URL:https://hmono.org
X-WR-CALDESC:Events for Hui Mālama Ola Nā ʻŌiwi
REFRESH-INTERVAL;VALUE=DURATION:PT1H
X-Robots-Tag:noindex
X-PUBLISHED-TTL:PT1H
BEGIN:VTIMEZONE
TZID:Pacific/Honolulu
BEGIN:STANDARD
TZOFFSETFROM:-1000
TZOFFSETTO:-1000
TZNAME:HST
DTSTART:20200101T000000
END:STANDARD
END:VTIMEZONE
BEGIN:VEVENT
DTSTART;TZID=Pacific/Honolulu:20211103T173000
DTEND;TZID=Pacific/Honolulu:20211103T193000
DTSTAMP:20260423T133302
CREATED:20211026T195915Z
LAST-MODIFIED:20211026T195915Z
UID:10001219-1635960600-1635967800@hmono.org
SUMMARY:Healthy Hapai (Online)
DESCRIPTION:If you’re a parent-to-be\, join this free\, online five-week class series on prenatal health\, postpartum health\, positive parenting and more. This class is presented by Leila Ryusaki\, Certified Lactation Counselor & Childbirth Educator (CLCCE)\, Indigenous Breastfeeding Counselor (IBC)\, and Licensed Massage Therapist (LMT). \nSign up for this class at hmono.org/services.
URL:https://hmono.org/calendar/healthy-hapai-online-6/2021-11-03/
CATEGORIES:Health Education,Prenatal Education,Traditional Health
END:VEVENT
BEGIN:VEVENT
DTSTART;TZID=Pacific/Honolulu:20211106T090000
DTEND;TZID=Pacific/Honolulu:20211106T140000
DTSTAMP:20260423T133302
CREATED:20211026T200812Z
LAST-MODIFIED:20211026T200812Z
UID:10001232-1636189200-1636207200@hmono.org
SUMMARY:Laʻau Lapaʻau Workshop (Online)
DESCRIPTION:Learn more about the traditional Hawaiian healing art of Laʻau Lapaʻau in this online workshop facilitated by Poʻokela Ikaika Dombrigues. Sign up at hmono.org/services.
URL:https://hmono.org/calendar/la%ca%bbau-lapa%ca%bbau-workshop-online-6/
CATEGORIES:Traditional Health,Workshop
END:VEVENT
END:VCALENDAR