BEGIN:VCALENDAR
VERSION:2.0
PRODID:-//Hui Mālama Ola Nā ʻŌiwi - ECPv6.15.20//NONSGML v1.0//EN
CALSCALE:GREGORIAN
METHOD:PUBLISH
X-ORIGINAL-URL:https://hmono.org
X-WR-CALDESC:Events for Hui Mālama Ola Nā ʻŌiwi
REFRESH-INTERVAL;VALUE=DURATION:PT1H
X-Robots-Tag:noindex
X-PUBLISHED-TTL:PT1H
BEGIN:VTIMEZONE
TZID:Pacific/Honolulu
BEGIN:STANDARD
TZOFFSETFROM:-1000
TZOFFSETTO:-1000
TZNAME:HST
DTSTART:20200101T000000
END:STANDARD
END:VTIMEZONE
BEGIN:VEVENT
DTSTART;TZID=Pacific/Honolulu:20211122T163000
DTEND;TZID=Pacific/Honolulu:20211122T193000
DTSTAMP:20260423T124951
CREATED:20211026T201030Z
LAST-MODIFIED:20211026T201030Z
UID:10001235-1637598600-1637609400@hmono.org
SUMMARY:Laʻau Lapaʻau Level 1 (Online)
DESCRIPTION:Learn the basics about the spiritual healing wisdom and knowledge of La’au Lapa’au in the level 1 class led by Po’okela Ikaika Dombrigues. To sign up for this free online class\, sign up at hmono.org/services.
URL:https://hmono.org/calendar/la%ca%bbau-lapa%ca%bbau-level-1-online/2021-11-22/
CATEGORIES:Traditional Health
END:VEVENT
BEGIN:VEVENT
DTSTART;TZID=Pacific/Honolulu:20211124T110000
DTEND;TZID=Pacific/Honolulu:20211124T120000
DTSTAMP:20260423T124951
CREATED:20211026T200247Z
LAST-MODIFIED:20220119T003401Z
UID:10001225-1637751600-1637755200@hmono.org
SUMMARY:Breastfeeding Support Group (Online)
DESCRIPTION:Mama to Mama Breastfeeding Support Group aims to provide an encouraging\, comfortable space for pregnant and breastfeeding women to share information\, advice\, and support. For more information or to sign up\, visit hmono.org/services. \nThis Support Group is presented and facilitated by: \nLeila Ryusaki – Healthy Hāpai Coordinator at Hui Mālama. Leila is also a Certified Lactation Counselor\, Childbirth Educator\, Licensed Massage Therapist\, and Indigenous Breastfeeding Counselor.
URL:https://hmono.org/calendar/breastfeeding-support-group-online-2/2021-11-24/
CATEGORIES:Health Education,Prenatal Education,Traditional Health
END:VEVENT
BEGIN:VEVENT
DTSTART;TZID=Pacific/Honolulu:20211124T173000
DTEND;TZID=Pacific/Honolulu:20211124T193000
DTSTAMP:20260423T124951
CREATED:20211026T195915Z
LAST-MODIFIED:20211026T195915Z
UID:10001222-1637775000-1637782200@hmono.org
SUMMARY:Healthy Hapai (Online)
DESCRIPTION:If you’re a parent-to-be\, join this free\, online five-week class series on prenatal health\, postpartum health\, positive parenting and more. This class is presented by Leila Ryusaki\, Certified Lactation Counselor & Childbirth Educator (CLCCE)\, Indigenous Breastfeeding Counselor (IBC)\, and Licensed Massage Therapist (LMT). \nSign up for this class at hmono.org/services.
URL:https://hmono.org/calendar/healthy-hapai-online-6/2021-11-24/
CATEGORIES:Health Education,Prenatal Education,Traditional Health
END:VEVENT
END:VCALENDAR