BEGIN:VCALENDAR
VERSION:2.0
PRODID:-//Hui Mālama Ola Nā ʻŌiwi - ECPv6.15.20//NONSGML v1.0//EN
CALSCALE:GREGORIAN
METHOD:PUBLISH
X-ORIGINAL-URL:https://hmono.org
X-WR-CALDESC:Events for Hui Mālama Ola Nā ʻŌiwi
REFRESH-INTERVAL;VALUE=DURATION:PT1H
X-Robots-Tag:noindex
X-PUBLISHED-TTL:PT1H
BEGIN:VTIMEZONE
TZID:Pacific/Honolulu
BEGIN:STANDARD
TZOFFSETFROM:-1000
TZOFFSETTO:-1000
TZNAME:HST
DTSTART:20210101T000000
END:STANDARD
END:VTIMEZONE
BEGIN:VEVENT
DTSTART;TZID=Pacific/Honolulu:20220119T173000
DTEND;TZID=Pacific/Honolulu:20220119T193000
DTSTAMP:20260423T143100
CREATED:20211026T201444Z
LAST-MODIFIED:20211026T201444Z
UID:10001240-1642613400-1642620600@hmono.org
SUMMARY:Healthy Hapai (Online)
DESCRIPTION:If you’re a parent-to-be\, join this free\, online five-week class series on prenatal health\, postpartum health\, positive parenting and more. This class is presented by Leila Ryusaki\, Certified Lactation Counselor & Childbirth Educator (CLCCE)\, Indigenous Breastfeeding Counselor (IBC)\, and Licensed Massage Therapist (LMT). \nSign up for this class at hmono.org/services. Enrollment closes on January 12\, 2022.
URL:https://hmono.org/calendar/healthy-hapai-online-5/2022-01-19/
CATEGORIES:Health Education,Prenatal Education,Traditional Health
END:VEVENT
BEGIN:VEVENT
DTSTART;TZID=Pacific/Honolulu:20220120T170000
DTEND;TZID=Pacific/Honolulu:20220120T190000
DTSTAMP:20260423T143100
CREATED:20211102T185728Z
LAST-MODIFIED:20211102T185728Z
UID:10002935-1642698000-1642705200@hmono.org
SUMMARY:Mala 101: Beginners Gardening Class (online)
DESCRIPTION:Learn to garden at home! Whether you have a large backyard\, or a few pots to grow in\, anyone can learn to grow some of their own laʻau at home. In this introductory online series\, learn the basics of selecting plants to grow\, building healthy soil\, and growing on a budget. Participants will receive a raised garden bed\, several plants\, a Grow Your Own Laʻau Guidebook\, plus other gardening supplies. \nPlease plan to attend all 3 classes in the series. Sign up at hmono.org/services!
URL:https://hmono.org/calendar/mala-101-beginners-gardening-class-online-4/2022-01-20/
CATEGORIES:Traditional Health
END:VEVENT
BEGIN:VEVENT
DTSTART;TZID=Pacific/Honolulu:20220122T090000
DTEND;TZID=Pacific/Honolulu:20220122T140000
DTSTAMP:20260423T143100
CREATED:20211102T190051Z
LAST-MODIFIED:20211102T190051Z
UID:10002940-1642842000-1642860000@hmono.org
SUMMARY:Community Garden Workshop (Location TBD)
DESCRIPTION:Learn about traditional Hawaiian healing plants known as Laʻau Lapaʻau while helping us install a community garden at this FREE workshop. Other components that will be part of the workshop are propagation\, cultivation\, harvesting\, and proper protocol. \nTo maximize your experience please bring your gardening gloves and be prepared to do a lot of lifting and bending. Location is in-person and TBD. \nFor more information or to sign-up\, please call us at (808) 969-9220 or visit hmono.org/services.
URL:https://hmono.org/calendar/community-garden-workshop-location-tbd/
CATEGORIES:Traditional Health,Workshop
END:VEVENT
END:VCALENDAR