BEGIN:VCALENDAR
VERSION:2.0
PRODID:-//Hui Mālama Ola Nā ʻŌiwi - ECPv6.15.20//NONSGML v1.0//EN
CALSCALE:GREGORIAN
METHOD:PUBLISH
X-ORIGINAL-URL:https://hmono.org
X-WR-CALDESC:Events for Hui Mālama Ola Nā ʻŌiwi
REFRESH-INTERVAL;VALUE=DURATION:PT1H
X-Robots-Tag:noindex
X-PUBLISHED-TTL:PT1H
BEGIN:VTIMEZONE
TZID:Pacific/Honolulu
BEGIN:STANDARD
TZOFFSETFROM:-1000
TZOFFSETTO:-1000
TZNAME:HST
DTSTART:20210101T000000
END:STANDARD
END:VTIMEZONE
BEGIN:VEVENT
DTSTART;TZID=Pacific/Honolulu:20220210T170000
DTEND;TZID=Pacific/Honolulu:20220210T190000
DTSTAMP:20260423T124847
CREATED:20220119T011327Z
LAST-MODIFIED:20220119T011541Z
UID:10002952-1644512400-1644519600@hmono.org
SUMMARY:Mala 101: Beginners Gardening Class (online)
DESCRIPTION:Learn to garden at home! Whether you have a large backyard\, or a few pots to grow in\, anyone can learn to grow some of their own laʻau at home. In this introductory online series\, learn the basics of selecting plants to grow\, building healthy soil\, and growing on a budget. Participants will receive a raised garden bed\, several plants\, a Grow Your Own Laʻau Guidebook\, plus other gardening supplies. \nPlease plan to attend all 3 classes in the series. Sign up at hmono.org/services!
URL:https://hmono.org/calendar/mala-101-beginners-gardening-class-online-5/2022-02-10/
CATEGORIES:Traditional Health
END:VEVENT
END:VCALENDAR