BEGIN:VCALENDAR
VERSION:2.0
PRODID:-//Hui Mālama Ola Nā ʻŌiwi - ECPv6.15.20//NONSGML v1.0//EN
CALSCALE:GREGORIAN
METHOD:PUBLISH
X-WR-CALNAME:Hui Mālama Ola Nā ʻŌiwi
X-ORIGINAL-URL:https://hmono.org
X-WR-CALDESC:Events for Hui Mālama Ola Nā ʻŌiwi
REFRESH-INTERVAL;VALUE=DURATION:PT1H
X-Robots-Tag:noindex
X-PUBLISHED-TTL:PT1H
BEGIN:VTIMEZONE
TZID:Pacific/Honolulu
BEGIN:STANDARD
TZOFFSETFROM:-1000
TZOFFSETTO:-1000
TZNAME:HST
DTSTART:20230101T000000
END:STANDARD
END:VTIMEZONE
BEGIN:VEVENT
DTSTART;TZID=Pacific/Honolulu:20240806T170000
DTEND;TZID=Pacific/Honolulu:20240806T183000
DTSTAMP:20260421T082854
CREATED:20240705T064546Z
LAST-MODIFIED:20240710T081130Z
UID:10004720-1722963600-1722969000@hmono.org
SUMMARY:Diabetes Support Group (online)
DESCRIPTION:Join us in quick basic stretches that will strengthen your flexibility and muscles! Grab a chair\, water to stay hydrated\, and a stretch band if you have one! To sign-up visit hmono.org/services\, we hope to see you there!
URL:https://hmono.org/calendar/diabetes-support-group-online-12-2/2024-08-06/
END:VEVENT
BEGIN:VEVENT
DTSTART;TZID=Pacific/Honolulu:20240821T170000
DTEND;TZID=Pacific/Honolulu:20240821T190000
DTSTAMP:20260421T082854
CREATED:20240705T073317Z
LAST-MODIFIED:20240705T074120Z
UID:10004863-1724259600-1724266800@hmono.org
SUMMARY:Wellness Wednesdays (online)
DESCRIPTION:A 6-week course on diabetes\, hypertension\, chronic kidney disease\, nutrition\, fitness\, and stress management. To express interest\, visit HMONO.org/services.
URL:https://hmono.org/calendar/advanced-nutrition-online-4-2/2024-08-21/
CATEGORIES:Health Education,Nutrition
END:VEVENT
BEGIN:VEVENT
DTSTART;TZID=Pacific/Honolulu:20240828T170000
DTEND;TZID=Pacific/Honolulu:20240828T190000
DTSTAMP:20260421T082854
CREATED:20240705T073317Z
LAST-MODIFIED:20240705T074120Z
UID:10005098-1724864400-1724871600@hmono.org
SUMMARY:Wellness Wednesdays (online)
DESCRIPTION:A 6-week course on diabetes\, hypertension\, chronic kidney disease\, nutrition\, fitness\, and stress management. To express interest\, visit HMONO.org/services.
URL:https://hmono.org/calendar/advanced-nutrition-online-4-2/2024-08-28/
CATEGORIES:Health Education,Nutrition
END:VEVENT
END:VCALENDAR