BEGIN:VCALENDAR
VERSION:2.0
PRODID:-//Hui Mālama Ola Nā ʻŌiwi - ECPv6.15.20//NONSGML v1.0//EN
CALSCALE:GREGORIAN
METHOD:PUBLISH
X-WR-CALNAME:Hui Mālama Ola Nā ʻŌiwi
X-ORIGINAL-URL:https://hmono.org
X-WR-CALDESC:Events for Hui Mālama Ola Nā ʻŌiwi
REFRESH-INTERVAL;VALUE=DURATION:PT1H
X-Robots-Tag:noindex
X-PUBLISHED-TTL:PT1H
BEGIN:VTIMEZONE
TZID:Pacific/Honolulu
BEGIN:STANDARD
TZOFFSETFROM:-1000
TZOFFSETTO:-1000
TZNAME:HST
DTSTART:20210101T000000
END:STANDARD
END:VTIMEZONE
BEGIN:VEVENT
DTSTART;TZID=Pacific/Honolulu:20221115T153000
DTEND;TZID=Pacific/Honolulu:20221115T163000
DTSTAMP:20260423T221640
CREATED:20221029T011354Z
LAST-MODIFIED:20221029T011354Z
UID:10001692-1668526200-1668529800@hmono.org
SUMMARY:Youth Diabetes Support Group (online)
DESCRIPTION:Join us for Youth Diabetes Support Group on every third Tuesday of the month at 3:30pm. This support group is free and online\, and offers a space for youth to build community\, share stories\, ask questions\, and get advice from healthcare professionals. \nSign up at hmono.org/services and we will contact you with information on how to access the online support group.
URL:https://hmono.org/calendar/youth-diabetes-support-group-online-4/
CATEGORIES:Diabetes,Support Group
END:VEVENT
BEGIN:VEVENT
DTSTART;VALUE=DATE:20221111
DTEND;VALUE=DATE:20221112
DTSTAMP:20260423T221640
CREATED:20221029T011026Z
LAST-MODIFIED:20221029T011026Z
UID:10001691-1668124800-1668211199@hmono.org
SUMMARY:OFFICE CLOSED
DESCRIPTION:Our offices are closed on Friday\, November 11\, 2022 in observance of the holiday. Our services will continue as scheduled on Monday\, November 14\, 2022. If you have questions please call our office at (808) 969-9220 during regular business hours. To sign up for services\, visit hmono.org/services.
URL:https://hmono.org/calendar/office-closed-52/
CATEGORIES:Closed
END:VEVENT
BEGIN:VEVENT
DTSTART;TZID=Pacific/Honolulu:20221101T170000
DTEND;TZID=Pacific/Honolulu:20221101T183000
DTSTAMP:20260423T221640
CREATED:20221029T005605Z
LAST-MODIFIED:20221029T005605Z
UID:10001501-1667322000-1667327400@hmono.org
SUMMARY:Diabetes Support Group (online)
DESCRIPTION:Join us for Diabetes Support Group on every first Tuesday of the month at 5:00pm. This support group is free and online\, and offers a space to build community\, share stories\, ask questions\, and get advice from healthcare professionals. \nSign up at hmono.org/services and we will contact you with information on how to access the online support group.
URL:https://hmono.org/calendar/diabetes-support-group-online-5/
CATEGORIES:Diabetes,Support Group
END:VEVENT
END:VCALENDAR