BEGIN:VCALENDAR
VERSION:2.0
PRODID:-//Hui Mālama Ola Nā ʻŌiwi - ECPv6.15.20//NONSGML v1.0//EN
CALSCALE:GREGORIAN
METHOD:PUBLISH
X-WR-CALNAME:Hui Mālama Ola Nā ʻŌiwi
X-ORIGINAL-URL:https://hmono.org
X-WR-CALDESC:Events for Hui Mālama Ola Nā ʻŌiwi
REFRESH-INTERVAL;VALUE=DURATION:PT1H
X-Robots-Tag:noindex
X-PUBLISHED-TTL:PT1H
BEGIN:VTIMEZONE
TZID:Pacific/Honolulu
BEGIN:STANDARD
TZOFFSETFROM:-1000
TZOFFSETTO:-1000
TZNAME:HST
DTSTART:20210101T000000
END:STANDARD
END:VTIMEZONE
BEGIN:VEVENT
DTSTART;TZID=Pacific/Honolulu:20230131T093000
DTEND;TZID=Pacific/Honolulu:20230131T103000
DTSTAMP:20260420T171514
CREATED:20221029T005100Z
LAST-MODIFIED:20221029T005100Z
UID:10001471-1675157400-1675161000@hmono.org
SUMMARY:Basic Stretch and Strengthening Exercise Class (online)
DESCRIPTION:Join us in quick basic stretches that will strengthen your flexibility and muscles! Grab a chair\, water to stay hydrated\, and a stretch band if you have one! To sign-up visit hmono.org/services\, we hope to see you there!
URL:https://hmono.org/calendar/basic-stretch-and-strengthening-exercise-class-online-3/2023-01-31/
CATEGORIES:BS&SEC,Exercise
END:VEVENT
BEGIN:VEVENT
DTSTART;TZID=Pacific/Honolulu:20230126T093000
DTEND;TZID=Pacific/Honolulu:20230126T103000
DTSTAMP:20260420T171514
CREATED:20221029T005100Z
LAST-MODIFIED:20221029T005100Z
UID:10001470-1674725400-1674729000@hmono.org
SUMMARY:Basic Stretch and Strengthening Exercise Class (online)
DESCRIPTION:Join us in quick basic stretches that will strengthen your flexibility and muscles! Grab a chair\, water to stay hydrated\, and a stretch band if you have one! To sign-up visit hmono.org/services\, we hope to see you there!
URL:https://hmono.org/calendar/basic-stretch-and-strengthening-exercise-class-online-3/2023-01-26/
CATEGORIES:BS&SEC,Exercise
END:VEVENT
BEGIN:VEVENT
DTSTART;TZID=Pacific/Honolulu:20230124T093000
DTEND;TZID=Pacific/Honolulu:20230124T103000
DTSTAMP:20260420T171514
CREATED:20221029T005100Z
LAST-MODIFIED:20221029T005100Z
UID:10001469-1674552600-1674556200@hmono.org
SUMMARY:Basic Stretch and Strengthening Exercise Class (online)
DESCRIPTION:Join us in quick basic stretches that will strengthen your flexibility and muscles! Grab a chair\, water to stay hydrated\, and a stretch band if you have one! To sign-up visit hmono.org/services\, we hope to see you there!
URL:https://hmono.org/calendar/basic-stretch-and-strengthening-exercise-class-online-3/2023-01-24/
CATEGORIES:BS&SEC,Exercise
END:VEVENT
BEGIN:VEVENT
DTSTART;TZID=Pacific/Honolulu:20230119T093000
DTEND;TZID=Pacific/Honolulu:20230119T103000
DTSTAMP:20260420T171514
CREATED:20221029T005100Z
LAST-MODIFIED:20221029T005100Z
UID:10001468-1674120600-1674124200@hmono.org
SUMMARY:Basic Stretch and Strengthening Exercise Class (online)
DESCRIPTION:Join us in quick basic stretches that will strengthen your flexibility and muscles! Grab a chair\, water to stay hydrated\, and a stretch band if you have one! To sign-up visit hmono.org/services\, we hope to see you there!
URL:https://hmono.org/calendar/basic-stretch-and-strengthening-exercise-class-online-3/2023-01-19/
CATEGORIES:BS&SEC,Exercise
END:VEVENT
BEGIN:VEVENT
DTSTART;TZID=Pacific/Honolulu:20230117T093000
DTEND;TZID=Pacific/Honolulu:20230117T103000
DTSTAMP:20260420T171514
CREATED:20221029T005100Z
LAST-MODIFIED:20221029T005100Z
UID:10001467-1673947800-1673951400@hmono.org
SUMMARY:Basic Stretch and Strengthening Exercise Class (online)
DESCRIPTION:Join us in quick basic stretches that will strengthen your flexibility and muscles! Grab a chair\, water to stay hydrated\, and a stretch band if you have one! To sign-up visit hmono.org/services\, we hope to see you there!
URL:https://hmono.org/calendar/basic-stretch-and-strengthening-exercise-class-online-3/2023-01-17/
CATEGORIES:BS&SEC,Exercise
END:VEVENT
BEGIN:VEVENT
DTSTART;TZID=Pacific/Honolulu:20230112T093000
DTEND;TZID=Pacific/Honolulu:20230112T103000
DTSTAMP:20260420T171514
CREATED:20221029T005100Z
LAST-MODIFIED:20221029T005100Z
UID:10001466-1673515800-1673519400@hmono.org
SUMMARY:Basic Stretch and Strengthening Exercise Class (online)
DESCRIPTION:Join us in quick basic stretches that will strengthen your flexibility and muscles! Grab a chair\, water to stay hydrated\, and a stretch band if you have one! To sign-up visit hmono.org/services\, we hope to see you there!
URL:https://hmono.org/calendar/basic-stretch-and-strengthening-exercise-class-online-3/2023-01-12/
CATEGORIES:BS&SEC,Exercise
END:VEVENT
BEGIN:VEVENT
DTSTART;TZID=Pacific/Honolulu:20230110T093000
DTEND;TZID=Pacific/Honolulu:20230110T103000
DTSTAMP:20260420T171514
CREATED:20221029T005100Z
LAST-MODIFIED:20221029T005100Z
UID:10001465-1673343000-1673346600@hmono.org
SUMMARY:Basic Stretch and Strengthening Exercise Class (online)
DESCRIPTION:Join us in quick basic stretches that will strengthen your flexibility and muscles! Grab a chair\, water to stay hydrated\, and a stretch band if you have one! To sign-up visit hmono.org/services\, we hope to see you there!
URL:https://hmono.org/calendar/basic-stretch-and-strengthening-exercise-class-online-3/2023-01-10/
CATEGORIES:BS&SEC,Exercise
END:VEVENT
BEGIN:VEVENT
DTSTART;TZID=Pacific/Honolulu:20230105T093000
DTEND;TZID=Pacific/Honolulu:20230105T103000
DTSTAMP:20260420T171514
CREATED:20221029T005100Z
LAST-MODIFIED:20221029T005100Z
UID:10001464-1672911000-1672914600@hmono.org
SUMMARY:Basic Stretch and Strengthening Exercise Class (online)
DESCRIPTION:Join us in quick basic stretches that will strengthen your flexibility and muscles! Grab a chair\, water to stay hydrated\, and a stretch band if you have one! To sign-up visit hmono.org/services\, we hope to see you there!
URL:https://hmono.org/calendar/basic-stretch-and-strengthening-exercise-class-online-3/2023-01-05/
CATEGORIES:BS&SEC,Exercise
END:VEVENT
BEGIN:VEVENT
DTSTART;TZID=Pacific/Honolulu:20230103T093000
DTEND;TZID=Pacific/Honolulu:20230103T103000
DTSTAMP:20260420T171514
CREATED:20221029T005100Z
LAST-MODIFIED:20221029T005100Z
UID:10001463-1672738200-1672741800@hmono.org
SUMMARY:Basic Stretch and Strengthening Exercise Class (online)
DESCRIPTION:Join us in quick basic stretches that will strengthen your flexibility and muscles! Grab a chair\, water to stay hydrated\, and a stretch band if you have one! To sign-up visit hmono.org/services\, we hope to see you there!
URL:https://hmono.org/calendar/basic-stretch-and-strengthening-exercise-class-online-3/2023-01-03/
CATEGORIES:BS&SEC,Exercise
END:VEVENT
BEGIN:VEVENT
DTSTART;TZID=Pacific/Honolulu:20221229T093000
DTEND;TZID=Pacific/Honolulu:20221229T103000
DTSTAMP:20260420T171514
CREATED:20221029T005100Z
LAST-MODIFIED:20221029T005100Z
UID:10001462-1672306200-1672309800@hmono.org
SUMMARY:Basic Stretch and Strengthening Exercise Class (online)
DESCRIPTION:Join us in quick basic stretches that will strengthen your flexibility and muscles! Grab a chair\, water to stay hydrated\, and a stretch band if you have one! To sign-up visit hmono.org/services\, we hope to see you there!
URL:https://hmono.org/calendar/basic-stretch-and-strengthening-exercise-class-online-3/2022-12-29/
CATEGORIES:BS&SEC,Exercise
END:VEVENT
BEGIN:VEVENT
DTSTART;TZID=Pacific/Honolulu:20221227T093000
DTEND;TZID=Pacific/Honolulu:20221227T103000
DTSTAMP:20260420T171514
CREATED:20221029T005100Z
LAST-MODIFIED:20221029T005100Z
UID:10001461-1672133400-1672137000@hmono.org
SUMMARY:Basic Stretch and Strengthening Exercise Class (online)
DESCRIPTION:Join us in quick basic stretches that will strengthen your flexibility and muscles! Grab a chair\, water to stay hydrated\, and a stretch band if you have one! To sign-up visit hmono.org/services\, we hope to see you there!
URL:https://hmono.org/calendar/basic-stretch-and-strengthening-exercise-class-online-3/2022-12-27/
CATEGORIES:BS&SEC,Exercise
END:VEVENT
BEGIN:VEVENT
DTSTART;TZID=Pacific/Honolulu:20221222T093000
DTEND;TZID=Pacific/Honolulu:20221222T103000
DTSTAMP:20260420T171514
CREATED:20221029T005100Z
LAST-MODIFIED:20221029T005100Z
UID:10001460-1671701400-1671705000@hmono.org
SUMMARY:Basic Stretch and Strengthening Exercise Class (online)
DESCRIPTION:Join us in quick basic stretches that will strengthen your flexibility and muscles! Grab a chair\, water to stay hydrated\, and a stretch band if you have one! To sign-up visit hmono.org/services\, we hope to see you there!
URL:https://hmono.org/calendar/basic-stretch-and-strengthening-exercise-class-online-3/2022-12-22/
CATEGORIES:BS&SEC,Exercise
END:VEVENT
BEGIN:VEVENT
DTSTART;TZID=Pacific/Honolulu:20221220T093000
DTEND;TZID=Pacific/Honolulu:20221220T103000
DTSTAMP:20260420T171514
CREATED:20221029T005100Z
LAST-MODIFIED:20221029T005100Z
UID:10001459-1671528600-1671532200@hmono.org
SUMMARY:Basic Stretch and Strengthening Exercise Class (online)
DESCRIPTION:Join us in quick basic stretches that will strengthen your flexibility and muscles! Grab a chair\, water to stay hydrated\, and a stretch band if you have one! To sign-up visit hmono.org/services\, we hope to see you there!
URL:https://hmono.org/calendar/basic-stretch-and-strengthening-exercise-class-online-3/2022-12-20/
CATEGORIES:BS&SEC,Exercise
END:VEVENT
BEGIN:VEVENT
DTSTART;TZID=Pacific/Honolulu:20221215T093000
DTEND;TZID=Pacific/Honolulu:20221215T103000
DTSTAMP:20260420T171514
CREATED:20221029T005100Z
LAST-MODIFIED:20221029T005100Z
UID:10001458-1671096600-1671100200@hmono.org
SUMMARY:Basic Stretch and Strengthening Exercise Class (online)
DESCRIPTION:Join us in quick basic stretches that will strengthen your flexibility and muscles! Grab a chair\, water to stay hydrated\, and a stretch band if you have one! To sign-up visit hmono.org/services\, we hope to see you there!
URL:https://hmono.org/calendar/basic-stretch-and-strengthening-exercise-class-online-3/2022-12-15/
CATEGORIES:BS&SEC,Exercise
END:VEVENT
BEGIN:VEVENT
DTSTART;TZID=Pacific/Honolulu:20221213T093000
DTEND;TZID=Pacific/Honolulu:20221213T103000
DTSTAMP:20260420T171514
CREATED:20221029T005100Z
LAST-MODIFIED:20221029T005100Z
UID:10001457-1670923800-1670927400@hmono.org
SUMMARY:Basic Stretch and Strengthening Exercise Class (online)
DESCRIPTION:Join us in quick basic stretches that will strengthen your flexibility and muscles! Grab a chair\, water to stay hydrated\, and a stretch band if you have one! To sign-up visit hmono.org/services\, we hope to see you there!
URL:https://hmono.org/calendar/basic-stretch-and-strengthening-exercise-class-online-3/2022-12-13/
CATEGORIES:BS&SEC,Exercise
END:VEVENT
BEGIN:VEVENT
DTSTART;TZID=Pacific/Honolulu:20221208T093000
DTEND;TZID=Pacific/Honolulu:20221208T103000
DTSTAMP:20260420T171514
CREATED:20221029T005100Z
LAST-MODIFIED:20221029T005100Z
UID:10001456-1670491800-1670495400@hmono.org
SUMMARY:Basic Stretch and Strengthening Exercise Class (online)
DESCRIPTION:Join us in quick basic stretches that will strengthen your flexibility and muscles! Grab a chair\, water to stay hydrated\, and a stretch band if you have one! To sign-up visit hmono.org/services\, we hope to see you there!
URL:https://hmono.org/calendar/basic-stretch-and-strengthening-exercise-class-online-3/2022-12-08/
CATEGORIES:BS&SEC,Exercise
END:VEVENT
BEGIN:VEVENT
DTSTART;TZID=Pacific/Honolulu:20221206T170000
DTEND;TZID=Pacific/Honolulu:20221206T183000
DTSTAMP:20260420T171514
CREATED:20221029T012109Z
LAST-MODIFIED:20221029T012109Z
UID:10001766-1670346000-1670351400@hmono.org
SUMMARY:Diabetes Support Group (online)
DESCRIPTION:Join us for Diabetes Support Group on every first Tuesday of the month at 5:00pm. This support group is free and online\, and offers a space to build community\, share stories\, ask questions\, and get advice from healthcare professionals. \nSign up at hmono.org/services and we will contact you with information on how to access the online support group.
URL:https://hmono.org/calendar/diabetes-support-group-online-6/
CATEGORIES:Diabetes,Support Group
END:VEVENT
BEGIN:VEVENT
DTSTART;TZID=Pacific/Honolulu:20221206T093000
DTEND;TZID=Pacific/Honolulu:20221206T103000
DTSTAMP:20260420T171514
CREATED:20221029T005100Z
LAST-MODIFIED:20221029T005100Z
UID:10001455-1670319000-1670322600@hmono.org
SUMMARY:Basic Stretch and Strengthening Exercise Class (online)
DESCRIPTION:Join us in quick basic stretches that will strengthen your flexibility and muscles! Grab a chair\, water to stay hydrated\, and a stretch band if you have one! To sign-up visit hmono.org/services\, we hope to see you there!
URL:https://hmono.org/calendar/basic-stretch-and-strengthening-exercise-class-online-3/2022-12-06/
CATEGORIES:BS&SEC,Exercise
END:VEVENT
BEGIN:VEVENT
DTSTART;TZID=Pacific/Honolulu:20221201T093000
DTEND;TZID=Pacific/Honolulu:20221201T103000
DTSTAMP:20260420T171514
CREATED:20221029T005100Z
LAST-MODIFIED:20221029T005100Z
UID:10001454-1669887000-1669890600@hmono.org
SUMMARY:Basic Stretch and Strengthening Exercise Class (online)
DESCRIPTION:Join us in quick basic stretches that will strengthen your flexibility and muscles! Grab a chair\, water to stay hydrated\, and a stretch band if you have one! To sign-up visit hmono.org/services\, we hope to see you there!
URL:https://hmono.org/calendar/basic-stretch-and-strengthening-exercise-class-online-3/2022-12-01/
CATEGORIES:BS&SEC,Exercise
END:VEVENT
BEGIN:VEVENT
DTSTART;TZID=Pacific/Honolulu:20221129T093000
DTEND;TZID=Pacific/Honolulu:20221129T103000
DTSTAMP:20260420T171514
CREATED:20221029T005100Z
LAST-MODIFIED:20221029T005100Z
UID:10001453-1669714200-1669717800@hmono.org
SUMMARY:Basic Stretch and Strengthening Exercise Class (online)
DESCRIPTION:Join us in quick basic stretches that will strengthen your flexibility and muscles! Grab a chair\, water to stay hydrated\, and a stretch band if you have one! To sign-up visit hmono.org/services\, we hope to see you there!
URL:https://hmono.org/calendar/basic-stretch-and-strengthening-exercise-class-online-3/2022-11-29/
CATEGORIES:BS&SEC,Exercise
END:VEVENT
BEGIN:VEVENT
DTSTART;TZID=Pacific/Honolulu:20221124T093000
DTEND;TZID=Pacific/Honolulu:20221124T103000
DTSTAMP:20260420T171514
CREATED:20221029T005100Z
LAST-MODIFIED:20221029T005100Z
UID:10001452-1669282200-1669285800@hmono.org
SUMMARY:Basic Stretch and Strengthening Exercise Class (online)
DESCRIPTION:Join us in quick basic stretches that will strengthen your flexibility and muscles! Grab a chair\, water to stay hydrated\, and a stretch band if you have one! To sign-up visit hmono.org/services\, we hope to see you there!
URL:https://hmono.org/calendar/basic-stretch-and-strengthening-exercise-class-online-3/2022-11-24/
CATEGORIES:BS&SEC,Exercise
END:VEVENT
BEGIN:VEVENT
DTSTART;VALUE=DATE:20221124
DTEND;VALUE=DATE:20221125
DTSTAMP:20260420T171514
CREATED:20221029T011600Z
LAST-MODIFIED:20221029T011600Z
UID:10001720-1669248000-1669334399@hmono.org
SUMMARY:OFFICE CLOSED
DESCRIPTION:Our offices are closed on Thursday\, November 24\, 2022 in observance of the holiday. Our services will continue as scheduled on Monday\, November 28\, 2022. If you have questions please call our office at (808) 969-9220 during regular business hours. To sign up for services\, visit hmono.org/services.
URL:https://hmono.org/calendar/office-closed-53/
CATEGORIES:Closed
END:VEVENT
BEGIN:VEVENT
DTSTART;TZID=Pacific/Honolulu:20221122T093000
DTEND;TZID=Pacific/Honolulu:20221122T103000
DTSTAMP:20260420T171514
CREATED:20221029T005100Z
LAST-MODIFIED:20221029T005100Z
UID:10001451-1669109400-1669113000@hmono.org
SUMMARY:Basic Stretch and Strengthening Exercise Class (online)
DESCRIPTION:Join us in quick basic stretches that will strengthen your flexibility and muscles! Grab a chair\, water to stay hydrated\, and a stretch band if you have one! To sign-up visit hmono.org/services\, we hope to see you there!
URL:https://hmono.org/calendar/basic-stretch-and-strengthening-exercise-class-online-3/2022-11-22/
CATEGORIES:BS&SEC,Exercise
END:VEVENT
BEGIN:VEVENT
DTSTART;TZID=Pacific/Honolulu:20221117T093000
DTEND;TZID=Pacific/Honolulu:20221117T103000
DTSTAMP:20260420T171514
CREATED:20221029T005100Z
LAST-MODIFIED:20221029T005100Z
UID:10001450-1668677400-1668681000@hmono.org
SUMMARY:Basic Stretch and Strengthening Exercise Class (online)
DESCRIPTION:Join us in quick basic stretches that will strengthen your flexibility and muscles! Grab a chair\, water to stay hydrated\, and a stretch band if you have one! To sign-up visit hmono.org/services\, we hope to see you there!
URL:https://hmono.org/calendar/basic-stretch-and-strengthening-exercise-class-online-3/2022-11-17/
CATEGORIES:BS&SEC,Exercise
END:VEVENT
BEGIN:VEVENT
DTSTART;TZID=Pacific/Honolulu:20221115T180000
DTEND;TZID=Pacific/Honolulu:20221115T200000
DTSTAMP:20260420T171514
CREATED:20220720T214422Z
LAST-MODIFIED:20220720T214422Z
UID:10001415-1668535200-1668542400@hmono.org
SUMMARY:Healthy Hāpai (online)
DESCRIPTION:If you’re a parent-to-be\, join this free\, online five-week class series on prenatal health\, postpartum health\, positive parenting and more. This class is presented by Leila Ryusaki\, Certified Lactation Counselor & Childbirth Educator (CLCCE)\, Indigenous Breastfeeding Counselor (IBC)\, and Licensed Massage Therapist (LMT). Sign up for this class at hmono.org/services.
URL:https://hmono.org/calendar/healthy-hapai-online-10/2022-11-15/
CATEGORIES:Health Education,Prenatal Education
END:VEVENT
BEGIN:VEVENT
DTSTART;TZID=Pacific/Honolulu:20221115T153000
DTEND;TZID=Pacific/Honolulu:20221115T163000
DTSTAMP:20260420T171514
CREATED:20221029T011354Z
LAST-MODIFIED:20221029T011354Z
UID:10001692-1668526200-1668529800@hmono.org
SUMMARY:Youth Diabetes Support Group (online)
DESCRIPTION:Join us for Youth Diabetes Support Group on every third Tuesday of the month at 3:30pm. This support group is free and online\, and offers a space for youth to build community\, share stories\, ask questions\, and get advice from healthcare professionals. \nSign up at hmono.org/services and we will contact you with information on how to access the online support group.
URL:https://hmono.org/calendar/youth-diabetes-support-group-online-4/
CATEGORIES:Diabetes,Support Group
END:VEVENT
BEGIN:VEVENT
DTSTART;TZID=Pacific/Honolulu:20221115T093000
DTEND;TZID=Pacific/Honolulu:20221115T103000
DTSTAMP:20260420T171514
CREATED:20221029T005100Z
LAST-MODIFIED:20221029T005100Z
UID:10001449-1668504600-1668508200@hmono.org
SUMMARY:Basic Stretch and Strengthening Exercise Class (online)
DESCRIPTION:Join us in quick basic stretches that will strengthen your flexibility and muscles! Grab a chair\, water to stay hydrated\, and a stretch band if you have one! To sign-up visit hmono.org/services\, we hope to see you there!
URL:https://hmono.org/calendar/basic-stretch-and-strengthening-exercise-class-online-3/2022-11-15/
CATEGORIES:BS&SEC,Exercise
END:VEVENT
BEGIN:VEVENT
DTSTART;VALUE=DATE:20221111
DTEND;VALUE=DATE:20221112
DTSTAMP:20260420T171514
CREATED:20221029T011026Z
LAST-MODIFIED:20221029T011026Z
UID:10001691-1668124800-1668211199@hmono.org
SUMMARY:OFFICE CLOSED
DESCRIPTION:Our offices are closed on Friday\, November 11\, 2022 in observance of the holiday. Our services will continue as scheduled on Monday\, November 14\, 2022. If you have questions please call our office at (808) 969-9220 during regular business hours. To sign up for services\, visit hmono.org/services.
URL:https://hmono.org/calendar/office-closed-52/
CATEGORIES:Closed
END:VEVENT
BEGIN:VEVENT
DTSTART;TZID=Pacific/Honolulu:20221110T093000
DTEND;TZID=Pacific/Honolulu:20221110T103000
DTSTAMP:20260420T171514
CREATED:20221029T005100Z
LAST-MODIFIED:20221029T005100Z
UID:10001448-1668072600-1668076200@hmono.org
SUMMARY:Basic Stretch and Strengthening Exercise Class (online)
DESCRIPTION:Join us in quick basic stretches that will strengthen your flexibility and muscles! Grab a chair\, water to stay hydrated\, and a stretch band if you have one! To sign-up visit hmono.org/services\, we hope to see you there!
URL:https://hmono.org/calendar/basic-stretch-and-strengthening-exercise-class-online-3/2022-11-10/
CATEGORIES:BS&SEC,Exercise
END:VEVENT
BEGIN:VEVENT
DTSTART;TZID=Pacific/Honolulu:20221108T180000
DTEND;TZID=Pacific/Honolulu:20221108T200000
DTSTAMP:20260420T171514
CREATED:20220720T214422Z
LAST-MODIFIED:20220720T214422Z
UID:10001414-1667930400-1667937600@hmono.org
SUMMARY:Healthy Hāpai (online)
DESCRIPTION:If you’re a parent-to-be\, join this free\, online five-week class series on prenatal health\, postpartum health\, positive parenting and more. This class is presented by Leila Ryusaki\, Certified Lactation Counselor & Childbirth Educator (CLCCE)\, Indigenous Breastfeeding Counselor (IBC)\, and Licensed Massage Therapist (LMT). Sign up for this class at hmono.org/services.
URL:https://hmono.org/calendar/healthy-hapai-online-10/2022-11-08/
CATEGORIES:Health Education,Prenatal Education
END:VEVENT
END:VCALENDAR