BEGIN:VCALENDAR
VERSION:2.0
PRODID:-//Hui Mālama Ola Nā ʻŌiwi - ECPv6.15.20//NONSGML v1.0//EN
CALSCALE:GREGORIAN
METHOD:PUBLISH
X-ORIGINAL-URL:https://hmono.org
X-WR-CALDESC:Events for Hui Mālama Ola Nā ʻŌiwi
REFRESH-INTERVAL;VALUE=DURATION:PT1H
X-Robots-Tag:noindex
X-PUBLISHED-TTL:PT1H
BEGIN:VTIMEZONE
TZID:Pacific/Honolulu
BEGIN:STANDARD
TZOFFSETFROM:-1000
TZOFFSETTO:-1000
TZNAME:HST
DTSTART:20190101T000000
END:STANDARD
END:VTIMEZONE
BEGIN:VEVENT
DTSTART;TZID=Pacific/Honolulu:20201006T093000
DTEND;TZID=Pacific/Honolulu:20201006T103000
DTSTAMP:20260422T195838
CREATED:20200508T190848Z
LAST-MODIFIED:20220119T004634Z
UID:10000920-1601976600-1601980200@hmono.org
SUMMARY:Basic Stretch & Strengthening Exercise Class (Online)
DESCRIPTION:Join us in quick basic stretches that will strengthen your flexibility and muscles! Grab a chair\, water to stay hydrated\, and a stretch band if you have one! To sign-up visit hmono.org/services\, we hope to see you there!
URL:https://hmono.org/calendar/basic-stretch-and-exercise-class-online/2020-10-06/
CATEGORIES:BS&SEC,Exercise
END:VEVENT
BEGIN:VEVENT
DTSTART;TZID=Pacific/Honolulu:20201006T170000
DTEND;TZID=Pacific/Honolulu:20201006T180000
DTSTAMP:20260422T195838
CREATED:20200421T003749Z
LAST-MODIFIED:20220119T004321Z
UID:10002410-1602003600-1602007200@hmono.org
SUMMARY:Basic Therapeutic Yoga (Online)
DESCRIPTION:Join us online for therapeutic yoga to get a gentle stretch and increase flexibility! Those with no computer access may call in via phone line. Visit hmono.org/services to sign up today for this online class!
URL:https://hmono.org/calendar/basic-therapeutic-yoga-online/2020-10-06/
CATEGORIES:Exercise,Yoga
END:VEVENT
BEGIN:VEVENT
DTSTART;TZID=Pacific/Honolulu:20201006T170000
DTEND;TZID=Pacific/Honolulu:20201006T183000
DTSTAMP:20260422T195838
CREATED:20191112T210912Z
LAST-MODIFIED:20201021T233616Z
UID:10002111-1602003600-1602009000@hmono.org
SUMMARY:Diabetes Support Group (Online)
DESCRIPTION:Join us for Diabetes Support Group every first Tuesday of the month at 5:00pm. Sign up at hmono.org/services and we will contact you with information of how to access this online support group.
URL:https://hmono.org/calendar/diabetes-support-group-hilo-530pm-13/2020-10-06/
LOCATION:HMONO Hilo Office\, 1438 Kilauea Avenue\, Hilo\, HI\, 96720\, United States
CATEGORIES:Support Group
GEO:19.7076749;-155.0759854
X-APPLE-STRUCTURED-LOCATION;VALUE=URI;X-ADDRESS=HMONO Hilo Office 1438 Kilauea Avenue Hilo HI 96720 United States;X-APPLE-RADIUS=500;X-TITLE=1438 Kilauea Avenue:geo:-155.0759854,19.7076749
END:VEVENT
BEGIN:VEVENT
DTSTART;TZID=Pacific/Honolulu:20201007T170000
DTEND;TZID=Pacific/Honolulu:20201007T183000
DTSTAMP:20260422T195838
CREATED:20200624T213727Z
LAST-MODIFIED:20220119T003559Z
UID:10002219-1602090000-1602095400@hmono.org
SUMMARY:Hula for Health (online)
DESCRIPTION:Join us as we stay healthy with hula! To sign-up for this class\, visit hmono.org/services and we will contact you about how to join!
URL:https://hmono.org/calendar/hula-for-health-online/2020-10-07/
CATEGORIES:Health Education
END:VEVENT
BEGIN:VEVENT
DTSTART;TZID=Pacific/Honolulu:20201008T093000
DTEND;TZID=Pacific/Honolulu:20201008T103000
DTSTAMP:20260422T195838
CREATED:20200508T190848Z
LAST-MODIFIED:20220119T004634Z
UID:10000921-1602149400-1602153000@hmono.org
SUMMARY:Basic Stretch & Strengthening Exercise Class (Online)
DESCRIPTION:Join us in quick basic stretches that will strengthen your flexibility and muscles! Grab a chair\, water to stay hydrated\, and a stretch band if you have one! To sign-up visit hmono.org/services\, we hope to see you there!
URL:https://hmono.org/calendar/basic-stretch-and-exercise-class-online/2020-10-08/
CATEGORIES:BS&SEC,Exercise
END:VEVENT
BEGIN:VEVENT
DTSTART;TZID=Pacific/Honolulu:20201008T170000
DTEND;TZID=Pacific/Honolulu:20201008T180000
DTSTAMP:20260422T195838
CREATED:20200421T003749Z
LAST-MODIFIED:20220119T004321Z
UID:10002411-1602176400-1602180000@hmono.org
SUMMARY:Basic Therapeutic Yoga (Online)
DESCRIPTION:Join us online for therapeutic yoga to get a gentle stretch and increase flexibility! Those with no computer access may call in via phone line. Visit hmono.org/services to sign up today for this online class!
URL:https://hmono.org/calendar/basic-therapeutic-yoga-online/2020-10-08/
CATEGORIES:Exercise,Yoga
END:VEVENT
BEGIN:VEVENT
DTSTART;TZID=Pacific/Honolulu:20201009T100000
DTEND;TZID=Pacific/Honolulu:20201009T113000
DTSTAMP:20260422T195838
CREATED:20230601T193017Z
LAST-MODIFIED:20230601T193017Z
UID:10000786-1602237600-1602243000@hmono.org
SUMMARY:Health and Wellness Support Group (Online)
DESCRIPTION:Join us in positive mind activities to support our health and better cope during this high stress time during COVID-19! Those with no computer access may call in via phone line. Visit hmono.org/services to sign up today for this online class!
URL:https://hmono.org/calendar/health-and-wellness-support-group-online-2/2020-10-09/
CATEGORIES:Support Group
END:VEVENT
END:VCALENDAR