BEGIN:VCALENDAR
VERSION:2.0
PRODID:-//Hui Mālama Ola Nā ʻŌiwi - ECPv6.15.20//NONSGML v1.0//EN
CALSCALE:GREGORIAN
METHOD:PUBLISH
X-ORIGINAL-URL:https://hmono.org
X-WR-CALDESC:Events for Hui Mālama Ola Nā ʻŌiwi
REFRESH-INTERVAL;VALUE=DURATION:PT1H
X-Robots-Tag:noindex
X-PUBLISHED-TTL:PT1H
BEGIN:VTIMEZONE
TZID:Pacific/Honolulu
BEGIN:STANDARD
TZOFFSETFROM:-1000
TZOFFSETTO:-1000
TZNAME:HST
DTSTART:20170101T000000
END:STANDARD
END:VTIMEZONE
BEGIN:VEVENT
DTSTART;TZID=Pacific/Honolulu:20180419T164500
DTEND;TZID=Pacific/Honolulu:20180419T174500
DTSTAMP:20260419T093309
CREATED:20171012T023656Z
LAST-MODIFIED:20180407T001011Z
UID:10000074-1524156300-1524159900@hmono.org
SUMMARY:Yoga Hilo Dept. of Health 4:45pm
DESCRIPTION:
URL:https://hmono.org/calendar/yoga-keaukaha-500pm-36/
LOCATION:Department of Health Hilo
END:VEVENT
BEGIN:VEVENT
DTSTART;TZID=Pacific/Honolulu:20180410T164500
DTEND;TZID=Pacific/Honolulu:20180410T174500
DTSTAMP:20260419T093309
CREATED:20180131T193219Z
LAST-MODIFIED:20180131T193219Z
UID:10000221-1523378700-1523382300@hmono.org
SUMMARY:Hele Mai ʻAi Nutrition Class Hilo 4:45pm
DESCRIPTION:
URL:https://hmono.org/calendar/hele-mai-%ca%bbai-nutrition-class-hilo-445pm-3/
LOCATION:Department of Health Hilo
END:VEVENT
BEGIN:VEVENT
DTSTART;TZID=Pacific/Honolulu:20180403T164500
DTEND;TZID=Pacific/Honolulu:20180403T174500
DTSTAMP:20260419T093309
CREATED:20180131T193219Z
LAST-MODIFIED:20180131T193219Z
UID:10000219-1522773900-1522777500@hmono.org
SUMMARY:Hele Mai ʻAi Nutrition Class Hilo 4:45pm
DESCRIPTION:
URL:https://hmono.org/calendar/hele-mai-%ca%bbai-nutrition-class-hilo-445pm-2/
LOCATION:Department of Health Hilo
END:VEVENT
BEGIN:VEVENT
DTSTART;TZID=Pacific/Honolulu:20180306T164500
DTEND;TZID=Pacific/Honolulu:20180306T174500
DTSTAMP:20260419T093309
CREATED:20180131T193219Z
LAST-MODIFIED:20180303T020523Z
UID:10000217-1520354700-1520358300@hmono.org
SUMMARY:Hele Mai ʻAi Nutrition Class Hilo 4:45pm
DESCRIPTION:
URL:https://hmono.org/calendar/hele-mai-%ca%bbai-nutrition-class-hilo-445pm/
LOCATION:Department of Health Hilo
END:VEVENT
END:VCALENDAR