BEGIN:VCALENDAR
VERSION:2.0
PRODID:-//Hui Mālama Ola Nā ʻŌiwi - ECPv6.15.20//NONSGML v1.0//EN
CALSCALE:GREGORIAN
METHOD:PUBLISH
X-WR-CALNAME:Hui Mālama Ola Nā ʻŌiwi
X-ORIGINAL-URL:https://hmono.org
X-WR-CALDESC:Events for Hui Mālama Ola Nā ʻŌiwi
REFRESH-INTERVAL;VALUE=DURATION:PT1H
X-Robots-Tag:noindex
X-PUBLISHED-TTL:PT1H
BEGIN:VTIMEZONE
TZID:Pacific/Honolulu
BEGIN:STANDARD
TZOFFSETFROM:-1000
TZOFFSETTO:-1000
TZNAME:HST
DTSTART:20160101T000000
END:STANDARD
END:VTIMEZONE
BEGIN:VEVENT
DTSTART;TZID=Pacific/Honolulu:20171104T100000
DTEND;TZID=Pacific/Honolulu:20171104T140000
DTSTAMP:20260420T180229
CREATED:20171027T183544Z
LAST-MODIFIED:20171027T183544Z
UID:10003123-1509789600-1509804000@hmono.org
SUMMARY:Hoʻokupu Hula Na Kaʻu Cultural Festival 10:00am
DESCRIPTION:
URL:https://hmono.org/calendar/ho%ca%bbokupu-hula-na-ka%ca%bbu-cultural-festival-1000am/
LOCATION:Pahala Community Center\, 1149\, 96 Kamani St.\, Pahala\, HI\, 96777\, United States
GEO:19.2010779;-155.4736457
X-APPLE-STRUCTURED-LOCATION;VALUE=URI;X-ADDRESS=Pahala Community Center 1149 96 Kamani St. Pahala HI 96777 United States;X-APPLE-RADIUS=500;X-TITLE=1149\, 96 Kamani St.:geo:-155.4736457,19.2010779
END:VEVENT
END:VCALENDAR